BEGIN:VCALENDAR
VERSION:2.0
PRODID:-//Community Counselling Centre - ECPv6.13.1//NONSGML v1.0//EN
CALSCALE:GREGORIAN
METHOD:PUBLISH
X-ORIGINAL-URL:https://communitycounsellingcentre.ca
X-WR-CALDESC:Events for Community Counselling Centre
REFRESH-INTERVAL;VALUE=DURATION:PT1H
X-Robots-Tag:noindex
X-PUBLISHED-TTL:PT1H
BEGIN:VTIMEZONE
TZID:America/Edmonton
BEGIN:DAYLIGHT
TZOFFSETFROM:-0700
TZOFFSETTO:-0600
TZNAME:MDT
DTSTART:20250309T090000
END:DAYLIGHT
BEGIN:STANDARD
TZOFFSETFROM:-0600
TZOFFSETTO:-0700
TZNAME:MST
DTSTART:20251102T080000
END:STANDARD
END:VTIMEZONE
BEGIN:VEVENT
DTSTART;TZID=America/Edmonton:20250820T120000
DTEND;TZID=America/Edmonton:20250820T200000
DTSTAMP:20260420T183359
CREATED:20241123T192303Z
LAST-MODIFIED:20251126T022729Z
UID:10004828-1755691200-1755720000@communitycounsellingcentre.ca
SUMMARY:Sabrina
DESCRIPTION:
URL:https://communitycounsellingcentre.ca/event/sabrina-10/2025-08-20/
LOCATION:Room 2
CATEGORIES:Room 2
END:VEVENT
BEGIN:VEVENT
DTSTART;TZID=America/Edmonton:20250820T130000
DTEND;TZID=America/Edmonton:20250820T210000
DTSTAMP:20260420T183359
CREATED:20240501T152231Z
LAST-MODIFIED:20251126T023056Z
UID:10004285-1755694800-1755723600@communitycounsellingcentre.ca
SUMMARY:Sherry
DESCRIPTION:
URL:https://communitycounsellingcentre.ca/event/sherry/2025-08-20/
LOCATION:Room 4
CATEGORIES:Room 4
END:VEVENT
BEGIN:VEVENT
DTSTART;TZID=America/Edmonton:20250820T150000
DTEND;TZID=America/Edmonton:20250820T210000
DTSTAMP:20260420T183359
CREATED:20240903T201801Z
LAST-MODIFIED:20260307T163448Z
UID:10008091-1755702000-1755723600@communitycounsellingcentre.ca
SUMMARY:Bo
DESCRIPTION:
URL:https://communitycounsellingcentre.ca/event/bo-4-2/2025-08-20/
LOCATION:Room 3
CATEGORIES:Room 3
END:VEVENT
END:VCALENDAR