BEGIN:VCALENDAR
VERSION:2.0
PRODID:-//Community Counselling Centre - ECPv6.13.1//NONSGML v1.0//EN
CALSCALE:GREGORIAN
METHOD:PUBLISH
X-ORIGINAL-URL:https://communitycounsellingcentre.ca
X-WR-CALDESC:Events for Community Counselling Centre
REFRESH-INTERVAL;VALUE=DURATION:PT1H
X-Robots-Tag:noindex
X-PUBLISHED-TTL:PT1H
BEGIN:VTIMEZONE
TZID:America/Edmonton
BEGIN:DAYLIGHT
TZOFFSETFROM:-0700
TZOFFSETTO:-0600
TZNAME:MDT
DTSTART:20250309T090000
END:DAYLIGHT
BEGIN:STANDARD
TZOFFSETFROM:-0600
TZOFFSETTO:-0700
TZNAME:MST
DTSTART:20251102T080000
END:STANDARD
END:VTIMEZONE
BEGIN:VEVENT
DTSTART;TZID=America/Edmonton:20250822T090000
DTEND;TZID=America/Edmonton:20250822T170000
DTSTAMP:20260420T152953
CREATED:20240504T054921Z
LAST-MODIFIED:20251126T021348Z
UID:10003973-1755853200-1755882000@communitycounsellingcentre.ca
SUMMARY:John
DESCRIPTION:
URL:https://communitycounsellingcentre.ca/event/john-3/2025-08-22/
LOCATION:Room 6
CATEGORIES:Room 6
END:VEVENT
BEGIN:VEVENT
DTSTART;TZID=America/Edmonton:20250822T090000
DTEND;TZID=America/Edmonton:20250822T210000
DTSTAMP:20260420T152953
CREATED:20240504T054728Z
LAST-MODIFIED:20251126T021539Z
UID:10004181-1755853200-1755896400@communitycounsellingcentre.ca
SUMMARY:Sherry
DESCRIPTION:
URL:https://communitycounsellingcentre.ca/event/sherry-3/2025-08-22/
LOCATION:Room 4
CATEGORIES:Room 4
END:VEVENT
END:VCALENDAR