BEGIN:VCALENDAR
VERSION:2.0
PRODID:-//Community Counselling Centre - ECPv6.13.1//NONSGML v1.0//EN
CALSCALE:GREGORIAN
METHOD:PUBLISH
X-WR-CALNAME:Community Counselling Centre
X-ORIGINAL-URL:https://communitycounsellingcentre.ca
X-WR-CALDESC:Events for Community Counselling Centre
REFRESH-INTERVAL;VALUE=DURATION:PT1H
X-Robots-Tag:noindex
X-PUBLISHED-TTL:PT1H
BEGIN:VTIMEZONE
TZID:America/Edmonton
BEGIN:DAYLIGHT
TZOFFSETFROM:-0700
TZOFFSETTO:-0600
TZNAME:MDT
DTSTART:20260308T090000
END:DAYLIGHT
BEGIN:STANDARD
TZOFFSETFROM:-0600
TZOFFSETTO:-0700
TZNAME:MST
DTSTART:20261101T080000
END:STANDARD
END:VTIMEZONE
BEGIN:VEVENT
DTSTART;TZID=America/Edmonton:20260420T100000
DTEND;TZID=America/Edmonton:20260420T200000
DTSTAMP:20260420T075223
CREATED:20250815T163752Z
LAST-MODIFIED:20251126T022100Z
UID:10006805-1776679200-1776715200@communitycounsellingcentre.ca
SUMMARY:Steven
DESCRIPTION:
URL:https://communitycounsellingcentre.ca/event/steven-4/2026-04-20/
LOCATION:Room 3
CATEGORIES:Room 3
END:VEVENT
BEGIN:VEVENT
DTSTART;TZID=America/Edmonton:20260420T110000
DTEND;TZID=America/Edmonton:20260420T200000
DTSTAMP:20260420T075223
CREATED:20251126T024503Z
LAST-MODIFIED:20251126T024503Z
UID:10007537-1776682800-1776715200@communitycounsellingcentre.ca
SUMMARY:Desiree
DESCRIPTION:
URL:https://communitycounsellingcentre.ca/event/desiree-3/2026-04-20/
LOCATION:Room 1
CATEGORIES:Room 1
END:VEVENT
BEGIN:VEVENT
DTSTART;TZID=America/Edmonton:20260420T130000
DTEND;TZID=America/Edmonton:20260420T200000
DTSTAMP:20260420T075223
CREATED:20251126T023704Z
LAST-MODIFIED:20251126T023704Z
UID:10007433-1776690000-1776715200@communitycounsellingcentre.ca
SUMMARY:Wajed
DESCRIPTION:
URL:https://communitycounsellingcentre.ca/event/wajed/2026-04-20/
LOCATION:Room 5
CATEGORIES:Room 5
END:VEVENT
BEGIN:VEVENT
DTSTART;TZID=America/Edmonton:20260420T130000
DTEND;TZID=America/Edmonton:20260420T210000
DTSTAMP:20260420T075223
CREATED:20240504T051713Z
LAST-MODIFIED:20251125T155457Z
UID:10006277-1776690000-1776718800@communitycounsellingcentre.ca
SUMMARY:John
DESCRIPTION:
URL:https://communitycounsellingcentre.ca/event/john/2026-04-20/
LOCATION:Room 6
CATEGORIES:Room 6
END:VEVENT
BEGIN:VEVENT
DTSTART;TZID=America/Edmonton:20260420T160000
DTEND;TZID=America/Edmonton:20260420T200000
DTSTAMP:20260420T075223
CREATED:20251125T155130Z
LAST-MODIFIED:20251125T155130Z
UID:10006224-1776700800-1776715200@communitycounsellingcentre.ca
SUMMARY:Ishmal
DESCRIPTION:
URL:https://communitycounsellingcentre.ca/event/ishmal/2026-04-20/
LOCATION:Room 4
CATEGORIES:Room 4
END:VEVENT
BEGIN:VEVENT
DTSTART;TZID=America/Edmonton:20260420T170000
DTEND;TZID=America/Edmonton:20260420T210000
DTSTAMP:20260420T075223
CREATED:20260324T211943Z
LAST-MODIFIED:20260324T211943Z
UID:10008243-1776704400-1776718800@communitycounsellingcentre.ca
SUMMARY:Barb
DESCRIPTION:
URL:https://communitycounsellingcentre.ca/event/barb/2026-04-20/
LOCATION:Room 2
CATEGORIES:Room 2
END:VEVENT
END:VCALENDAR