BEGIN:VCALENDAR
VERSION:2.0
PRODID:-//Community Counselling Centre - ECPv6.13.1//NONSGML v1.0//EN
CALSCALE:GREGORIAN
METHOD:PUBLISH
X-WR-CALNAME:Community Counselling Centre
X-ORIGINAL-URL:https://communitycounsellingcentre.ca
X-WR-CALDESC:Events for Community Counselling Centre
REFRESH-INTERVAL;VALUE=DURATION:PT1H
X-Robots-Tag:noindex
X-PUBLISHED-TTL:PT1H
BEGIN:VTIMEZONE
TZID:America/Edmonton
BEGIN:DAYLIGHT
TZOFFSETFROM:-0700
TZOFFSETTO:-0600
TZNAME:MDT
DTSTART:20260308T090000
END:DAYLIGHT
BEGIN:STANDARD
TZOFFSETFROM:-0600
TZOFFSETTO:-0700
TZNAME:MST
DTSTART:20261101T080000
END:STANDARD
END:VTIMEZONE
BEGIN:VEVENT
DTSTART;TZID=America/Edmonton:20260423T120000
DTEND;TZID=America/Edmonton:20260423T160000
DTSTAMP:20260423T024442
CREATED:20250904T211458Z
LAST-MODIFIED:20251126T021916Z
UID:10006701-1776945600-1776960000@communitycounsellingcentre.ca
SUMMARY:John
DESCRIPTION:
URL:https://communitycounsellingcentre.ca/event/john-3-2-2/2026-04-23/
LOCATION:Room 6
CATEGORIES:Room 6
END:VEVENT
BEGIN:VEVENT
DTSTART;TZID=America/Edmonton:20260423T130000
DTEND;TZID=America/Edmonton:20260423T170000
DTSTAMP:20260423T024442
CREATED:20260317T233955Z
LAST-MODIFIED:20260317T233955Z
UID:10008166-1776949200-1776963600@communitycounsellingcentre.ca
SUMMARY:Sam
DESCRIPTION:
URL:https://communitycounsellingcentre.ca/event/sam-3/2026-04-23/
LOCATION:Room 1
CATEGORIES:Room 1
END:VEVENT
BEGIN:VEVENT
DTSTART;TZID=America/Edmonton:20260423T130000
DTEND;TZID=America/Edmonton:20260423T200000
DTSTAMP:20260423T024442
CREATED:20240504T054425Z
LAST-MODIFIED:20251126T023114Z
UID:10007276-1776949200-1776974400@communitycounsellingcentre.ca
SUMMARY:Sherry
DESCRIPTION:
URL:https://communitycounsellingcentre.ca/event/sherry-2/2026-04-23/
LOCATION:Room 4
CATEGORIES:Room 4
END:VEVENT
BEGIN:VEVENT
DTSTART;TZID=America/Edmonton:20260423T140000
DTEND;TZID=America/Edmonton:20260423T200000
DTSTAMP:20260423T024442
CREATED:20251027T230208Z
LAST-MODIFIED:20251126T021620Z
UID:10006544-1776952800-1776974400@communitycounsellingcentre.ca
SUMMARY:Nick
DESCRIPTION:
URL:https://communitycounsellingcentre.ca/event/nick-5-2/2026-04-23/
LOCATION:Room 2
CATEGORIES:Room 2
END:VEVENT
BEGIN:VEVENT
DTSTART;TZID=America/Edmonton:20260423T140000
DTEND;TZID=America/Edmonton:20260423T200000
DTSTAMP:20260423T024442
CREATED:20260227T174239Z
LAST-MODIFIED:20260307T163310Z
UID:10007882-1776952800-1776974400@communitycounsellingcentre.ca
SUMMARY:Bo
DESCRIPTION:
URL:https://communitycounsellingcentre.ca/event/bo-12-2-2/2026-04-23/
LOCATION:Room 3
CATEGORIES:Room 3
END:VEVENT
END:VCALENDAR