BEGIN:VCALENDAR
VERSION:2.0
PRODID:-//Community Counselling Centre - ECPv6.13.1//NONSGML v1.0//EN
CALSCALE:GREGORIAN
METHOD:PUBLISH
X-ORIGINAL-URL:https://communitycounsellingcentre.ca
X-WR-CALDESC:Events for Community Counselling Centre
REFRESH-INTERVAL;VALUE=DURATION:PT1H
X-Robots-Tag:noindex
X-PUBLISHED-TTL:PT1H
BEGIN:VTIMEZONE
TZID:America/Edmonton
BEGIN:DAYLIGHT
TZOFFSETFROM:-0700
TZOFFSETTO:-0600
TZNAME:MDT
DTSTART:20260308T090000
END:DAYLIGHT
BEGIN:STANDARD
TZOFFSETFROM:-0600
TZOFFSETTO:-0700
TZNAME:MST
DTSTART:20261101T080000
END:STANDARD
END:VTIMEZONE
BEGIN:VEVENT
DTSTART;TZID=America/Edmonton:20260827T130000
DTEND;TZID=America/Edmonton:20260827T170000
DTSTAMP:20260423T101901
CREATED:20260317T233955Z
LAST-MODIFIED:20260317T233955Z
UID:10008184-1787835600-1787850000@communitycounsellingcentre.ca
SUMMARY:Sam
DESCRIPTION:
URL:https://communitycounsellingcentre.ca/event/sam-3/2026-08-27/
LOCATION:Room 1
CATEGORIES:Room 1
END:VEVENT
BEGIN:VEVENT
DTSTART;TZID=America/Edmonton:20260828T110000
DTEND;TZID=America/Edmonton:20260828T170000
DTSTAMP:20260423T101901
CREATED:20251126T024600Z
LAST-MODIFIED:20251126T024600Z
UID:10007608-1787914800-1787936400@communitycounsellingcentre.ca
SUMMARY:Desiree
DESCRIPTION:
URL:https://communitycounsellingcentre.ca/event/desiree-4/2026-08-28/
LOCATION:Room 1
CATEGORIES:Room 1
END:VEVENT
BEGIN:VEVENT
DTSTART;TZID=America/Edmonton:20260829T110000
DTEND;TZID=America/Edmonton:20260829T160000
DTSTAMP:20260423T101901
CREATED:20260105T163050Z
LAST-MODIFIED:20260105T163050Z
UID:10007741-1788001200-1788019200@communitycounsellingcentre.ca
SUMMARY:Sam
DESCRIPTION:
URL:https://communitycounsellingcentre.ca/event/sam-2/2026-08-29/
LOCATION:Room 1
CATEGORIES:Room 1
END:VEVENT
BEGIN:VEVENT
DTSTART;TZID=America/Edmonton:20260831T110000
DTEND;TZID=America/Edmonton:20260831T200000
DTSTAMP:20260423T101901
CREATED:20251126T024503Z
LAST-MODIFIED:20251126T024503Z
UID:10007556-1788174000-1788206400@communitycounsellingcentre.ca
SUMMARY:Desiree
DESCRIPTION:
URL:https://communitycounsellingcentre.ca/event/desiree-3/2026-08-31/
LOCATION:Room 1
CATEGORIES:Room 1
END:VEVENT
BEGIN:VEVENT
DTSTART;TZID=America/Edmonton:20260901T110000
DTEND;TZID=America/Edmonton:20260901T190000
DTSTAMP:20260423T101901
CREATED:20241127T172306Z
LAST-MODIFIED:20251126T022940Z
UID:10007190-1788260400-1788289200@communitycounsellingcentre.ca
SUMMARY:Sam
DESCRIPTION:
URL:https://communitycounsellingcentre.ca/event/sam-6-2-2/2026-09-01/
LOCATION:Room 1
CATEGORIES:Room 1
END:VEVENT
BEGIN:VEVENT
DTSTART;TZID=America/Edmonton:20260902T110000
DTEND;TZID=America/Edmonton:20260902T190000
DTSTAMP:20260423T101901
CREATED:20251125T154531Z
LAST-MODIFIED:20251125T154531Z
UID:10006186-1788346800-1788375600@communitycounsellingcentre.ca
SUMMARY:Sam
DESCRIPTION:
URL:https://communitycounsellingcentre.ca/event/sam/2026-09-02/
LOCATION:Room 1
CATEGORIES:Room 1
END:VEVENT
BEGIN:VEVENT
DTSTART;TZID=America/Edmonton:20260903T130000
DTEND;TZID=America/Edmonton:20260903T170000
DTSTAMP:20260423T101901
CREATED:20260317T233955Z
LAST-MODIFIED:20260317T233955Z
UID:10008185-1788440400-1788454800@communitycounsellingcentre.ca
SUMMARY:Sam
DESCRIPTION:
URL:https://communitycounsellingcentre.ca/event/sam-3/2026-09-03/
LOCATION:Room 1
CATEGORIES:Room 1
END:VEVENT
BEGIN:VEVENT
DTSTART;TZID=America/Edmonton:20260904T110000
DTEND;TZID=America/Edmonton:20260904T170000
DTSTAMP:20260423T101901
CREATED:20251126T024600Z
LAST-MODIFIED:20251126T024600Z
UID:10007609-1788519600-1788541200@communitycounsellingcentre.ca
SUMMARY:Desiree
DESCRIPTION:
URL:https://communitycounsellingcentre.ca/event/desiree-4/2026-09-04/
LOCATION:Room 1
CATEGORIES:Room 1
END:VEVENT
BEGIN:VEVENT
DTSTART;TZID=America/Edmonton:20260905T110000
DTEND;TZID=America/Edmonton:20260905T160000
DTSTAMP:20260423T101901
CREATED:20260105T163050Z
LAST-MODIFIED:20260105T163050Z
UID:10007742-1788606000-1788624000@communitycounsellingcentre.ca
SUMMARY:Sam
DESCRIPTION:
URL:https://communitycounsellingcentre.ca/event/sam-2/2026-09-05/
LOCATION:Room 1
CATEGORIES:Room 1
END:VEVENT
BEGIN:VEVENT
DTSTART;TZID=America/Edmonton:20260907T110000
DTEND;TZID=America/Edmonton:20260907T200000
DTSTAMP:20260423T101901
CREATED:20251126T024503Z
LAST-MODIFIED:20251126T024503Z
UID:10007557-1788778800-1788811200@communitycounsellingcentre.ca
SUMMARY:Desiree
DESCRIPTION:
URL:https://communitycounsellingcentre.ca/event/desiree-3/2026-09-07/
LOCATION:Room 1
CATEGORIES:Room 1
END:VEVENT
BEGIN:VEVENT
DTSTART;TZID=America/Edmonton:20260908T110000
DTEND;TZID=America/Edmonton:20260908T190000
DTSTAMP:20260423T101901
CREATED:20241127T172306Z
LAST-MODIFIED:20251126T022940Z
UID:10007191-1788865200-1788894000@communitycounsellingcentre.ca
SUMMARY:Sam
DESCRIPTION:
URL:https://communitycounsellingcentre.ca/event/sam-6-2-2/2026-09-08/
LOCATION:Room 1
CATEGORIES:Room 1
END:VEVENT
BEGIN:VEVENT
DTSTART;TZID=America/Edmonton:20260909T110000
DTEND;TZID=America/Edmonton:20260909T190000
DTSTAMP:20260423T101901
CREATED:20251125T154531Z
LAST-MODIFIED:20251125T154531Z
UID:10006187-1788951600-1788980400@communitycounsellingcentre.ca
SUMMARY:Sam
DESCRIPTION:
URL:https://communitycounsellingcentre.ca/event/sam/2026-09-09/
LOCATION:Room 1
CATEGORIES:Room 1
END:VEVENT
BEGIN:VEVENT
DTSTART;TZID=America/Edmonton:20260910T130000
DTEND;TZID=America/Edmonton:20260910T170000
DTSTAMP:20260423T101901
CREATED:20260317T233955Z
LAST-MODIFIED:20260317T233955Z
UID:10008186-1789045200-1789059600@communitycounsellingcentre.ca
SUMMARY:Sam
DESCRIPTION:
URL:https://communitycounsellingcentre.ca/event/sam-3/2026-09-10/
LOCATION:Room 1
CATEGORIES:Room 1
END:VEVENT
BEGIN:VEVENT
DTSTART;TZID=America/Edmonton:20260911T110000
DTEND;TZID=America/Edmonton:20260911T170000
DTSTAMP:20260423T101901
CREATED:20251126T024600Z
LAST-MODIFIED:20251126T024600Z
UID:10007610-1789124400-1789146000@communitycounsellingcentre.ca
SUMMARY:Desiree
DESCRIPTION:
URL:https://communitycounsellingcentre.ca/event/desiree-4/2026-09-11/
LOCATION:Room 1
CATEGORIES:Room 1
END:VEVENT
BEGIN:VEVENT
DTSTART;TZID=America/Edmonton:20260912T110000
DTEND;TZID=America/Edmonton:20260912T160000
DTSTAMP:20260423T101901
CREATED:20260105T163050Z
LAST-MODIFIED:20260105T163050Z
UID:10007743-1789210800-1789228800@communitycounsellingcentre.ca
SUMMARY:Sam
DESCRIPTION:
URL:https://communitycounsellingcentre.ca/event/sam-2/2026-09-12/
LOCATION:Room 1
CATEGORIES:Room 1
END:VEVENT
BEGIN:VEVENT
DTSTART;TZID=America/Edmonton:20260914T110000
DTEND;TZID=America/Edmonton:20260914T200000
DTSTAMP:20260423T101901
CREATED:20251126T024503Z
LAST-MODIFIED:20251126T024503Z
UID:10007558-1789383600-1789416000@communitycounsellingcentre.ca
SUMMARY:Desiree
DESCRIPTION:
URL:https://communitycounsellingcentre.ca/event/desiree-3/2026-09-14/
LOCATION:Room 1
CATEGORIES:Room 1
END:VEVENT
BEGIN:VEVENT
DTSTART;TZID=America/Edmonton:20260915T110000
DTEND;TZID=America/Edmonton:20260915T190000
DTSTAMP:20260423T101901
CREATED:20241127T172306Z
LAST-MODIFIED:20251126T022940Z
UID:10007192-1789470000-1789498800@communitycounsellingcentre.ca
SUMMARY:Sam
DESCRIPTION:
URL:https://communitycounsellingcentre.ca/event/sam-6-2-2/2026-09-15/
LOCATION:Room 1
CATEGORIES:Room 1
END:VEVENT
BEGIN:VEVENT
DTSTART;TZID=America/Edmonton:20260916T110000
DTEND;TZID=America/Edmonton:20260916T190000
DTSTAMP:20260423T101901
CREATED:20251125T154531Z
LAST-MODIFIED:20251125T154531Z
UID:10006188-1789556400-1789585200@communitycounsellingcentre.ca
SUMMARY:Sam
DESCRIPTION:
URL:https://communitycounsellingcentre.ca/event/sam/2026-09-16/
LOCATION:Room 1
CATEGORIES:Room 1
END:VEVENT
BEGIN:VEVENT
DTSTART;TZID=America/Edmonton:20260917T130000
DTEND;TZID=America/Edmonton:20260917T170000
DTSTAMP:20260423T101901
CREATED:20260317T233955Z
LAST-MODIFIED:20260317T233955Z
UID:10008187-1789650000-1789664400@communitycounsellingcentre.ca
SUMMARY:Sam
DESCRIPTION:
URL:https://communitycounsellingcentre.ca/event/sam-3/2026-09-17/
LOCATION:Room 1
CATEGORIES:Room 1
END:VEVENT
BEGIN:VEVENT
DTSTART;TZID=America/Edmonton:20260918T110000
DTEND;TZID=America/Edmonton:20260918T170000
DTSTAMP:20260423T101901
CREATED:20251126T024600Z
LAST-MODIFIED:20251126T024600Z
UID:10007611-1789729200-1789750800@communitycounsellingcentre.ca
SUMMARY:Desiree
DESCRIPTION:
URL:https://communitycounsellingcentre.ca/event/desiree-4/2026-09-18/
LOCATION:Room 1
CATEGORIES:Room 1
END:VEVENT
BEGIN:VEVENT
DTSTART;TZID=America/Edmonton:20260919T110000
DTEND;TZID=America/Edmonton:20260919T160000
DTSTAMP:20260423T101901
CREATED:20260105T163050Z
LAST-MODIFIED:20260105T163050Z
UID:10007744-1789815600-1789833600@communitycounsellingcentre.ca
SUMMARY:Sam
DESCRIPTION:
URL:https://communitycounsellingcentre.ca/event/sam-2/2026-09-19/
LOCATION:Room 1
CATEGORIES:Room 1
END:VEVENT
BEGIN:VEVENT
DTSTART;TZID=America/Edmonton:20260921T110000
DTEND;TZID=America/Edmonton:20260921T200000
DTSTAMP:20260423T101901
CREATED:20251126T024503Z
LAST-MODIFIED:20251126T024503Z
UID:10007559-1789988400-1790020800@communitycounsellingcentre.ca
SUMMARY:Desiree
DESCRIPTION:
URL:https://communitycounsellingcentre.ca/event/desiree-3/2026-09-21/
LOCATION:Room 1
CATEGORIES:Room 1
END:VEVENT
BEGIN:VEVENT
DTSTART;TZID=America/Edmonton:20260922T110000
DTEND;TZID=America/Edmonton:20260922T190000
DTSTAMP:20260423T101901
CREATED:20241127T172306Z
LAST-MODIFIED:20251126T022940Z
UID:10007193-1790074800-1790103600@communitycounsellingcentre.ca
SUMMARY:Sam
DESCRIPTION:
URL:https://communitycounsellingcentre.ca/event/sam-6-2-2/2026-09-22/
LOCATION:Room 1
CATEGORIES:Room 1
END:VEVENT
BEGIN:VEVENT
DTSTART;TZID=America/Edmonton:20260923T110000
DTEND;TZID=America/Edmonton:20260923T190000
DTSTAMP:20260423T101901
CREATED:20251125T154531Z
LAST-MODIFIED:20251125T154531Z
UID:10006189-1790161200-1790190000@communitycounsellingcentre.ca
SUMMARY:Sam
DESCRIPTION:
URL:https://communitycounsellingcentre.ca/event/sam/2026-09-23/
LOCATION:Room 1
CATEGORIES:Room 1
END:VEVENT
BEGIN:VEVENT
DTSTART;TZID=America/Edmonton:20260924T130000
DTEND;TZID=America/Edmonton:20260924T170000
DTSTAMP:20260423T101901
CREATED:20260317T233955Z
LAST-MODIFIED:20260317T233955Z
UID:10008188-1790254800-1790269200@communitycounsellingcentre.ca
SUMMARY:Sam
DESCRIPTION:
URL:https://communitycounsellingcentre.ca/event/sam-3/2026-09-24/
LOCATION:Room 1
CATEGORIES:Room 1
END:VEVENT
BEGIN:VEVENT
DTSTART;TZID=America/Edmonton:20260925T110000
DTEND;TZID=America/Edmonton:20260925T170000
DTSTAMP:20260423T101901
CREATED:20251126T024600Z
LAST-MODIFIED:20251126T024600Z
UID:10007612-1790334000-1790355600@communitycounsellingcentre.ca
SUMMARY:Desiree
DESCRIPTION:
URL:https://communitycounsellingcentre.ca/event/desiree-4/2026-09-25/
LOCATION:Room 1
CATEGORIES:Room 1
END:VEVENT
BEGIN:VEVENT
DTSTART;TZID=America/Edmonton:20260926T110000
DTEND;TZID=America/Edmonton:20260926T160000
DTSTAMP:20260423T101901
CREATED:20260105T163050Z
LAST-MODIFIED:20260105T163050Z
UID:10007745-1790420400-1790438400@communitycounsellingcentre.ca
SUMMARY:Sam
DESCRIPTION:
URL:https://communitycounsellingcentre.ca/event/sam-2/2026-09-26/
LOCATION:Room 1
CATEGORIES:Room 1
END:VEVENT
BEGIN:VEVENT
DTSTART;TZID=America/Edmonton:20260928T110000
DTEND;TZID=America/Edmonton:20260928T200000
DTSTAMP:20260423T101901
CREATED:20251126T024503Z
LAST-MODIFIED:20251126T024503Z
UID:10007560-1790593200-1790625600@communitycounsellingcentre.ca
SUMMARY:Desiree
DESCRIPTION:
URL:https://communitycounsellingcentre.ca/event/desiree-3/2026-09-28/
LOCATION:Room 1
CATEGORIES:Room 1
END:VEVENT
BEGIN:VEVENT
DTSTART;TZID=America/Edmonton:20260929T110000
DTEND;TZID=America/Edmonton:20260929T190000
DTSTAMP:20260423T101901
CREATED:20241127T172306Z
LAST-MODIFIED:20251126T022940Z
UID:10007194-1790679600-1790708400@communitycounsellingcentre.ca
SUMMARY:Sam
DESCRIPTION:
URL:https://communitycounsellingcentre.ca/event/sam-6-2-2/2026-09-29/
LOCATION:Room 1
CATEGORIES:Room 1
END:VEVENT
BEGIN:VEVENT
DTSTART;TZID=America/Edmonton:20260930T110000
DTEND;TZID=America/Edmonton:20260930T190000
DTSTAMP:20260423T101901
CREATED:20251125T154531Z
LAST-MODIFIED:20251125T154531Z
UID:10006190-1790766000-1790794800@communitycounsellingcentre.ca
SUMMARY:Sam
DESCRIPTION:
URL:https://communitycounsellingcentre.ca/event/sam/2026-09-30/
LOCATION:Room 1
CATEGORIES:Room 1
END:VEVENT
END:VCALENDAR