BEGIN:VCALENDAR
VERSION:2.0
PRODID:-//Community Counselling Centre - ECPv6.13.1//NONSGML v1.0//EN
CALSCALE:GREGORIAN
METHOD:PUBLISH
X-WR-CALNAME:Community Counselling Centre
X-ORIGINAL-URL:https://communitycounsellingcentre.ca
X-WR-CALDESC:Events for Community Counselling Centre
REFRESH-INTERVAL;VALUE=DURATION:PT1H
X-Robots-Tag:noindex
X-PUBLISHED-TTL:PT1H
BEGIN:VTIMEZONE
TZID:America/Edmonton
BEGIN:DAYLIGHT
TZOFFSETFROM:-0700
TZOFFSETTO:-0600
TZNAME:MDT
DTSTART:20250309T090000
END:DAYLIGHT
BEGIN:STANDARD
TZOFFSETFROM:-0600
TZOFFSETTO:-0700
TZNAME:MST
DTSTART:20251102T080000
END:STANDARD
END:VTIMEZONE
BEGIN:VEVENT
DTSTART;TZID=America/Edmonton:20251028T110000
DTEND;TZID=America/Edmonton:20251028T190000
DTSTAMP:20260423T115802
CREATED:20241127T172306Z
LAST-MODIFIED:20251126T022940Z
UID:10006136-1761649200-1761678000@communitycounsellingcentre.ca
SUMMARY:Sam
DESCRIPTION:
URL:https://communitycounsellingcentre.ca/event/sam-6-2-2/2025-10-28/
LOCATION:Room 1
CATEGORIES:Room 1
END:VEVENT
BEGIN:VEVENT
DTSTART;TZID=America/Edmonton:20251023T120000
DTEND;TZID=America/Edmonton:20251023T200000
DTSTAMP:20260423T115802
CREATED:20250320T170707Z
LAST-MODIFIED:20260317T233752Z
UID:10005448-1761220800-1761249600@communitycounsellingcentre.ca
SUMMARY:Sabrina
DESCRIPTION:
URL:https://communitycounsellingcentre.ca/event/sabrina-12/2025-10-23/
LOCATION:Room 1
CATEGORIES:Room 1
END:VEVENT
BEGIN:VEVENT
DTSTART;TZID=America/Edmonton:20251021T110000
DTEND;TZID=America/Edmonton:20251021T190000
DTSTAMP:20260423T115802
CREATED:20241127T172306Z
LAST-MODIFIED:20251126T022940Z
UID:10006135-1761044400-1761073200@communitycounsellingcentre.ca
SUMMARY:Sam
DESCRIPTION:
URL:https://communitycounsellingcentre.ca/event/sam-6-2-2/2025-10-21/
LOCATION:Room 1
CATEGORIES:Room 1
END:VEVENT
BEGIN:VEVENT
DTSTART;TZID=America/Edmonton:20251016T120000
DTEND;TZID=America/Edmonton:20251016T200000
DTSTAMP:20260423T115802
CREATED:20250320T170707Z
LAST-MODIFIED:20260317T233752Z
UID:10005447-1760616000-1760644800@communitycounsellingcentre.ca
SUMMARY:Sabrina
DESCRIPTION:
URL:https://communitycounsellingcentre.ca/event/sabrina-12/2025-10-16/
LOCATION:Room 1
CATEGORIES:Room 1
END:VEVENT
BEGIN:VEVENT
DTSTART;TZID=America/Edmonton:20251014T110000
DTEND;TZID=America/Edmonton:20251014T190000
DTSTAMP:20260423T115802
CREATED:20241127T172306Z
LAST-MODIFIED:20251126T022940Z
UID:10006134-1760439600-1760468400@communitycounsellingcentre.ca
SUMMARY:Sam
DESCRIPTION:
URL:https://communitycounsellingcentre.ca/event/sam-6-2-2/2025-10-14/
LOCATION:Room 1
CATEGORIES:Room 1
END:VEVENT
BEGIN:VEVENT
DTSTART;TZID=America/Edmonton:20251009T120000
DTEND;TZID=America/Edmonton:20251009T200000
DTSTAMP:20260423T115802
CREATED:20250320T170707Z
LAST-MODIFIED:20260317T233752Z
UID:10005446-1760011200-1760040000@communitycounsellingcentre.ca
SUMMARY:Sabrina
DESCRIPTION:
URL:https://communitycounsellingcentre.ca/event/sabrina-12/2025-10-09/
LOCATION:Room 1
CATEGORIES:Room 1
END:VEVENT
BEGIN:VEVENT
DTSTART;TZID=America/Edmonton:20251007T110000
DTEND;TZID=America/Edmonton:20251007T190000
DTSTAMP:20260423T115802
CREATED:20241127T172306Z
LAST-MODIFIED:20251126T022940Z
UID:10006133-1759834800-1759863600@communitycounsellingcentre.ca
SUMMARY:Sam
DESCRIPTION:
URL:https://communitycounsellingcentre.ca/event/sam-6-2-2/2025-10-07/
LOCATION:Room 1
CATEGORIES:Room 1
END:VEVENT
BEGIN:VEVENT
DTSTART;TZID=America/Edmonton:20251002T120000
DTEND;TZID=America/Edmonton:20251002T200000
DTSTAMP:20260423T115802
CREATED:20250320T170707Z
LAST-MODIFIED:20260317T233752Z
UID:10005445-1759406400-1759435200@communitycounsellingcentre.ca
SUMMARY:Sabrina
DESCRIPTION:
URL:https://communitycounsellingcentre.ca/event/sabrina-12/2025-10-02/
LOCATION:Room 1
CATEGORIES:Room 1
END:VEVENT
BEGIN:VEVENT
DTSTART;TZID=America/Edmonton:20250930T110000
DTEND;TZID=America/Edmonton:20250930T190000
DTSTAMP:20260423T115802
CREATED:20241127T172306Z
LAST-MODIFIED:20251126T022940Z
UID:10006132-1759230000-1759258800@communitycounsellingcentre.ca
SUMMARY:Sam
DESCRIPTION:
URL:https://communitycounsellingcentre.ca/event/sam-6-2-2/2025-09-30/
LOCATION:Room 1
CATEGORIES:Room 1
END:VEVENT
BEGIN:VEVENT
DTSTART;TZID=America/Edmonton:20250925T120000
DTEND;TZID=America/Edmonton:20250925T200000
DTSTAMP:20260423T115802
CREATED:20250320T170707Z
LAST-MODIFIED:20260317T233752Z
UID:10005444-1758801600-1758830400@communitycounsellingcentre.ca
SUMMARY:Sabrina
DESCRIPTION:
URL:https://communitycounsellingcentre.ca/event/sabrina-12/2025-09-25/
LOCATION:Room 1
CATEGORIES:Room 1
END:VEVENT
BEGIN:VEVENT
DTSTART;TZID=America/Edmonton:20250923T110000
DTEND;TZID=America/Edmonton:20250923T190000
DTSTAMP:20260423T115802
CREATED:20241127T172306Z
LAST-MODIFIED:20251126T022940Z
UID:10006131-1758625200-1758654000@communitycounsellingcentre.ca
SUMMARY:Sam
DESCRIPTION:
URL:https://communitycounsellingcentre.ca/event/sam-6-2-2/2025-09-23/
LOCATION:Room 1
CATEGORIES:Room 1
END:VEVENT
BEGIN:VEVENT
DTSTART;TZID=America/Edmonton:20250918T120000
DTEND;TZID=America/Edmonton:20250918T200000
DTSTAMP:20260423T115802
CREATED:20250320T170707Z
LAST-MODIFIED:20260317T233752Z
UID:10005443-1758196800-1758225600@communitycounsellingcentre.ca
SUMMARY:Sabrina
DESCRIPTION:
URL:https://communitycounsellingcentre.ca/event/sabrina-12/2025-09-18/
LOCATION:Room 1
CATEGORIES:Room 1
END:VEVENT
BEGIN:VEVENT
DTSTART;TZID=America/Edmonton:20250916T110000
DTEND;TZID=America/Edmonton:20250916T190000
DTSTAMP:20260423T115802
CREATED:20241127T172306Z
LAST-MODIFIED:20251126T022940Z
UID:10006130-1758020400-1758049200@communitycounsellingcentre.ca
SUMMARY:Sam
DESCRIPTION:
URL:https://communitycounsellingcentre.ca/event/sam-6-2-2/2025-09-16/
LOCATION:Room 1
CATEGORIES:Room 1
END:VEVENT
BEGIN:VEVENT
DTSTART;TZID=America/Edmonton:20250911T120000
DTEND;TZID=America/Edmonton:20250911T200000
DTSTAMP:20260423T115802
CREATED:20250320T170707Z
LAST-MODIFIED:20260317T233752Z
UID:10005442-1757592000-1757620800@communitycounsellingcentre.ca
SUMMARY:Sabrina
DESCRIPTION:
URL:https://communitycounsellingcentre.ca/event/sabrina-12/2025-09-11/
LOCATION:Room 1
CATEGORIES:Room 1
END:VEVENT
BEGIN:VEVENT
DTSTART;TZID=America/Edmonton:20250909T110000
DTEND;TZID=America/Edmonton:20250909T190000
DTSTAMP:20260423T115802
CREATED:20241127T172306Z
LAST-MODIFIED:20251126T022940Z
UID:10006129-1757415600-1757444400@communitycounsellingcentre.ca
SUMMARY:Sam
DESCRIPTION:
URL:https://communitycounsellingcentre.ca/event/sam-6-2-2/2025-09-09/
LOCATION:Room 1
CATEGORIES:Room 1
END:VEVENT
BEGIN:VEVENT
DTSTART;TZID=America/Edmonton:20250904T120000
DTEND;TZID=America/Edmonton:20250904T200000
DTSTAMP:20260423T115802
CREATED:20250320T170707Z
LAST-MODIFIED:20260317T233752Z
UID:10005441-1756987200-1757016000@communitycounsellingcentre.ca
SUMMARY:Sabrina
DESCRIPTION:
URL:https://communitycounsellingcentre.ca/event/sabrina-12/2025-09-04/
LOCATION:Room 1
CATEGORIES:Room 1
END:VEVENT
BEGIN:VEVENT
DTSTART;TZID=America/Edmonton:20250902T110000
DTEND;TZID=America/Edmonton:20250902T190000
DTSTAMP:20260423T115802
CREATED:20241127T172306Z
LAST-MODIFIED:20251126T022940Z
UID:10006128-1756810800-1756839600@communitycounsellingcentre.ca
SUMMARY:Sam
DESCRIPTION:
URL:https://communitycounsellingcentre.ca/event/sam-6-2-2/2025-09-02/
LOCATION:Room 1
CATEGORIES:Room 1
END:VEVENT
BEGIN:VEVENT
DTSTART;TZID=America/Edmonton:20250828T120000
DTEND;TZID=America/Edmonton:20250828T200000
DTSTAMP:20260423T115802
CREATED:20250320T170707Z
LAST-MODIFIED:20260317T233752Z
UID:10005440-1756382400-1756411200@communitycounsellingcentre.ca
SUMMARY:Sabrina
DESCRIPTION:
URL:https://communitycounsellingcentre.ca/event/sabrina-12/2025-08-28/
LOCATION:Room 1
CATEGORIES:Room 1
END:VEVENT
BEGIN:VEVENT
DTSTART;TZID=America/Edmonton:20250826T110000
DTEND;TZID=America/Edmonton:20250826T190000
DTSTAMP:20260423T115802
CREATED:20241127T172306Z
LAST-MODIFIED:20251126T022940Z
UID:10006127-1756206000-1756234800@communitycounsellingcentre.ca
SUMMARY:Sam
DESCRIPTION:
URL:https://communitycounsellingcentre.ca/event/sam-6-2-2/2025-08-26/
LOCATION:Room 1
CATEGORIES:Room 1
END:VEVENT
BEGIN:VEVENT
DTSTART;TZID=America/Edmonton:20250821T120000
DTEND;TZID=America/Edmonton:20250821T200000
DTSTAMP:20260423T115802
CREATED:20250320T170707Z
LAST-MODIFIED:20260317T233752Z
UID:10005439-1755777600-1755806400@communitycounsellingcentre.ca
SUMMARY:Sabrina
DESCRIPTION:
URL:https://communitycounsellingcentre.ca/event/sabrina-12/2025-08-21/
LOCATION:Room 1
CATEGORIES:Room 1
END:VEVENT
BEGIN:VEVENT
DTSTART;TZID=America/Edmonton:20250819T110000
DTEND;TZID=America/Edmonton:20250819T190000
DTSTAMP:20260423T115802
CREATED:20241127T172306Z
LAST-MODIFIED:20251126T022940Z
UID:10006126-1755601200-1755630000@communitycounsellingcentre.ca
SUMMARY:Sam
DESCRIPTION:
URL:https://communitycounsellingcentre.ca/event/sam-6-2-2/2025-08-19/
LOCATION:Room 1
CATEGORIES:Room 1
END:VEVENT
BEGIN:VEVENT
DTSTART;TZID=America/Edmonton:20250814T120000
DTEND;TZID=America/Edmonton:20250814T200000
DTSTAMP:20260423T115802
CREATED:20250320T170707Z
LAST-MODIFIED:20260317T233752Z
UID:10005438-1755172800-1755201600@communitycounsellingcentre.ca
SUMMARY:Sabrina
DESCRIPTION:
URL:https://communitycounsellingcentre.ca/event/sabrina-12/2025-08-14/
LOCATION:Room 1
CATEGORIES:Room 1
END:VEVENT
BEGIN:VEVENT
DTSTART;TZID=America/Edmonton:20250812T110000
DTEND;TZID=America/Edmonton:20250812T190000
DTSTAMP:20260423T115802
CREATED:20241127T172306Z
LAST-MODIFIED:20251126T022940Z
UID:10006125-1754996400-1755025200@communitycounsellingcentre.ca
SUMMARY:Sam
DESCRIPTION:
URL:https://communitycounsellingcentre.ca/event/sam-6-2-2/2025-08-12/
LOCATION:Room 1
CATEGORIES:Room 1
END:VEVENT
BEGIN:VEVENT
DTSTART;TZID=America/Edmonton:20250807T120000
DTEND;TZID=America/Edmonton:20250807T200000
DTSTAMP:20260423T115802
CREATED:20250320T170707Z
LAST-MODIFIED:20260317T233752Z
UID:10005437-1754568000-1754596800@communitycounsellingcentre.ca
SUMMARY:Sabrina
DESCRIPTION:
URL:https://communitycounsellingcentre.ca/event/sabrina-12/2025-08-07/
LOCATION:Room 1
CATEGORIES:Room 1
END:VEVENT
BEGIN:VEVENT
DTSTART;TZID=America/Edmonton:20250805T110000
DTEND;TZID=America/Edmonton:20250805T190000
DTSTAMP:20260423T115802
CREATED:20241127T172306Z
LAST-MODIFIED:20251126T022940Z
UID:10006124-1754391600-1754420400@communitycounsellingcentre.ca
SUMMARY:Sam
DESCRIPTION:
URL:https://communitycounsellingcentre.ca/event/sam-6-2-2/2025-08-05/
LOCATION:Room 1
CATEGORIES:Room 1
END:VEVENT
BEGIN:VEVENT
DTSTART;TZID=America/Edmonton:20250731T120000
DTEND;TZID=America/Edmonton:20250731T200000
DTSTAMP:20260423T115802
CREATED:20250320T170707Z
LAST-MODIFIED:20260317T233752Z
UID:10005436-1753963200-1753992000@communitycounsellingcentre.ca
SUMMARY:Sabrina
DESCRIPTION:
URL:https://communitycounsellingcentre.ca/event/sabrina-12/2025-07-31/
LOCATION:Room 1
CATEGORIES:Room 1
END:VEVENT
BEGIN:VEVENT
DTSTART;TZID=America/Edmonton:20250729T110000
DTEND;TZID=America/Edmonton:20250729T190000
DTSTAMP:20260423T115802
CREATED:20241127T172306Z
LAST-MODIFIED:20251126T022940Z
UID:10006123-1753786800-1753815600@communitycounsellingcentre.ca
SUMMARY:Sam
DESCRIPTION:
URL:https://communitycounsellingcentre.ca/event/sam-6-2-2/2025-07-29/
LOCATION:Room 1
CATEGORIES:Room 1
END:VEVENT
BEGIN:VEVENT
DTSTART;TZID=America/Edmonton:20250724T120000
DTEND;TZID=America/Edmonton:20250724T200000
DTSTAMP:20260423T115802
CREATED:20250320T170707Z
LAST-MODIFIED:20260317T233752Z
UID:10005435-1753358400-1753387200@communitycounsellingcentre.ca
SUMMARY:Sabrina
DESCRIPTION:
URL:https://communitycounsellingcentre.ca/event/sabrina-12/2025-07-24/
LOCATION:Room 1
CATEGORIES:Room 1
END:VEVENT
BEGIN:VEVENT
DTSTART;TZID=America/Edmonton:20250722T110000
DTEND;TZID=America/Edmonton:20250722T190000
DTSTAMP:20260423T115802
CREATED:20241127T172306Z
LAST-MODIFIED:20251126T022940Z
UID:10006122-1753182000-1753210800@communitycounsellingcentre.ca
SUMMARY:Sam
DESCRIPTION:
URL:https://communitycounsellingcentre.ca/event/sam-6-2-2/2025-07-22/
LOCATION:Room 1
CATEGORIES:Room 1
END:VEVENT
BEGIN:VEVENT
DTSTART;TZID=America/Edmonton:20250717T120000
DTEND;TZID=America/Edmonton:20250717T200000
DTSTAMP:20260423T115802
CREATED:20250320T170707Z
LAST-MODIFIED:20260317T233752Z
UID:10005434-1752753600-1752782400@communitycounsellingcentre.ca
SUMMARY:Sabrina
DESCRIPTION:
URL:https://communitycounsellingcentre.ca/event/sabrina-12/2025-07-17/
LOCATION:Room 1
CATEGORIES:Room 1
END:VEVENT
END:VCALENDAR