BEGIN:VCALENDAR
VERSION:2.0
PRODID:-//Community Counselling Centre - ECPv6.13.1//NONSGML v1.0//EN
CALSCALE:GREGORIAN
METHOD:PUBLISH
X-ORIGINAL-URL:https://communitycounsellingcentre.ca
X-WR-CALDESC:Events for Community Counselling Centre
REFRESH-INTERVAL;VALUE=DURATION:PT1H
X-Robots-Tag:noindex
X-PUBLISHED-TTL:PT1H
BEGIN:VTIMEZONE
TZID:America/Edmonton
BEGIN:DAYLIGHT
TZOFFSETFROM:-0700
TZOFFSETTO:-0600
TZNAME:MDT
DTSTART:20250309T090000
END:DAYLIGHT
BEGIN:STANDARD
TZOFFSETFROM:-0600
TZOFFSETTO:-0700
TZNAME:MST
DTSTART:20251102T080000
END:STANDARD
END:VTIMEZONE
BEGIN:VEVENT
DTSTART;TZID=America/Edmonton:20250805T110000
DTEND;TZID=America/Edmonton:20250805T190000
DTSTAMP:20260423T164522
CREATED:20241127T172306Z
LAST-MODIFIED:20251126T022940Z
UID:10006124-1754391600-1754420400@communitycounsellingcentre.ca
SUMMARY:Sam
DESCRIPTION:
URL:https://communitycounsellingcentre.ca/event/sam-6-2-2/2025-08-05/
LOCATION:Room 1
CATEGORIES:Room 1
END:VEVENT
BEGIN:VEVENT
DTSTART;TZID=America/Edmonton:20250731T120000
DTEND;TZID=America/Edmonton:20250731T200000
DTSTAMP:20260423T164522
CREATED:20250320T170707Z
LAST-MODIFIED:20260317T233752Z
UID:10005436-1753963200-1753992000@communitycounsellingcentre.ca
SUMMARY:Sabrina
DESCRIPTION:
URL:https://communitycounsellingcentre.ca/event/sabrina-12/2025-07-31/
LOCATION:Room 1
CATEGORIES:Room 1
END:VEVENT
BEGIN:VEVENT
DTSTART;TZID=America/Edmonton:20250729T110000
DTEND;TZID=America/Edmonton:20250729T190000
DTSTAMP:20260423T164522
CREATED:20241127T172306Z
LAST-MODIFIED:20251126T022940Z
UID:10006123-1753786800-1753815600@communitycounsellingcentre.ca
SUMMARY:Sam
DESCRIPTION:
URL:https://communitycounsellingcentre.ca/event/sam-6-2-2/2025-07-29/
LOCATION:Room 1
CATEGORIES:Room 1
END:VEVENT
BEGIN:VEVENT
DTSTART;TZID=America/Edmonton:20250724T120000
DTEND;TZID=America/Edmonton:20250724T200000
DTSTAMP:20260423T164522
CREATED:20250320T170707Z
LAST-MODIFIED:20260317T233752Z
UID:10005435-1753358400-1753387200@communitycounsellingcentre.ca
SUMMARY:Sabrina
DESCRIPTION:
URL:https://communitycounsellingcentre.ca/event/sabrina-12/2025-07-24/
LOCATION:Room 1
CATEGORIES:Room 1
END:VEVENT
BEGIN:VEVENT
DTSTART;TZID=America/Edmonton:20250722T110000
DTEND;TZID=America/Edmonton:20250722T190000
DTSTAMP:20260423T164522
CREATED:20241127T172306Z
LAST-MODIFIED:20251126T022940Z
UID:10006122-1753182000-1753210800@communitycounsellingcentre.ca
SUMMARY:Sam
DESCRIPTION:
URL:https://communitycounsellingcentre.ca/event/sam-6-2-2/2025-07-22/
LOCATION:Room 1
CATEGORIES:Room 1
END:VEVENT
BEGIN:VEVENT
DTSTART;TZID=America/Edmonton:20250717T120000
DTEND;TZID=America/Edmonton:20250717T200000
DTSTAMP:20260423T164522
CREATED:20250320T170707Z
LAST-MODIFIED:20260317T233752Z
UID:10005434-1752753600-1752782400@communitycounsellingcentre.ca
SUMMARY:Sabrina
DESCRIPTION:
URL:https://communitycounsellingcentre.ca/event/sabrina-12/2025-07-17/
LOCATION:Room 1
CATEGORIES:Room 1
END:VEVENT
BEGIN:VEVENT
DTSTART;TZID=America/Edmonton:20250715T110000
DTEND;TZID=America/Edmonton:20250715T190000
DTSTAMP:20260423T164522
CREATED:20241127T172306Z
LAST-MODIFIED:20251126T022940Z
UID:10006121-1752577200-1752606000@communitycounsellingcentre.ca
SUMMARY:Sam
DESCRIPTION:
URL:https://communitycounsellingcentre.ca/event/sam-6-2-2/2025-07-15/
LOCATION:Room 1
CATEGORIES:Room 1
END:VEVENT
BEGIN:VEVENT
DTSTART;TZID=America/Edmonton:20250710T120000
DTEND;TZID=America/Edmonton:20250710T200000
DTSTAMP:20260423T164522
CREATED:20250320T170707Z
LAST-MODIFIED:20260317T233752Z
UID:10005433-1752148800-1752177600@communitycounsellingcentre.ca
SUMMARY:Sabrina
DESCRIPTION:
URL:https://communitycounsellingcentre.ca/event/sabrina-12/2025-07-10/
LOCATION:Room 1
CATEGORIES:Room 1
END:VEVENT
BEGIN:VEVENT
DTSTART;TZID=America/Edmonton:20250708T110000
DTEND;TZID=America/Edmonton:20250708T190000
DTSTAMP:20260423T164522
CREATED:20241127T172306Z
LAST-MODIFIED:20251126T022940Z
UID:10006120-1751972400-1752001200@communitycounsellingcentre.ca
SUMMARY:Sam
DESCRIPTION:
URL:https://communitycounsellingcentre.ca/event/sam-6-2-2/2025-07-08/
LOCATION:Room 1
CATEGORIES:Room 1
END:VEVENT
BEGIN:VEVENT
DTSTART;TZID=America/Edmonton:20250703T120000
DTEND;TZID=America/Edmonton:20250703T200000
DTSTAMP:20260423T164522
CREATED:20250320T170707Z
LAST-MODIFIED:20260317T233752Z
UID:10005432-1751544000-1751572800@communitycounsellingcentre.ca
SUMMARY:Sabrina
DESCRIPTION:
URL:https://communitycounsellingcentre.ca/event/sabrina-12/2025-07-03/
LOCATION:Room 1
CATEGORIES:Room 1
END:VEVENT
BEGIN:VEVENT
DTSTART;TZID=America/Edmonton:20250701T110000
DTEND;TZID=America/Edmonton:20250701T190000
DTSTAMP:20260423T164522
CREATED:20241127T172306Z
LAST-MODIFIED:20251126T022940Z
UID:10006119-1751367600-1751396400@communitycounsellingcentre.ca
SUMMARY:Sam
DESCRIPTION:
URL:https://communitycounsellingcentre.ca/event/sam-6-2-2/2025-07-01/
LOCATION:Room 1
CATEGORIES:Room 1
END:VEVENT
BEGIN:VEVENT
DTSTART;TZID=America/Edmonton:20250626T120000
DTEND;TZID=America/Edmonton:20250626T200000
DTSTAMP:20260423T164522
CREATED:20250320T170707Z
LAST-MODIFIED:20260317T233752Z
UID:10005431-1750939200-1750968000@communitycounsellingcentre.ca
SUMMARY:Sabrina
DESCRIPTION:
URL:https://communitycounsellingcentre.ca/event/sabrina-12/2025-06-26/
LOCATION:Room 1
CATEGORIES:Room 1
END:VEVENT
BEGIN:VEVENT
DTSTART;TZID=America/Edmonton:20250624T110000
DTEND;TZID=America/Edmonton:20250624T190000
DTSTAMP:20260423T164522
CREATED:20241127T172306Z
LAST-MODIFIED:20251126T022940Z
UID:10006118-1750762800-1750791600@communitycounsellingcentre.ca
SUMMARY:Sam
DESCRIPTION:
URL:https://communitycounsellingcentre.ca/event/sam-6-2-2/2025-06-24/
LOCATION:Room 1
CATEGORIES:Room 1
END:VEVENT
BEGIN:VEVENT
DTSTART;TZID=America/Edmonton:20250619T120000
DTEND;TZID=America/Edmonton:20250619T200000
DTSTAMP:20260423T164522
CREATED:20250320T170707Z
LAST-MODIFIED:20260317T233752Z
UID:10005430-1750334400-1750363200@communitycounsellingcentre.ca
SUMMARY:Sabrina
DESCRIPTION:
URL:https://communitycounsellingcentre.ca/event/sabrina-12/2025-06-19/
LOCATION:Room 1
CATEGORIES:Room 1
END:VEVENT
BEGIN:VEVENT
DTSTART;TZID=America/Edmonton:20250617T110000
DTEND;TZID=America/Edmonton:20250617T190000
DTSTAMP:20260423T164522
CREATED:20241127T172306Z
LAST-MODIFIED:20251126T022940Z
UID:10006117-1750158000-1750186800@communitycounsellingcentre.ca
SUMMARY:Sam
DESCRIPTION:
URL:https://communitycounsellingcentre.ca/event/sam-6-2-2/2025-06-17/
LOCATION:Room 1
CATEGORIES:Room 1
END:VEVENT
BEGIN:VEVENT
DTSTART;TZID=America/Edmonton:20250612T120000
DTEND;TZID=America/Edmonton:20250612T200000
DTSTAMP:20260423T164522
CREATED:20250320T170707Z
LAST-MODIFIED:20260317T233752Z
UID:10005429-1749729600-1749758400@communitycounsellingcentre.ca
SUMMARY:Sabrina
DESCRIPTION:
URL:https://communitycounsellingcentre.ca/event/sabrina-12/2025-06-12/
LOCATION:Room 1
CATEGORIES:Room 1
END:VEVENT
BEGIN:VEVENT
DTSTART;TZID=America/Edmonton:20250610T110000
DTEND;TZID=America/Edmonton:20250610T190000
DTSTAMP:20260423T164522
CREATED:20241127T172306Z
LAST-MODIFIED:20251126T022940Z
UID:10006116-1749553200-1749582000@communitycounsellingcentre.ca
SUMMARY:Sam
DESCRIPTION:
URL:https://communitycounsellingcentre.ca/event/sam-6-2-2/2025-06-10/
LOCATION:Room 1
CATEGORIES:Room 1
END:VEVENT
BEGIN:VEVENT
DTSTART;TZID=America/Edmonton:20250605T120000
DTEND;TZID=America/Edmonton:20250605T200000
DTSTAMP:20260423T164522
CREATED:20250320T170707Z
LAST-MODIFIED:20260317T233752Z
UID:10005428-1749124800-1749153600@communitycounsellingcentre.ca
SUMMARY:Sabrina
DESCRIPTION:
URL:https://communitycounsellingcentre.ca/event/sabrina-12/2025-06-05/
LOCATION:Room 1
CATEGORIES:Room 1
END:VEVENT
BEGIN:VEVENT
DTSTART;TZID=America/Edmonton:20250603T110000
DTEND;TZID=America/Edmonton:20250603T190000
DTSTAMP:20260423T164522
CREATED:20241127T172306Z
LAST-MODIFIED:20251126T022940Z
UID:10006115-1748948400-1748977200@communitycounsellingcentre.ca
SUMMARY:Sam
DESCRIPTION:
URL:https://communitycounsellingcentre.ca/event/sam-6-2-2/2025-06-03/
LOCATION:Room 1
CATEGORIES:Room 1
END:VEVENT
BEGIN:VEVENT
DTSTART;TZID=America/Edmonton:20250529T120000
DTEND;TZID=America/Edmonton:20250529T200000
DTSTAMP:20260423T164522
CREATED:20250320T170707Z
LAST-MODIFIED:20260317T233752Z
UID:10005427-1748520000-1748548800@communitycounsellingcentre.ca
SUMMARY:Sabrina
DESCRIPTION:
URL:https://communitycounsellingcentre.ca/event/sabrina-12/2025-05-29/
LOCATION:Room 1
CATEGORIES:Room 1
END:VEVENT
BEGIN:VEVENT
DTSTART;TZID=America/Edmonton:20250527T110000
DTEND;TZID=America/Edmonton:20250527T190000
DTSTAMP:20260423T164522
CREATED:20241127T172306Z
LAST-MODIFIED:20251126T022940Z
UID:10006114-1748343600-1748372400@communitycounsellingcentre.ca
SUMMARY:Sam
DESCRIPTION:
URL:https://communitycounsellingcentre.ca/event/sam-6-2-2/2025-05-27/
LOCATION:Room 1
CATEGORIES:Room 1
END:VEVENT
BEGIN:VEVENT
DTSTART;TZID=America/Edmonton:20250522T120000
DTEND;TZID=America/Edmonton:20250522T200000
DTSTAMP:20260423T164522
CREATED:20250320T170707Z
LAST-MODIFIED:20260317T233752Z
UID:10005426-1747915200-1747944000@communitycounsellingcentre.ca
SUMMARY:Sabrina
DESCRIPTION:
URL:https://communitycounsellingcentre.ca/event/sabrina-12/2025-05-22/
LOCATION:Room 1
CATEGORIES:Room 1
END:VEVENT
BEGIN:VEVENT
DTSTART;TZID=America/Edmonton:20250520T110000
DTEND;TZID=America/Edmonton:20250520T190000
DTSTAMP:20260423T164522
CREATED:20241127T172306Z
LAST-MODIFIED:20251126T022940Z
UID:10006113-1747738800-1747767600@communitycounsellingcentre.ca
SUMMARY:Sam
DESCRIPTION:
URL:https://communitycounsellingcentre.ca/event/sam-6-2-2/2025-05-20/
LOCATION:Room 1
CATEGORIES:Room 1
END:VEVENT
BEGIN:VEVENT
DTSTART;TZID=America/Edmonton:20250515T120000
DTEND;TZID=America/Edmonton:20250515T200000
DTSTAMP:20260423T164522
CREATED:20250320T170707Z
LAST-MODIFIED:20260317T233752Z
UID:10005425-1747310400-1747339200@communitycounsellingcentre.ca
SUMMARY:Sabrina
DESCRIPTION:
URL:https://communitycounsellingcentre.ca/event/sabrina-12/2025-05-15/
LOCATION:Room 1
CATEGORIES:Room 1
END:VEVENT
BEGIN:VEVENT
DTSTART;TZID=America/Edmonton:20250513T110000
DTEND;TZID=America/Edmonton:20250513T190000
DTSTAMP:20260423T164522
CREATED:20241127T172306Z
LAST-MODIFIED:20251126T022940Z
UID:10006112-1747134000-1747162800@communitycounsellingcentre.ca
SUMMARY:Sam
DESCRIPTION:
URL:https://communitycounsellingcentre.ca/event/sam-6-2-2/2025-05-13/
LOCATION:Room 1
CATEGORIES:Room 1
END:VEVENT
BEGIN:VEVENT
DTSTART;TZID=America/Edmonton:20250508T120000
DTEND;TZID=America/Edmonton:20250508T200000
DTSTAMP:20260423T164522
CREATED:20250320T170707Z
LAST-MODIFIED:20260317T233752Z
UID:10005424-1746705600-1746734400@communitycounsellingcentre.ca
SUMMARY:Sabrina
DESCRIPTION:
URL:https://communitycounsellingcentre.ca/event/sabrina-12/2025-05-08/
LOCATION:Room 1
CATEGORIES:Room 1
END:VEVENT
BEGIN:VEVENT
DTSTART;TZID=America/Edmonton:20250506T110000
DTEND;TZID=America/Edmonton:20250506T190000
DTSTAMP:20260423T164522
CREATED:20241127T172306Z
LAST-MODIFIED:20251126T022940Z
UID:10006111-1746529200-1746558000@communitycounsellingcentre.ca
SUMMARY:Sam
DESCRIPTION:
URL:https://communitycounsellingcentre.ca/event/sam-6-2-2/2025-05-06/
LOCATION:Room 1
CATEGORIES:Room 1
END:VEVENT
BEGIN:VEVENT
DTSTART;TZID=America/Edmonton:20250501T120000
DTEND;TZID=America/Edmonton:20250501T200000
DTSTAMP:20260423T164522
CREATED:20250320T170707Z
LAST-MODIFIED:20260317T233752Z
UID:10005423-1746100800-1746129600@communitycounsellingcentre.ca
SUMMARY:Sabrina
DESCRIPTION:
URL:https://communitycounsellingcentre.ca/event/sabrina-12/2025-05-01/
LOCATION:Room 1
CATEGORIES:Room 1
END:VEVENT
BEGIN:VEVENT
DTSTART;TZID=America/Edmonton:20250429T110000
DTEND;TZID=America/Edmonton:20250429T190000
DTSTAMP:20260423T164522
CREATED:20241127T172306Z
LAST-MODIFIED:20251126T022940Z
UID:10006110-1745924400-1745953200@communitycounsellingcentre.ca
SUMMARY:Sam
DESCRIPTION:
URL:https://communitycounsellingcentre.ca/event/sam-6-2-2/2025-04-29/
LOCATION:Room 1
CATEGORIES:Room 1
END:VEVENT
BEGIN:VEVENT
DTSTART;TZID=America/Edmonton:20250422T110000
DTEND;TZID=America/Edmonton:20250422T190000
DTSTAMP:20260423T164522
CREATED:20241127T172306Z
LAST-MODIFIED:20251126T022940Z
UID:10006109-1745319600-1745348400@communitycounsellingcentre.ca
SUMMARY:Sam
DESCRIPTION:
URL:https://communitycounsellingcentre.ca/event/sam-6-2-2/2025-04-22/
LOCATION:Room 1
CATEGORIES:Room 1
END:VEVENT
END:VCALENDAR