BEGIN:VCALENDAR
VERSION:2.0
PRODID:-//Community Counselling Centre - ECPv6.13.1//NONSGML v1.0//EN
CALSCALE:GREGORIAN
METHOD:PUBLISH
X-ORIGINAL-URL:https://communitycounsellingcentre.ca
X-WR-CALDESC:Events for Community Counselling Centre
REFRESH-INTERVAL;VALUE=DURATION:PT1H
X-Robots-Tag:noindex
X-PUBLISHED-TTL:PT1H
BEGIN:VTIMEZONE
TZID:America/Edmonton
BEGIN:DAYLIGHT
TZOFFSETFROM:-0700
TZOFFSETTO:-0600
TZNAME:MDT
DTSTART:20260308T090000
END:DAYLIGHT
BEGIN:STANDARD
TZOFFSETFROM:-0600
TZOFFSETTO:-0700
TZNAME:MST
DTSTART:20261101T080000
END:STANDARD
END:VTIMEZONE
BEGIN:VEVENT
DTSTART;TZID=America/Edmonton:20261008T130000
DTEND;TZID=America/Edmonton:20261008T170000
DTSTAMP:20260423T151352
CREATED:20260317T233955Z
LAST-MODIFIED:20260317T233955Z
UID:10008190-1791464400-1791478800@communitycounsellingcentre.ca
SUMMARY:Sam
DESCRIPTION:
URL:https://communitycounsellingcentre.ca/event/sam-3/2026-10-08/
LOCATION:Room 1
CATEGORIES:Room 1
END:VEVENT
BEGIN:VEVENT
DTSTART;TZID=America/Edmonton:20261009T110000
DTEND;TZID=America/Edmonton:20261009T170000
DTSTAMP:20260423T151352
CREATED:20251126T024600Z
LAST-MODIFIED:20251126T024600Z
UID:10007614-1791543600-1791565200@communitycounsellingcentre.ca
SUMMARY:Desiree
DESCRIPTION:
URL:https://communitycounsellingcentre.ca/event/desiree-4/2026-10-09/
LOCATION:Room 1
CATEGORIES:Room 1
END:VEVENT
BEGIN:VEVENT
DTSTART;TZID=America/Edmonton:20261010T110000
DTEND;TZID=America/Edmonton:20261010T160000
DTSTAMP:20260423T151352
CREATED:20260105T163050Z
LAST-MODIFIED:20260105T163050Z
UID:10007747-1791630000-1791648000@communitycounsellingcentre.ca
SUMMARY:Sam
DESCRIPTION:
URL:https://communitycounsellingcentre.ca/event/sam-2/2026-10-10/
LOCATION:Room 1
CATEGORIES:Room 1
END:VEVENT
BEGIN:VEVENT
DTSTART;TZID=America/Edmonton:20261012T110000
DTEND;TZID=America/Edmonton:20261012T200000
DTSTAMP:20260423T151352
CREATED:20251126T024503Z
LAST-MODIFIED:20251126T024503Z
UID:10007562-1791802800-1791835200@communitycounsellingcentre.ca
SUMMARY:Desiree
DESCRIPTION:
URL:https://communitycounsellingcentre.ca/event/desiree-3/2026-10-12/
LOCATION:Room 1
CATEGORIES:Room 1
END:VEVENT
BEGIN:VEVENT
DTSTART;TZID=America/Edmonton:20261013T110000
DTEND;TZID=America/Edmonton:20261013T190000
DTSTAMP:20260423T151352
CREATED:20241127T172306Z
LAST-MODIFIED:20251126T022940Z
UID:10007196-1791889200-1791918000@communitycounsellingcentre.ca
SUMMARY:Sam
DESCRIPTION:
URL:https://communitycounsellingcentre.ca/event/sam-6-2-2/2026-10-13/
LOCATION:Room 1
CATEGORIES:Room 1
END:VEVENT
BEGIN:VEVENT
DTSTART;TZID=America/Edmonton:20261014T110000
DTEND;TZID=America/Edmonton:20261014T190000
DTSTAMP:20260423T151352
CREATED:20251125T154531Z
LAST-MODIFIED:20251125T154531Z
UID:10006192-1791975600-1792004400@communitycounsellingcentre.ca
SUMMARY:Sam
DESCRIPTION:
URL:https://communitycounsellingcentre.ca/event/sam/2026-10-14/
LOCATION:Room 1
CATEGORIES:Room 1
END:VEVENT
BEGIN:VEVENT
DTSTART;TZID=America/Edmonton:20261015T130000
DTEND;TZID=America/Edmonton:20261015T170000
DTSTAMP:20260423T151352
CREATED:20260317T233955Z
LAST-MODIFIED:20260317T233955Z
UID:10008191-1792069200-1792083600@communitycounsellingcentre.ca
SUMMARY:Sam
DESCRIPTION:
URL:https://communitycounsellingcentre.ca/event/sam-3/2026-10-15/
LOCATION:Room 1
CATEGORIES:Room 1
END:VEVENT
BEGIN:VEVENT
DTSTART;TZID=America/Edmonton:20261016T110000
DTEND;TZID=America/Edmonton:20261016T170000
DTSTAMP:20260423T151352
CREATED:20251126T024600Z
LAST-MODIFIED:20251126T024600Z
UID:10007615-1792148400-1792170000@communitycounsellingcentre.ca
SUMMARY:Desiree
DESCRIPTION:
URL:https://communitycounsellingcentre.ca/event/desiree-4/2026-10-16/
LOCATION:Room 1
CATEGORIES:Room 1
END:VEVENT
BEGIN:VEVENT
DTSTART;TZID=America/Edmonton:20261017T110000
DTEND;TZID=America/Edmonton:20261017T160000
DTSTAMP:20260423T151352
CREATED:20260105T163050Z
LAST-MODIFIED:20260105T163050Z
UID:10007748-1792234800-1792252800@communitycounsellingcentre.ca
SUMMARY:Sam
DESCRIPTION:
URL:https://communitycounsellingcentre.ca/event/sam-2/2026-10-17/
LOCATION:Room 1
CATEGORIES:Room 1
END:VEVENT
BEGIN:VEVENT
DTSTART;TZID=America/Edmonton:20261019T110000
DTEND;TZID=America/Edmonton:20261019T200000
DTSTAMP:20260423T151352
CREATED:20251126T024503Z
LAST-MODIFIED:20251126T024503Z
UID:10007563-1792407600-1792440000@communitycounsellingcentre.ca
SUMMARY:Desiree
DESCRIPTION:
URL:https://communitycounsellingcentre.ca/event/desiree-3/2026-10-19/
LOCATION:Room 1
CATEGORIES:Room 1
END:VEVENT
BEGIN:VEVENT
DTSTART;TZID=America/Edmonton:20261020T110000
DTEND;TZID=America/Edmonton:20261020T190000
DTSTAMP:20260423T151352
CREATED:20241127T172306Z
LAST-MODIFIED:20251126T022940Z
UID:10007197-1792494000-1792522800@communitycounsellingcentre.ca
SUMMARY:Sam
DESCRIPTION:
URL:https://communitycounsellingcentre.ca/event/sam-6-2-2/2026-10-20/
LOCATION:Room 1
CATEGORIES:Room 1
END:VEVENT
BEGIN:VEVENT
DTSTART;TZID=America/Edmonton:20261021T110000
DTEND;TZID=America/Edmonton:20261021T190000
DTSTAMP:20260423T151352
CREATED:20251125T154531Z
LAST-MODIFIED:20251125T154531Z
UID:10006193-1792580400-1792609200@communitycounsellingcentre.ca
SUMMARY:Sam
DESCRIPTION:
URL:https://communitycounsellingcentre.ca/event/sam/2026-10-21/
LOCATION:Room 1
CATEGORIES:Room 1
END:VEVENT
BEGIN:VEVENT
DTSTART;TZID=America/Edmonton:20261022T130000
DTEND;TZID=America/Edmonton:20261022T170000
DTSTAMP:20260423T151352
CREATED:20260317T233955Z
LAST-MODIFIED:20260317T233955Z
UID:10008192-1792674000-1792688400@communitycounsellingcentre.ca
SUMMARY:Sam
DESCRIPTION:
URL:https://communitycounsellingcentre.ca/event/sam-3/2026-10-22/
LOCATION:Room 1
CATEGORIES:Room 1
END:VEVENT
BEGIN:VEVENT
DTSTART;TZID=America/Edmonton:20261023T110000
DTEND;TZID=America/Edmonton:20261023T170000
DTSTAMP:20260423T151352
CREATED:20251126T024600Z
LAST-MODIFIED:20251126T024600Z
UID:10007616-1792753200-1792774800@communitycounsellingcentre.ca
SUMMARY:Desiree
DESCRIPTION:
URL:https://communitycounsellingcentre.ca/event/desiree-4/2026-10-23/
LOCATION:Room 1
CATEGORIES:Room 1
END:VEVENT
BEGIN:VEVENT
DTSTART;TZID=America/Edmonton:20261024T110000
DTEND;TZID=America/Edmonton:20261024T160000
DTSTAMP:20260423T151352
CREATED:20260105T163050Z
LAST-MODIFIED:20260105T163050Z
UID:10007749-1792839600-1792857600@communitycounsellingcentre.ca
SUMMARY:Sam
DESCRIPTION:
URL:https://communitycounsellingcentre.ca/event/sam-2/2026-10-24/
LOCATION:Room 1
CATEGORIES:Room 1
END:VEVENT
BEGIN:VEVENT
DTSTART;TZID=America/Edmonton:20261026T110000
DTEND;TZID=America/Edmonton:20261026T200000
DTSTAMP:20260423T151352
CREATED:20251126T024503Z
LAST-MODIFIED:20251126T024503Z
UID:10007564-1793012400-1793044800@communitycounsellingcentre.ca
SUMMARY:Desiree
DESCRIPTION:
URL:https://communitycounsellingcentre.ca/event/desiree-3/2026-10-26/
LOCATION:Room 1
CATEGORIES:Room 1
END:VEVENT
BEGIN:VEVENT
DTSTART;TZID=America/Edmonton:20261027T110000
DTEND;TZID=America/Edmonton:20261027T190000
DTSTAMP:20260423T151352
CREATED:20241127T172306Z
LAST-MODIFIED:20251126T022940Z
UID:10007198-1793098800-1793127600@communitycounsellingcentre.ca
SUMMARY:Sam
DESCRIPTION:
URL:https://communitycounsellingcentre.ca/event/sam-6-2-2/2026-10-27/
LOCATION:Room 1
CATEGORIES:Room 1
END:VEVENT
BEGIN:VEVENT
DTSTART;TZID=America/Edmonton:20261028T110000
DTEND;TZID=America/Edmonton:20261028T190000
DTSTAMP:20260423T151352
CREATED:20251125T154531Z
LAST-MODIFIED:20251125T154531Z
UID:10006194-1793185200-1793214000@communitycounsellingcentre.ca
SUMMARY:Sam
DESCRIPTION:
URL:https://communitycounsellingcentre.ca/event/sam/2026-10-28/
LOCATION:Room 1
CATEGORIES:Room 1
END:VEVENT
BEGIN:VEVENT
DTSTART;TZID=America/Edmonton:20261029T130000
DTEND;TZID=America/Edmonton:20261029T170000
DTSTAMP:20260423T151352
CREATED:20260317T233955Z
LAST-MODIFIED:20260317T233955Z
UID:10008193-1793278800-1793293200@communitycounsellingcentre.ca
SUMMARY:Sam
DESCRIPTION:
URL:https://communitycounsellingcentre.ca/event/sam-3/2026-10-29/
LOCATION:Room 1
CATEGORIES:Room 1
END:VEVENT
BEGIN:VEVENT
DTSTART;TZID=America/Edmonton:20261030T110000
DTEND;TZID=America/Edmonton:20261030T170000
DTSTAMP:20260423T151352
CREATED:20251126T024600Z
LAST-MODIFIED:20251126T024600Z
UID:10007617-1793358000-1793379600@communitycounsellingcentre.ca
SUMMARY:Desiree
DESCRIPTION:
URL:https://communitycounsellingcentre.ca/event/desiree-4/2026-10-30/
LOCATION:Room 1
CATEGORIES:Room 1
END:VEVENT
BEGIN:VEVENT
DTSTART;TZID=America/Edmonton:20261031T110000
DTEND;TZID=America/Edmonton:20261031T160000
DTSTAMP:20260423T151352
CREATED:20260105T163050Z
LAST-MODIFIED:20260105T163050Z
UID:10007750-1793444400-1793462400@communitycounsellingcentre.ca
SUMMARY:Sam
DESCRIPTION:
URL:https://communitycounsellingcentre.ca/event/sam-2/2026-10-31/
LOCATION:Room 1
CATEGORIES:Room 1
END:VEVENT
BEGIN:VEVENT
DTSTART;TZID=America/Edmonton:20261102T110000
DTEND;TZID=America/Edmonton:20261102T200000
DTSTAMP:20260423T151352
CREATED:20251126T024503Z
LAST-MODIFIED:20251126T024503Z
UID:10007565-1793617200-1793649600@communitycounsellingcentre.ca
SUMMARY:Desiree
DESCRIPTION:
URL:https://communitycounsellingcentre.ca/event/desiree-3/2026-11-02/
LOCATION:Room 1
CATEGORIES:Room 1
END:VEVENT
BEGIN:VEVENT
DTSTART;TZID=America/Edmonton:20261103T110000
DTEND;TZID=America/Edmonton:20261103T190000
DTSTAMP:20260423T151352
CREATED:20241127T172306Z
LAST-MODIFIED:20251126T022940Z
UID:10007199-1793703600-1793732400@communitycounsellingcentre.ca
SUMMARY:Sam
DESCRIPTION:
URL:https://communitycounsellingcentre.ca/event/sam-6-2-2/2026-11-03/
LOCATION:Room 1
CATEGORIES:Room 1
END:VEVENT
BEGIN:VEVENT
DTSTART;TZID=America/Edmonton:20261104T110000
DTEND;TZID=America/Edmonton:20261104T190000
DTSTAMP:20260423T151352
CREATED:20251125T154531Z
LAST-MODIFIED:20251125T154531Z
UID:10006195-1793790000-1793818800@communitycounsellingcentre.ca
SUMMARY:Sam
DESCRIPTION:
URL:https://communitycounsellingcentre.ca/event/sam/2026-11-04/
LOCATION:Room 1
CATEGORIES:Room 1
END:VEVENT
BEGIN:VEVENT
DTSTART;TZID=America/Edmonton:20261105T130000
DTEND;TZID=America/Edmonton:20261105T170000
DTSTAMP:20260423T151352
CREATED:20260317T233955Z
LAST-MODIFIED:20260317T233955Z
UID:10008194-1793883600-1793898000@communitycounsellingcentre.ca
SUMMARY:Sam
DESCRIPTION:
URL:https://communitycounsellingcentre.ca/event/sam-3/2026-11-05/
LOCATION:Room 1
CATEGORIES:Room 1
END:VEVENT
BEGIN:VEVENT
DTSTART;TZID=America/Edmonton:20261106T110000
DTEND;TZID=America/Edmonton:20261106T170000
DTSTAMP:20260423T151352
CREATED:20251126T024600Z
LAST-MODIFIED:20251126T024600Z
UID:10007618-1793962800-1793984400@communitycounsellingcentre.ca
SUMMARY:Desiree
DESCRIPTION:
URL:https://communitycounsellingcentre.ca/event/desiree-4/2026-11-06/
LOCATION:Room 1
CATEGORIES:Room 1
END:VEVENT
BEGIN:VEVENT
DTSTART;TZID=America/Edmonton:20261107T110000
DTEND;TZID=America/Edmonton:20261107T160000
DTSTAMP:20260423T151352
CREATED:20260105T163050Z
LAST-MODIFIED:20260105T163050Z
UID:10007751-1794049200-1794067200@communitycounsellingcentre.ca
SUMMARY:Sam
DESCRIPTION:
URL:https://communitycounsellingcentre.ca/event/sam-2/2026-11-07/
LOCATION:Room 1
CATEGORIES:Room 1
END:VEVENT
BEGIN:VEVENT
DTSTART;TZID=America/Edmonton:20261109T110000
DTEND;TZID=America/Edmonton:20261109T200000
DTSTAMP:20260423T151352
CREATED:20251126T024503Z
LAST-MODIFIED:20251126T024503Z
UID:10007566-1794222000-1794254400@communitycounsellingcentre.ca
SUMMARY:Desiree
DESCRIPTION:
URL:https://communitycounsellingcentre.ca/event/desiree-3/2026-11-09/
LOCATION:Room 1
CATEGORIES:Room 1
END:VEVENT
BEGIN:VEVENT
DTSTART;TZID=America/Edmonton:20261110T110000
DTEND;TZID=America/Edmonton:20261110T190000
DTSTAMP:20260423T151352
CREATED:20241127T172306Z
LAST-MODIFIED:20251126T022940Z
UID:10007200-1794308400-1794337200@communitycounsellingcentre.ca
SUMMARY:Sam
DESCRIPTION:
URL:https://communitycounsellingcentre.ca/event/sam-6-2-2/2026-11-10/
LOCATION:Room 1
CATEGORIES:Room 1
END:VEVENT
BEGIN:VEVENT
DTSTART;TZID=America/Edmonton:20261111T110000
DTEND;TZID=America/Edmonton:20261111T190000
DTSTAMP:20260423T151352
CREATED:20251125T154531Z
LAST-MODIFIED:20251125T154531Z
UID:10006196-1794394800-1794423600@communitycounsellingcentre.ca
SUMMARY:Sam
DESCRIPTION:
URL:https://communitycounsellingcentre.ca/event/sam/2026-11-11/
LOCATION:Room 1
CATEGORIES:Room 1
END:VEVENT
END:VCALENDAR