BEGIN:VCALENDAR
VERSION:2.0
PRODID:-//Community Counselling Centre - ECPv6.13.1//NONSGML v1.0//EN
CALSCALE:GREGORIAN
METHOD:PUBLISH
X-WR-CALNAME:Community Counselling Centre
X-ORIGINAL-URL:https://communitycounsellingcentre.ca
X-WR-CALDESC:Events for Community Counselling Centre
REFRESH-INTERVAL;VALUE=DURATION:PT1H
X-Robots-Tag:noindex
X-PUBLISHED-TTL:PT1H
BEGIN:VTIMEZONE
TZID:America/Edmonton
BEGIN:DAYLIGHT
TZOFFSETFROM:-0700
TZOFFSETTO:-0600
TZNAME:MDT
DTSTART:20240310T090000
END:DAYLIGHT
BEGIN:STANDARD
TZOFFSETFROM:-0600
TZOFFSETTO:-0700
TZNAME:MST
DTSTART:20241103T080000
END:STANDARD
BEGIN:DAYLIGHT
TZOFFSETFROM:-0700
TZOFFSETTO:-0600
TZNAME:MDT
DTSTART:20250309T090000
END:DAYLIGHT
BEGIN:STANDARD
TZOFFSETFROM:-0600
TZOFFSETTO:-0700
TZNAME:MST
DTSTART:20251102T080000
END:STANDARD
END:VTIMEZONE
BEGIN:VEVENT
DTSTART;TZID=America/Edmonton:20250311T110000
DTEND;TZID=America/Edmonton:20250311T190000
DTSTAMP:20260423T223716
CREATED:20241127T172306Z
LAST-MODIFIED:20251126T022940Z
UID:10006103-1741690800-1741719600@communitycounsellingcentre.ca
SUMMARY:Sam
DESCRIPTION:
URL:https://communitycounsellingcentre.ca/event/sam-6-2-2/2025-03-11/
LOCATION:Room 1
CATEGORIES:Room 1
END:VEVENT
BEGIN:VEVENT
DTSTART;TZID=America/Edmonton:20250304T110000
DTEND;TZID=America/Edmonton:20250304T190000
DTSTAMP:20260423T223716
CREATED:20241127T172306Z
LAST-MODIFIED:20251126T022940Z
UID:10006102-1741086000-1741114800@communitycounsellingcentre.ca
SUMMARY:Sam
DESCRIPTION:
URL:https://communitycounsellingcentre.ca/event/sam-6-2-2/2025-03-04/
LOCATION:Room 1
CATEGORIES:Room 1
END:VEVENT
BEGIN:VEVENT
DTSTART;TZID=America/Edmonton:20250225T110000
DTEND;TZID=America/Edmonton:20250225T190000
DTSTAMP:20260423T223716
CREATED:20241127T172306Z
LAST-MODIFIED:20251126T022940Z
UID:10006101-1740481200-1740510000@communitycounsellingcentre.ca
SUMMARY:Sam
DESCRIPTION:
URL:https://communitycounsellingcentre.ca/event/sam-6-2-2/2025-02-25/
LOCATION:Room 1
CATEGORIES:Room 1
END:VEVENT
BEGIN:VEVENT
DTSTART;TZID=America/Edmonton:20250218T110000
DTEND;TZID=America/Edmonton:20250218T190000
DTSTAMP:20260423T223716
CREATED:20241127T172306Z
LAST-MODIFIED:20251126T022940Z
UID:10006100-1739876400-1739905200@communitycounsellingcentre.ca
SUMMARY:Sam
DESCRIPTION:
URL:https://communitycounsellingcentre.ca/event/sam-6-2-2/2025-02-18/
LOCATION:Room 1
CATEGORIES:Room 1
END:VEVENT
BEGIN:VEVENT
DTSTART;TZID=America/Edmonton:20250211T110000
DTEND;TZID=America/Edmonton:20250211T190000
DTSTAMP:20260423T223716
CREATED:20241127T172306Z
LAST-MODIFIED:20251126T022940Z
UID:10006099-1739271600-1739300400@communitycounsellingcentre.ca
SUMMARY:Sam
DESCRIPTION:
URL:https://communitycounsellingcentre.ca/event/sam-6-2-2/2025-02-11/
LOCATION:Room 1
CATEGORIES:Room 1
END:VEVENT
BEGIN:VEVENT
DTSTART;TZID=America/Edmonton:20250204T110000
DTEND;TZID=America/Edmonton:20250204T190000
DTSTAMP:20260423T223716
CREATED:20241127T172306Z
LAST-MODIFIED:20251126T022940Z
UID:10006098-1738666800-1738695600@communitycounsellingcentre.ca
SUMMARY:Sam
DESCRIPTION:
URL:https://communitycounsellingcentre.ca/event/sam-6-2-2/2025-02-04/
LOCATION:Room 1
CATEGORIES:Room 1
END:VEVENT
BEGIN:VEVENT
DTSTART;TZID=America/Edmonton:20250128T110000
DTEND;TZID=America/Edmonton:20250128T190000
DTSTAMP:20260423T223716
CREATED:20241127T172306Z
LAST-MODIFIED:20251126T022940Z
UID:10006097-1738062000-1738090800@communitycounsellingcentre.ca
SUMMARY:Sam
DESCRIPTION:
URL:https://communitycounsellingcentre.ca/event/sam-6-2-2/2025-01-28/
LOCATION:Room 1
CATEGORIES:Room 1
END:VEVENT
BEGIN:VEVENT
DTSTART;TZID=America/Edmonton:20250121T110000
DTEND;TZID=America/Edmonton:20250121T190000
DTSTAMP:20260423T223716
CREATED:20241127T172306Z
LAST-MODIFIED:20251126T022940Z
UID:10006096-1737457200-1737486000@communitycounsellingcentre.ca
SUMMARY:Sam
DESCRIPTION:
URL:https://communitycounsellingcentre.ca/event/sam-6-2-2/2025-01-21/
LOCATION:Room 1
CATEGORIES:Room 1
END:VEVENT
BEGIN:VEVENT
DTSTART;TZID=America/Edmonton:20250114T110000
DTEND;TZID=America/Edmonton:20250114T190000
DTSTAMP:20260423T223716
CREATED:20241127T172306Z
LAST-MODIFIED:20251126T022940Z
UID:10006095-1736852400-1736881200@communitycounsellingcentre.ca
SUMMARY:Sam
DESCRIPTION:
URL:https://communitycounsellingcentre.ca/event/sam-6-2-2/2025-01-14/
LOCATION:Room 1
CATEGORIES:Room 1
END:VEVENT
BEGIN:VEVENT
DTSTART;TZID=America/Edmonton:20250107T110000
DTEND;TZID=America/Edmonton:20250107T190000
DTSTAMP:20260423T223716
CREATED:20241127T172306Z
LAST-MODIFIED:20251126T022940Z
UID:10006094-1736247600-1736276400@communitycounsellingcentre.ca
SUMMARY:Sam
DESCRIPTION:
URL:https://communitycounsellingcentre.ca/event/sam-6-2-2/2025-01-07/
LOCATION:Room 1
CATEGORIES:Room 1
END:VEVENT
BEGIN:VEVENT
DTSTART;TZID=America/Edmonton:20241231T110000
DTEND;TZID=America/Edmonton:20241231T190000
DTSTAMP:20260423T223716
CREATED:20241127T172306Z
LAST-MODIFIED:20251126T022940Z
UID:10006093-1735642800-1735671600@communitycounsellingcentre.ca
SUMMARY:Sam
DESCRIPTION:
URL:https://communitycounsellingcentre.ca/event/sam-6-2-2/2024-12-31/
LOCATION:Room 1
CATEGORIES:Room 1
END:VEVENT
BEGIN:VEVENT
DTSTART;TZID=America/Edmonton:20241224T110000
DTEND;TZID=America/Edmonton:20241224T190000
DTSTAMP:20260423T223716
CREATED:20241127T172306Z
LAST-MODIFIED:20251126T022940Z
UID:10006092-1735038000-1735066800@communitycounsellingcentre.ca
SUMMARY:Sam
DESCRIPTION:
URL:https://communitycounsellingcentre.ca/event/sam-6-2-2/2024-12-24/
LOCATION:Room 1
CATEGORIES:Room 1
END:VEVENT
BEGIN:VEVENT
DTSTART;TZID=America/Edmonton:20241217T110000
DTEND;TZID=America/Edmonton:20241217T190000
DTSTAMP:20260423T223716
CREATED:20241127T172306Z
LAST-MODIFIED:20251126T022940Z
UID:10006091-1734433200-1734462000@communitycounsellingcentre.ca
SUMMARY:Sam
DESCRIPTION:
URL:https://communitycounsellingcentre.ca/event/sam-6-2-2/2024-12-17/
LOCATION:Room 1
CATEGORIES:Room 1
END:VEVENT
BEGIN:VEVENT
DTSTART;TZID=America/Edmonton:20241210T110000
DTEND;TZID=America/Edmonton:20241210T190000
DTSTAMP:20260423T223716
CREATED:20241127T172306Z
LAST-MODIFIED:20251126T022940Z
UID:10006090-1733828400-1733857200@communitycounsellingcentre.ca
SUMMARY:Sam
DESCRIPTION:
URL:https://communitycounsellingcentre.ca/event/sam-6-2-2/2024-12-10/
LOCATION:Room 1
CATEGORIES:Room 1
END:VEVENT
BEGIN:VEVENT
DTSTART;TZID=America/Edmonton:20241203T110000
DTEND;TZID=America/Edmonton:20241203T190000
DTSTAMP:20260423T223716
CREATED:20241127T172306Z
LAST-MODIFIED:20251126T022940Z
UID:10006089-1733223600-1733252400@communitycounsellingcentre.ca
SUMMARY:Sam
DESCRIPTION:
URL:https://communitycounsellingcentre.ca/event/sam-6-2-2/2024-12-03/
LOCATION:Room 1
CATEGORIES:Room 1
END:VEVENT
END:VCALENDAR