BEGIN:VCALENDAR
VERSION:2.0
PRODID:-//Community Counselling Centre - ECPv6.13.1//NONSGML v1.0//EN
CALSCALE:GREGORIAN
METHOD:PUBLISH
X-ORIGINAL-URL:https://communitycounsellingcentre.ca
X-WR-CALDESC:Events for Community Counselling Centre
REFRESH-INTERVAL;VALUE=DURATION:PT1H
X-Robots-Tag:noindex
X-PUBLISHED-TTL:PT1H
BEGIN:VTIMEZONE
TZID:America/Edmonton
BEGIN:DAYLIGHT
TZOFFSETFROM:-0700
TZOFFSETTO:-0600
TZNAME:MDT
DTSTART:20260308T090000
END:DAYLIGHT
BEGIN:STANDARD
TZOFFSETFROM:-0600
TZOFFSETTO:-0700
TZNAME:MST
DTSTART:20261101T080000
END:STANDARD
END:VTIMEZONE
BEGIN:VEVENT
DTSTART;TZID=America/Edmonton:20261120T110000
DTEND;TZID=America/Edmonton:20261120T170000
DTSTAMP:20260423T192610
CREATED:20251126T024600Z
LAST-MODIFIED:20251126T024600Z
UID:10007620-1795172400-1795194000@communitycounsellingcentre.ca
SUMMARY:Desiree
DESCRIPTION:
URL:https://communitycounsellingcentre.ca/event/desiree-4/2026-11-20/
LOCATION:Room 1
CATEGORIES:Room 1
END:VEVENT
BEGIN:VEVENT
DTSTART;TZID=America/Edmonton:20261121T110000
DTEND;TZID=America/Edmonton:20261121T160000
DTSTAMP:20260423T192610
CREATED:20260105T163050Z
LAST-MODIFIED:20260105T163050Z
UID:10007753-1795258800-1795276800@communitycounsellingcentre.ca
SUMMARY:Sam
DESCRIPTION:
URL:https://communitycounsellingcentre.ca/event/sam-2/2026-11-21/
LOCATION:Room 1
CATEGORIES:Room 1
END:VEVENT
BEGIN:VEVENT
DTSTART;TZID=America/Edmonton:20261123T110000
DTEND;TZID=America/Edmonton:20261123T200000
DTSTAMP:20260423T192610
CREATED:20251126T024503Z
LAST-MODIFIED:20251126T024503Z
UID:10007568-1795431600-1795464000@communitycounsellingcentre.ca
SUMMARY:Desiree
DESCRIPTION:
URL:https://communitycounsellingcentre.ca/event/desiree-3/2026-11-23/
LOCATION:Room 1
CATEGORIES:Room 1
END:VEVENT
BEGIN:VEVENT
DTSTART;TZID=America/Edmonton:20261124T110000
DTEND;TZID=America/Edmonton:20261124T190000
DTSTAMP:20260423T192610
CREATED:20241127T172306Z
LAST-MODIFIED:20251126T022940Z
UID:10007202-1795518000-1795546800@communitycounsellingcentre.ca
SUMMARY:Sam
DESCRIPTION:
URL:https://communitycounsellingcentre.ca/event/sam-6-2-2/2026-11-24/
LOCATION:Room 1
CATEGORIES:Room 1
END:VEVENT
BEGIN:VEVENT
DTSTART;TZID=America/Edmonton:20261125T110000
DTEND;TZID=America/Edmonton:20261125T190000
DTSTAMP:20260423T192610
CREATED:20251125T154531Z
LAST-MODIFIED:20251125T154531Z
UID:10006198-1795604400-1795633200@communitycounsellingcentre.ca
SUMMARY:Sam
DESCRIPTION:
URL:https://communitycounsellingcentre.ca/event/sam/2026-11-25/
LOCATION:Room 1
CATEGORIES:Room 1
END:VEVENT
BEGIN:VEVENT
DTSTART;TZID=America/Edmonton:20261126T130000
DTEND;TZID=America/Edmonton:20261126T170000
DTSTAMP:20260423T192610
CREATED:20260317T233955Z
LAST-MODIFIED:20260317T233955Z
UID:10008197-1795698000-1795712400@communitycounsellingcentre.ca
SUMMARY:Sam
DESCRIPTION:
URL:https://communitycounsellingcentre.ca/event/sam-3/2026-11-26/
LOCATION:Room 1
CATEGORIES:Room 1
END:VEVENT
BEGIN:VEVENT
DTSTART;TZID=America/Edmonton:20261127T110000
DTEND;TZID=America/Edmonton:20261127T170000
DTSTAMP:20260423T192610
CREATED:20251126T024600Z
LAST-MODIFIED:20251126T024600Z
UID:10007621-1795777200-1795798800@communitycounsellingcentre.ca
SUMMARY:Desiree
DESCRIPTION:
URL:https://communitycounsellingcentre.ca/event/desiree-4/2026-11-27/
LOCATION:Room 1
CATEGORIES:Room 1
END:VEVENT
BEGIN:VEVENT
DTSTART;TZID=America/Edmonton:20261128T110000
DTEND;TZID=America/Edmonton:20261128T160000
DTSTAMP:20260423T192610
CREATED:20260105T163050Z
LAST-MODIFIED:20260105T163050Z
UID:10007754-1795863600-1795881600@communitycounsellingcentre.ca
SUMMARY:Sam
DESCRIPTION:
URL:https://communitycounsellingcentre.ca/event/sam-2/2026-11-28/
LOCATION:Room 1
CATEGORIES:Room 1
END:VEVENT
BEGIN:VEVENT
DTSTART;TZID=America/Edmonton:20261130T110000
DTEND;TZID=America/Edmonton:20261130T200000
DTSTAMP:20260423T192610
CREATED:20251126T024503Z
LAST-MODIFIED:20251126T024503Z
UID:10007569-1796036400-1796068800@communitycounsellingcentre.ca
SUMMARY:Desiree
DESCRIPTION:
URL:https://communitycounsellingcentre.ca/event/desiree-3/2026-11-30/
LOCATION:Room 1
CATEGORIES:Room 1
END:VEVENT
BEGIN:VEVENT
DTSTART;TZID=America/Edmonton:20261201T110000
DTEND;TZID=America/Edmonton:20261201T190000
DTSTAMP:20260423T192610
CREATED:20241127T172306Z
LAST-MODIFIED:20251126T022940Z
UID:10007203-1796122800-1796151600@communitycounsellingcentre.ca
SUMMARY:Sam
DESCRIPTION:
URL:https://communitycounsellingcentre.ca/event/sam-6-2-2/2026-12-01/
LOCATION:Room 1
CATEGORIES:Room 1
END:VEVENT
BEGIN:VEVENT
DTSTART;TZID=America/Edmonton:20261202T110000
DTEND;TZID=America/Edmonton:20261202T190000
DTSTAMP:20260423T192610
CREATED:20251125T154531Z
LAST-MODIFIED:20251125T154531Z
UID:10006199-1796209200-1796238000@communitycounsellingcentre.ca
SUMMARY:Sam
DESCRIPTION:
URL:https://communitycounsellingcentre.ca/event/sam/2026-12-02/
LOCATION:Room 1
CATEGORIES:Room 1
END:VEVENT
BEGIN:VEVENT
DTSTART;TZID=America/Edmonton:20261203T130000
DTEND;TZID=America/Edmonton:20261203T170000
DTSTAMP:20260423T192610
CREATED:20260317T233955Z
LAST-MODIFIED:20260317T233955Z
UID:10008198-1796302800-1796317200@communitycounsellingcentre.ca
SUMMARY:Sam
DESCRIPTION:
URL:https://communitycounsellingcentre.ca/event/sam-3/2026-12-03/
LOCATION:Room 1
CATEGORIES:Room 1
END:VEVENT
BEGIN:VEVENT
DTSTART;TZID=America/Edmonton:20261204T110000
DTEND;TZID=America/Edmonton:20261204T170000
DTSTAMP:20260423T192610
CREATED:20251126T024600Z
LAST-MODIFIED:20251126T024600Z
UID:10007622-1796382000-1796403600@communitycounsellingcentre.ca
SUMMARY:Desiree
DESCRIPTION:
URL:https://communitycounsellingcentre.ca/event/desiree-4/2026-12-04/
LOCATION:Room 1
CATEGORIES:Room 1
END:VEVENT
BEGIN:VEVENT
DTSTART;TZID=America/Edmonton:20261205T110000
DTEND;TZID=America/Edmonton:20261205T160000
DTSTAMP:20260423T192610
CREATED:20260105T163050Z
LAST-MODIFIED:20260105T163050Z
UID:10007755-1796468400-1796486400@communitycounsellingcentre.ca
SUMMARY:Sam
DESCRIPTION:
URL:https://communitycounsellingcentre.ca/event/sam-2/2026-12-05/
LOCATION:Room 1
CATEGORIES:Room 1
END:VEVENT
BEGIN:VEVENT
DTSTART;TZID=America/Edmonton:20261207T110000
DTEND;TZID=America/Edmonton:20261207T200000
DTSTAMP:20260423T192610
CREATED:20251126T024503Z
LAST-MODIFIED:20251126T024503Z
UID:10007570-1796641200-1796673600@communitycounsellingcentre.ca
SUMMARY:Desiree
DESCRIPTION:
URL:https://communitycounsellingcentre.ca/event/desiree-3/2026-12-07/
LOCATION:Room 1
CATEGORIES:Room 1
END:VEVENT
BEGIN:VEVENT
DTSTART;TZID=America/Edmonton:20261208T110000
DTEND;TZID=America/Edmonton:20261208T190000
DTSTAMP:20260423T192610
CREATED:20241127T172306Z
LAST-MODIFIED:20251126T022940Z
UID:10007204-1796727600-1796756400@communitycounsellingcentre.ca
SUMMARY:Sam
DESCRIPTION:
URL:https://communitycounsellingcentre.ca/event/sam-6-2-2/2026-12-08/
LOCATION:Room 1
CATEGORIES:Room 1
END:VEVENT
BEGIN:VEVENT
DTSTART;TZID=America/Edmonton:20261209T110000
DTEND;TZID=America/Edmonton:20261209T190000
DTSTAMP:20260423T192610
CREATED:20251125T154531Z
LAST-MODIFIED:20251125T154531Z
UID:10006200-1796814000-1796842800@communitycounsellingcentre.ca
SUMMARY:Sam
DESCRIPTION:
URL:https://communitycounsellingcentre.ca/event/sam/2026-12-09/
LOCATION:Room 1
CATEGORIES:Room 1
END:VEVENT
BEGIN:VEVENT
DTSTART;TZID=America/Edmonton:20261210T130000
DTEND;TZID=America/Edmonton:20261210T170000
DTSTAMP:20260423T192610
CREATED:20260317T233955Z
LAST-MODIFIED:20260317T233955Z
UID:10008199-1796907600-1796922000@communitycounsellingcentre.ca
SUMMARY:Sam
DESCRIPTION:
URL:https://communitycounsellingcentre.ca/event/sam-3/2026-12-10/
LOCATION:Room 1
CATEGORIES:Room 1
END:VEVENT
BEGIN:VEVENT
DTSTART;TZID=America/Edmonton:20261211T110000
DTEND;TZID=America/Edmonton:20261211T170000
DTSTAMP:20260423T192610
CREATED:20251126T024600Z
LAST-MODIFIED:20251126T024600Z
UID:10007623-1796986800-1797008400@communitycounsellingcentre.ca
SUMMARY:Desiree
DESCRIPTION:
URL:https://communitycounsellingcentre.ca/event/desiree-4/2026-12-11/
LOCATION:Room 1
CATEGORIES:Room 1
END:VEVENT
BEGIN:VEVENT
DTSTART;TZID=America/Edmonton:20261212T110000
DTEND;TZID=America/Edmonton:20261212T160000
DTSTAMP:20260423T192610
CREATED:20260105T163050Z
LAST-MODIFIED:20260105T163050Z
UID:10007756-1797073200-1797091200@communitycounsellingcentre.ca
SUMMARY:Sam
DESCRIPTION:
URL:https://communitycounsellingcentre.ca/event/sam-2/2026-12-12/
LOCATION:Room 1
CATEGORIES:Room 1
END:VEVENT
BEGIN:VEVENT
DTSTART;TZID=America/Edmonton:20261214T110000
DTEND;TZID=America/Edmonton:20261214T200000
DTSTAMP:20260423T192610
CREATED:20251126T024503Z
LAST-MODIFIED:20251126T024503Z
UID:10007571-1797246000-1797278400@communitycounsellingcentre.ca
SUMMARY:Desiree
DESCRIPTION:
URL:https://communitycounsellingcentre.ca/event/desiree-3/2026-12-14/
LOCATION:Room 1
CATEGORIES:Room 1
END:VEVENT
BEGIN:VEVENT
DTSTART;TZID=America/Edmonton:20261215T110000
DTEND;TZID=America/Edmonton:20261215T190000
DTSTAMP:20260423T192610
CREATED:20241127T172306Z
LAST-MODIFIED:20251126T022940Z
UID:10007205-1797332400-1797361200@communitycounsellingcentre.ca
SUMMARY:Sam
DESCRIPTION:
URL:https://communitycounsellingcentre.ca/event/sam-6-2-2/2026-12-15/
LOCATION:Room 1
CATEGORIES:Room 1
END:VEVENT
BEGIN:VEVENT
DTSTART;TZID=America/Edmonton:20261216T110000
DTEND;TZID=America/Edmonton:20261216T190000
DTSTAMP:20260423T192610
CREATED:20251125T154531Z
LAST-MODIFIED:20251125T154531Z
UID:10006201-1797418800-1797447600@communitycounsellingcentre.ca
SUMMARY:Sam
DESCRIPTION:
URL:https://communitycounsellingcentre.ca/event/sam/2026-12-16/
LOCATION:Room 1
CATEGORIES:Room 1
END:VEVENT
BEGIN:VEVENT
DTSTART;TZID=America/Edmonton:20261217T130000
DTEND;TZID=America/Edmonton:20261217T170000
DTSTAMP:20260423T192610
CREATED:20260317T233955Z
LAST-MODIFIED:20260317T233955Z
UID:10008200-1797512400-1797526800@communitycounsellingcentre.ca
SUMMARY:Sam
DESCRIPTION:
URL:https://communitycounsellingcentre.ca/event/sam-3/2026-12-17/
LOCATION:Room 1
CATEGORIES:Room 1
END:VEVENT
BEGIN:VEVENT
DTSTART;TZID=America/Edmonton:20261218T110000
DTEND;TZID=America/Edmonton:20261218T170000
DTSTAMP:20260423T192610
CREATED:20251126T024600Z
LAST-MODIFIED:20251126T024600Z
UID:10007624-1797591600-1797613200@communitycounsellingcentre.ca
SUMMARY:Desiree
DESCRIPTION:
URL:https://communitycounsellingcentre.ca/event/desiree-4/2026-12-18/
LOCATION:Room 1
CATEGORIES:Room 1
END:VEVENT
BEGIN:VEVENT
DTSTART;TZID=America/Edmonton:20261219T110000
DTEND;TZID=America/Edmonton:20261219T160000
DTSTAMP:20260423T192610
CREATED:20260105T163050Z
LAST-MODIFIED:20260105T163050Z
UID:10007757-1797678000-1797696000@communitycounsellingcentre.ca
SUMMARY:Sam
DESCRIPTION:
URL:https://communitycounsellingcentre.ca/event/sam-2/2026-12-19/
LOCATION:Room 1
CATEGORIES:Room 1
END:VEVENT
BEGIN:VEVENT
DTSTART;TZID=America/Edmonton:20261221T110000
DTEND;TZID=America/Edmonton:20261221T200000
DTSTAMP:20260423T192610
CREATED:20251126T024503Z
LAST-MODIFIED:20251126T024503Z
UID:10007572-1797850800-1797883200@communitycounsellingcentre.ca
SUMMARY:Desiree
DESCRIPTION:
URL:https://communitycounsellingcentre.ca/event/desiree-3/2026-12-21/
LOCATION:Room 1
CATEGORIES:Room 1
END:VEVENT
BEGIN:VEVENT
DTSTART;TZID=America/Edmonton:20261222T110000
DTEND;TZID=America/Edmonton:20261222T190000
DTSTAMP:20260423T192610
CREATED:20241127T172306Z
LAST-MODIFIED:20251126T022940Z
UID:10007206-1797937200-1797966000@communitycounsellingcentre.ca
SUMMARY:Sam
DESCRIPTION:
URL:https://communitycounsellingcentre.ca/event/sam-6-2-2/2026-12-22/
LOCATION:Room 1
CATEGORIES:Room 1
END:VEVENT
BEGIN:VEVENT
DTSTART;TZID=America/Edmonton:20261223T110000
DTEND;TZID=America/Edmonton:20261223T190000
DTSTAMP:20260423T192610
CREATED:20251125T154531Z
LAST-MODIFIED:20251125T154531Z
UID:10006202-1798023600-1798052400@communitycounsellingcentre.ca
SUMMARY:Sam
DESCRIPTION:
URL:https://communitycounsellingcentre.ca/event/sam/2026-12-23/
LOCATION:Room 1
CATEGORIES:Room 1
END:VEVENT
BEGIN:VEVENT
DTSTART;TZID=America/Edmonton:20261224T130000
DTEND;TZID=America/Edmonton:20261224T170000
DTSTAMP:20260423T192610
CREATED:20260317T233955Z
LAST-MODIFIED:20260317T233955Z
UID:10008201-1798117200-1798131600@communitycounsellingcentre.ca
SUMMARY:Sam
DESCRIPTION:
URL:https://communitycounsellingcentre.ca/event/sam-3/2026-12-24/
LOCATION:Room 1
CATEGORIES:Room 1
END:VEVENT
END:VCALENDAR