BEGIN:VCALENDAR
VERSION:2.0
PRODID:-//Community Counselling Centre - ECPv6.13.1//NONSGML v1.0//EN
CALSCALE:GREGORIAN
METHOD:PUBLISH
X-ORIGINAL-URL:https://communitycounsellingcentre.ca
X-WR-CALDESC:Events for Community Counselling Centre
REFRESH-INTERVAL;VALUE=DURATION:PT1H
X-Robots-Tag:noindex
X-PUBLISHED-TTL:PT1H
BEGIN:VTIMEZONE
TZID:America/Edmonton
BEGIN:DAYLIGHT
TZOFFSETFROM:-0700
TZOFFSETTO:-0600
TZNAME:MDT
DTSTART:20260308T090000
END:DAYLIGHT
BEGIN:STANDARD
TZOFFSETFROM:-0600
TZOFFSETTO:-0700
TZNAME:MST
DTSTART:20261101T080000
END:STANDARD
END:VTIMEZONE
BEGIN:VEVENT
DTSTART;TZID=America/Edmonton:20260407T110000
DTEND;TZID=America/Edmonton:20260407T190000
DTSTAMP:20260422T184327
CREATED:20241127T172306Z
LAST-MODIFIED:20251126T022940Z
UID:10007169-1775559600-1775588400@communitycounsellingcentre.ca
SUMMARY:Sam
DESCRIPTION:
URL:https://communitycounsellingcentre.ca/event/sam-6-2-2/2026-04-07/
LOCATION:Room 1
CATEGORIES:Room 1
END:VEVENT
BEGIN:VEVENT
DTSTART;TZID=America/Edmonton:20260406T110000
DTEND;TZID=America/Edmonton:20260406T200000
DTSTAMP:20260422T184327
CREATED:20251126T024503Z
LAST-MODIFIED:20251126T024503Z
UID:10007535-1775473200-1775505600@communitycounsellingcentre.ca
SUMMARY:Desiree
DESCRIPTION:
URL:https://communitycounsellingcentre.ca/event/desiree-3/2026-04-06/
LOCATION:Room 1
CATEGORIES:Room 1
END:VEVENT
BEGIN:VEVENT
DTSTART;TZID=America/Edmonton:20260404T110000
DTEND;TZID=America/Edmonton:20260404T160000
DTSTAMP:20260422T184327
CREATED:20260105T163050Z
LAST-MODIFIED:20260105T163050Z
UID:10007720-1775300400-1775318400@communitycounsellingcentre.ca
SUMMARY:Sam
DESCRIPTION:
URL:https://communitycounsellingcentre.ca/event/sam-2/2026-04-04/
LOCATION:Room 1
CATEGORIES:Room 1
END:VEVENT
BEGIN:VEVENT
DTSTART;TZID=America/Edmonton:20260403T110000
DTEND;TZID=America/Edmonton:20260403T170000
DTSTAMP:20260422T184327
CREATED:20251126T024600Z
LAST-MODIFIED:20251126T024600Z
UID:10007587-1775214000-1775235600@communitycounsellingcentre.ca
SUMMARY:Desiree
DESCRIPTION:
URL:https://communitycounsellingcentre.ca/event/desiree-4/2026-04-03/
LOCATION:Room 1
CATEGORIES:Room 1
END:VEVENT
BEGIN:VEVENT
DTSTART;TZID=America/Edmonton:20260402T130000
DTEND;TZID=America/Edmonton:20260402T170000
DTSTAMP:20260422T184327
CREATED:20260317T233955Z
LAST-MODIFIED:20260317T233955Z
UID:10008163-1775134800-1775149200@communitycounsellingcentre.ca
SUMMARY:Sam
DESCRIPTION:
URL:https://communitycounsellingcentre.ca/event/sam-3/2026-04-02/
LOCATION:Room 1
CATEGORIES:Room 1
END:VEVENT
BEGIN:VEVENT
DTSTART;TZID=America/Edmonton:20260401T110000
DTEND;TZID=America/Edmonton:20260401T190000
DTSTAMP:20260422T184327
CREATED:20251125T154531Z
LAST-MODIFIED:20251125T154531Z
UID:10006164-1775041200-1775070000@communitycounsellingcentre.ca
SUMMARY:Sam
DESCRIPTION:
URL:https://communitycounsellingcentre.ca/event/sam/2026-04-01/
LOCATION:Room 1
CATEGORIES:Room 1
END:VEVENT
BEGIN:VEVENT
DTSTART;TZID=America/Edmonton:20260331T110000
DTEND;TZID=America/Edmonton:20260331T190000
DTSTAMP:20260422T184327
CREATED:20241127T172306Z
LAST-MODIFIED:20251126T022940Z
UID:10007168-1774954800-1774983600@communitycounsellingcentre.ca
SUMMARY:Sam
DESCRIPTION:
URL:https://communitycounsellingcentre.ca/event/sam-6-2-2/2026-03-31/
LOCATION:Room 1
CATEGORIES:Room 1
END:VEVENT
BEGIN:VEVENT
DTSTART;TZID=America/Edmonton:20260330T110000
DTEND;TZID=America/Edmonton:20260330T200000
DTSTAMP:20260422T184327
CREATED:20251126T024503Z
LAST-MODIFIED:20251126T024503Z
UID:10007534-1774868400-1774900800@communitycounsellingcentre.ca
SUMMARY:Desiree
DESCRIPTION:
URL:https://communitycounsellingcentre.ca/event/desiree-3/2026-03-30/
LOCATION:Room 1
CATEGORIES:Room 1
END:VEVENT
BEGIN:VEVENT
DTSTART;TZID=America/Edmonton:20260328T110000
DTEND;TZID=America/Edmonton:20260328T160000
DTSTAMP:20260422T184327
CREATED:20260105T163050Z
LAST-MODIFIED:20260105T163050Z
UID:10007719-1774695600-1774713600@communitycounsellingcentre.ca
SUMMARY:Sam
DESCRIPTION:
URL:https://communitycounsellingcentre.ca/event/sam-2/2026-03-28/
LOCATION:Room 1
CATEGORIES:Room 1
END:VEVENT
BEGIN:VEVENT
DTSTART;TZID=America/Edmonton:20260327T110000
DTEND;TZID=America/Edmonton:20260327T170000
DTSTAMP:20260422T184327
CREATED:20251126T024600Z
LAST-MODIFIED:20251126T024600Z
UID:10007586-1774609200-1774630800@communitycounsellingcentre.ca
SUMMARY:Desiree
DESCRIPTION:
URL:https://communitycounsellingcentre.ca/event/desiree-4/2026-03-27/
LOCATION:Room 1
CATEGORIES:Room 1
END:VEVENT
BEGIN:VEVENT
DTSTART;TZID=America/Edmonton:20260326T120000
DTEND;TZID=America/Edmonton:20260326T200000
DTSTAMP:20260422T184327
CREATED:20250320T170707Z
LAST-MODIFIED:20260317T233752Z
UID:10007011-1774526400-1774555200@communitycounsellingcentre.ca
SUMMARY:Sabrina
DESCRIPTION:
URL:https://communitycounsellingcentre.ca/event/sabrina-12/2026-03-26/
LOCATION:Room 1
CATEGORIES:Room 1
END:VEVENT
BEGIN:VEVENT
DTSTART;TZID=America/Edmonton:20260325T110000
DTEND;TZID=America/Edmonton:20260325T190000
DTSTAMP:20260422T184327
CREATED:20251125T154531Z
LAST-MODIFIED:20251125T154531Z
UID:10006163-1774436400-1774465200@communitycounsellingcentre.ca
SUMMARY:Sam
DESCRIPTION:
URL:https://communitycounsellingcentre.ca/event/sam/2026-03-25/
LOCATION:Room 1
CATEGORIES:Room 1
END:VEVENT
BEGIN:VEVENT
DTSTART;TZID=America/Edmonton:20260324T110000
DTEND;TZID=America/Edmonton:20260324T190000
DTSTAMP:20260422T184327
CREATED:20241127T172306Z
LAST-MODIFIED:20251126T022940Z
UID:10007167-1774350000-1774378800@communitycounsellingcentre.ca
SUMMARY:Sam
DESCRIPTION:
URL:https://communitycounsellingcentre.ca/event/sam-6-2-2/2026-03-24/
LOCATION:Room 1
CATEGORIES:Room 1
END:VEVENT
BEGIN:VEVENT
DTSTART;TZID=America/Edmonton:20260323T110000
DTEND;TZID=America/Edmonton:20260323T200000
DTSTAMP:20260422T184327
CREATED:20251126T024503Z
LAST-MODIFIED:20251126T024503Z
UID:10007533-1774263600-1774296000@communitycounsellingcentre.ca
SUMMARY:Desiree
DESCRIPTION:
URL:https://communitycounsellingcentre.ca/event/desiree-3/2026-03-23/
LOCATION:Room 1
CATEGORIES:Room 1
END:VEVENT
BEGIN:VEVENT
DTSTART;TZID=America/Edmonton:20260321T110000
DTEND;TZID=America/Edmonton:20260321T160000
DTSTAMP:20260422T184327
CREATED:20260105T163050Z
LAST-MODIFIED:20260105T163050Z
UID:10007718-1774090800-1774108800@communitycounsellingcentre.ca
SUMMARY:Sam
DESCRIPTION:
URL:https://communitycounsellingcentre.ca/event/sam-2/2026-03-21/
LOCATION:Room 1
CATEGORIES:Room 1
END:VEVENT
BEGIN:VEVENT
DTSTART;TZID=America/Edmonton:20260320T110000
DTEND;TZID=America/Edmonton:20260320T170000
DTSTAMP:20260422T184327
CREATED:20251126T024600Z
LAST-MODIFIED:20251126T024600Z
UID:10007585-1774004400-1774026000@communitycounsellingcentre.ca
SUMMARY:Desiree
DESCRIPTION:
URL:https://communitycounsellingcentre.ca/event/desiree-4/2026-03-20/
LOCATION:Room 1
CATEGORIES:Room 1
END:VEVENT
BEGIN:VEVENT
DTSTART;TZID=America/Edmonton:20260319T120000
DTEND;TZID=America/Edmonton:20260319T200000
DTSTAMP:20260422T184327
CREATED:20250320T170707Z
LAST-MODIFIED:20260317T233752Z
UID:10007010-1773921600-1773950400@communitycounsellingcentre.ca
SUMMARY:Sabrina
DESCRIPTION:
URL:https://communitycounsellingcentre.ca/event/sabrina-12/2026-03-19/
LOCATION:Room 1
CATEGORIES:Room 1
END:VEVENT
BEGIN:VEVENT
DTSTART;TZID=America/Edmonton:20260318T110000
DTEND;TZID=America/Edmonton:20260318T190000
DTSTAMP:20260422T184327
CREATED:20251125T154531Z
LAST-MODIFIED:20251125T154531Z
UID:10006162-1773831600-1773860400@communitycounsellingcentre.ca
SUMMARY:Sam
DESCRIPTION:
URL:https://communitycounsellingcentre.ca/event/sam/2026-03-18/
LOCATION:Room 1
CATEGORIES:Room 1
END:VEVENT
BEGIN:VEVENT
DTSTART;TZID=America/Edmonton:20260317T110000
DTEND;TZID=America/Edmonton:20260317T190000
DTSTAMP:20260422T184327
CREATED:20241127T172306Z
LAST-MODIFIED:20251126T022940Z
UID:10007166-1773745200-1773774000@communitycounsellingcentre.ca
SUMMARY:Sam
DESCRIPTION:
URL:https://communitycounsellingcentre.ca/event/sam-6-2-2/2026-03-17/
LOCATION:Room 1
CATEGORIES:Room 1
END:VEVENT
BEGIN:VEVENT
DTSTART;TZID=America/Edmonton:20260316T110000
DTEND;TZID=America/Edmonton:20260316T200000
DTSTAMP:20260422T184327
CREATED:20251126T024503Z
LAST-MODIFIED:20251126T024503Z
UID:10007532-1773658800-1773691200@communitycounsellingcentre.ca
SUMMARY:Desiree
DESCRIPTION:
URL:https://communitycounsellingcentre.ca/event/desiree-3/2026-03-16/
LOCATION:Room 1
CATEGORIES:Room 1
END:VEVENT
BEGIN:VEVENT
DTSTART;TZID=America/Edmonton:20260314T110000
DTEND;TZID=America/Edmonton:20260314T160000
DTSTAMP:20260422T184327
CREATED:20260105T163050Z
LAST-MODIFIED:20260105T163050Z
UID:10007717-1773486000-1773504000@communitycounsellingcentre.ca
SUMMARY:Sam
DESCRIPTION:
URL:https://communitycounsellingcentre.ca/event/sam-2/2026-03-14/
LOCATION:Room 1
CATEGORIES:Room 1
END:VEVENT
BEGIN:VEVENT
DTSTART;TZID=America/Edmonton:20260313T110000
DTEND;TZID=America/Edmonton:20260313T170000
DTSTAMP:20260422T184327
CREATED:20251126T024600Z
LAST-MODIFIED:20251126T024600Z
UID:10007584-1773399600-1773421200@communitycounsellingcentre.ca
SUMMARY:Desiree
DESCRIPTION:
URL:https://communitycounsellingcentre.ca/event/desiree-4/2026-03-13/
LOCATION:Room 1
CATEGORIES:Room 1
END:VEVENT
BEGIN:VEVENT
DTSTART;TZID=America/Edmonton:20260312T120000
DTEND;TZID=America/Edmonton:20260312T200000
DTSTAMP:20260422T184327
CREATED:20250320T170707Z
LAST-MODIFIED:20260317T233752Z
UID:10007009-1773316800-1773345600@communitycounsellingcentre.ca
SUMMARY:Sabrina
DESCRIPTION:
URL:https://communitycounsellingcentre.ca/event/sabrina-12/2026-03-12/
LOCATION:Room 1
CATEGORIES:Room 1
END:VEVENT
BEGIN:VEVENT
DTSTART;TZID=America/Edmonton:20260311T110000
DTEND;TZID=America/Edmonton:20260311T190000
DTSTAMP:20260422T184327
CREATED:20251125T154531Z
LAST-MODIFIED:20251125T154531Z
UID:10006161-1773226800-1773255600@communitycounsellingcentre.ca
SUMMARY:Sam
DESCRIPTION:
URL:https://communitycounsellingcentre.ca/event/sam/2026-03-11/
LOCATION:Room 1
CATEGORIES:Room 1
END:VEVENT
BEGIN:VEVENT
DTSTART;TZID=America/Edmonton:20260310T110000
DTEND;TZID=America/Edmonton:20260310T190000
DTSTAMP:20260422T184327
CREATED:20241127T172306Z
LAST-MODIFIED:20251126T022940Z
UID:10007165-1773140400-1773169200@communitycounsellingcentre.ca
SUMMARY:Sam
DESCRIPTION:
URL:https://communitycounsellingcentre.ca/event/sam-6-2-2/2026-03-10/
LOCATION:Room 1
CATEGORIES:Room 1
END:VEVENT
BEGIN:VEVENT
DTSTART;TZID=America/Edmonton:20260309T110000
DTEND;TZID=America/Edmonton:20260309T200000
DTSTAMP:20260422T184327
CREATED:20251126T024503Z
LAST-MODIFIED:20251126T024503Z
UID:10007531-1773054000-1773086400@communitycounsellingcentre.ca
SUMMARY:Desiree
DESCRIPTION:
URL:https://communitycounsellingcentre.ca/event/desiree-3/2026-03-09/
LOCATION:Room 1
CATEGORIES:Room 1
END:VEVENT
BEGIN:VEVENT
DTSTART;TZID=America/Edmonton:20260307T110000
DTEND;TZID=America/Edmonton:20260307T160000
DTSTAMP:20260422T184327
CREATED:20260105T163050Z
LAST-MODIFIED:20260105T163050Z
UID:10007716-1772881200-1772899200@communitycounsellingcentre.ca
SUMMARY:Sam
DESCRIPTION:
URL:https://communitycounsellingcentre.ca/event/sam-2/2026-03-07/
LOCATION:Room 1
CATEGORIES:Room 1
END:VEVENT
BEGIN:VEVENT
DTSTART;TZID=America/Edmonton:20260306T110000
DTEND;TZID=America/Edmonton:20260306T170000
DTSTAMP:20260422T184327
CREATED:20251126T024600Z
LAST-MODIFIED:20251126T024600Z
UID:10007583-1772794800-1772816400@communitycounsellingcentre.ca
SUMMARY:Desiree
DESCRIPTION:
URL:https://communitycounsellingcentre.ca/event/desiree-4/2026-03-06/
LOCATION:Room 1
CATEGORIES:Room 1
END:VEVENT
BEGIN:VEVENT
DTSTART;TZID=America/Edmonton:20260305T120000
DTEND;TZID=America/Edmonton:20260305T200000
DTSTAMP:20260422T184327
CREATED:20250320T170707Z
LAST-MODIFIED:20260317T233752Z
UID:10007008-1772712000-1772740800@communitycounsellingcentre.ca
SUMMARY:Sabrina
DESCRIPTION:
URL:https://communitycounsellingcentre.ca/event/sabrina-12/2026-03-05/
LOCATION:Room 1
CATEGORIES:Room 1
END:VEVENT
BEGIN:VEVENT
DTSTART;TZID=America/Edmonton:20260304T110000
DTEND;TZID=America/Edmonton:20260304T190000
DTSTAMP:20260422T184327
CREATED:20251125T154531Z
LAST-MODIFIED:20251125T154531Z
UID:10006160-1772622000-1772650800@communitycounsellingcentre.ca
SUMMARY:Sam
DESCRIPTION:
URL:https://communitycounsellingcentre.ca/event/sam/2026-03-04/
LOCATION:Room 1
CATEGORIES:Room 1
END:VEVENT
END:VCALENDAR