BEGIN:VCALENDAR
VERSION:2.0
PRODID:-//Community Counselling Centre - ECPv6.13.1//NONSGML v1.0//EN
CALSCALE:GREGORIAN
METHOD:PUBLISH
X-WR-CALNAME:Community Counselling Centre
X-ORIGINAL-URL:https://communitycounsellingcentre.ca
X-WR-CALDESC:Events for Community Counselling Centre
REFRESH-INTERVAL;VALUE=DURATION:PT1H
X-Robots-Tag:noindex
X-PUBLISHED-TTL:PT1H
BEGIN:VTIMEZONE
TZID:America/Edmonton
BEGIN:DAYLIGHT
TZOFFSETFROM:-0700
TZOFFSETTO:-0600
TZNAME:MDT
DTSTART:20260308T090000
END:DAYLIGHT
BEGIN:STANDARD
TZOFFSETFROM:-0600
TZOFFSETTO:-0700
TZNAME:MST
DTSTART:20261101T080000
END:STANDARD
END:VTIMEZONE
BEGIN:VEVENT
DTSTART;TZID=America/Edmonton:20260507T130000
DTEND;TZID=America/Edmonton:20260507T170000
DTSTAMP:20260422T203457
CREATED:20260317T233955Z
LAST-MODIFIED:20260317T233955Z
UID:10008168-1778158800-1778173200@communitycounsellingcentre.ca
SUMMARY:Sam
DESCRIPTION:
URL:https://communitycounsellingcentre.ca/event/sam-3/2026-05-07/
LOCATION:Room 1
CATEGORIES:Room 1
END:VEVENT
BEGIN:VEVENT
DTSTART;TZID=America/Edmonton:20260508T110000
DTEND;TZID=America/Edmonton:20260508T170000
DTSTAMP:20260422T203457
CREATED:20251126T024600Z
LAST-MODIFIED:20251126T024600Z
UID:10007592-1778238000-1778259600@communitycounsellingcentre.ca
SUMMARY:Desiree
DESCRIPTION:
URL:https://communitycounsellingcentre.ca/event/desiree-4/2026-05-08/
LOCATION:Room 1
CATEGORIES:Room 1
END:VEVENT
BEGIN:VEVENT
DTSTART;TZID=America/Edmonton:20260509T110000
DTEND;TZID=America/Edmonton:20260509T160000
DTSTAMP:20260422T203457
CREATED:20260105T163050Z
LAST-MODIFIED:20260105T163050Z
UID:10007725-1778324400-1778342400@communitycounsellingcentre.ca
SUMMARY:Sam
DESCRIPTION:
URL:https://communitycounsellingcentre.ca/event/sam-2/2026-05-09/
LOCATION:Room 1
CATEGORIES:Room 1
END:VEVENT
BEGIN:VEVENT
DTSTART;TZID=America/Edmonton:20260511T110000
DTEND;TZID=America/Edmonton:20260511T200000
DTSTAMP:20260422T203457
CREATED:20251126T024503Z
LAST-MODIFIED:20251126T024503Z
UID:10007540-1778497200-1778529600@communitycounsellingcentre.ca
SUMMARY:Desiree
DESCRIPTION:
URL:https://communitycounsellingcentre.ca/event/desiree-3/2026-05-11/
LOCATION:Room 1
CATEGORIES:Room 1
END:VEVENT
BEGIN:VEVENT
DTSTART;TZID=America/Edmonton:20260512T110000
DTEND;TZID=America/Edmonton:20260512T190000
DTSTAMP:20260422T203457
CREATED:20241127T172306Z
LAST-MODIFIED:20251126T022940Z
UID:10007174-1778583600-1778612400@communitycounsellingcentre.ca
SUMMARY:Sam
DESCRIPTION:
URL:https://communitycounsellingcentre.ca/event/sam-6-2-2/2026-05-12/
LOCATION:Room 1
CATEGORIES:Room 1
END:VEVENT
BEGIN:VEVENT
DTSTART;TZID=America/Edmonton:20260513T110000
DTEND;TZID=America/Edmonton:20260513T190000
DTSTAMP:20260422T203457
CREATED:20251125T154531Z
LAST-MODIFIED:20251125T154531Z
UID:10006170-1778670000-1778698800@communitycounsellingcentre.ca
SUMMARY:Sam
DESCRIPTION:
URL:https://communitycounsellingcentre.ca/event/sam/2026-05-13/
LOCATION:Room 1
CATEGORIES:Room 1
END:VEVENT
BEGIN:VEVENT
DTSTART;TZID=America/Edmonton:20260514T130000
DTEND;TZID=America/Edmonton:20260514T170000
DTSTAMP:20260422T203457
CREATED:20260317T233955Z
LAST-MODIFIED:20260317T233955Z
UID:10008169-1778763600-1778778000@communitycounsellingcentre.ca
SUMMARY:Sam
DESCRIPTION:
URL:https://communitycounsellingcentre.ca/event/sam-3/2026-05-14/
LOCATION:Room 1
CATEGORIES:Room 1
END:VEVENT
BEGIN:VEVENT
DTSTART;TZID=America/Edmonton:20260515T110000
DTEND;TZID=America/Edmonton:20260515T170000
DTSTAMP:20260422T203457
CREATED:20251126T024600Z
LAST-MODIFIED:20251126T024600Z
UID:10007593-1778842800-1778864400@communitycounsellingcentre.ca
SUMMARY:Desiree
DESCRIPTION:
URL:https://communitycounsellingcentre.ca/event/desiree-4/2026-05-15/
LOCATION:Room 1
CATEGORIES:Room 1
END:VEVENT
BEGIN:VEVENT
DTSTART;TZID=America/Edmonton:20260516T110000
DTEND;TZID=America/Edmonton:20260516T160000
DTSTAMP:20260422T203457
CREATED:20260105T163050Z
LAST-MODIFIED:20260105T163050Z
UID:10007726-1778929200-1778947200@communitycounsellingcentre.ca
SUMMARY:Sam
DESCRIPTION:
URL:https://communitycounsellingcentre.ca/event/sam-2/2026-05-16/
LOCATION:Room 1
CATEGORIES:Room 1
END:VEVENT
BEGIN:VEVENT
DTSTART;TZID=America/Edmonton:20260518T110000
DTEND;TZID=America/Edmonton:20260518T200000
DTSTAMP:20260422T203457
CREATED:20251126T024503Z
LAST-MODIFIED:20251126T024503Z
UID:10007541-1779102000-1779134400@communitycounsellingcentre.ca
SUMMARY:Desiree
DESCRIPTION:
URL:https://communitycounsellingcentre.ca/event/desiree-3/2026-05-18/
LOCATION:Room 1
CATEGORIES:Room 1
END:VEVENT
BEGIN:VEVENT
DTSTART;TZID=America/Edmonton:20260519T110000
DTEND;TZID=America/Edmonton:20260519T190000
DTSTAMP:20260422T203457
CREATED:20241127T172306Z
LAST-MODIFIED:20251126T022940Z
UID:10007175-1779188400-1779217200@communitycounsellingcentre.ca
SUMMARY:Sam
DESCRIPTION:
URL:https://communitycounsellingcentre.ca/event/sam-6-2-2/2026-05-19/
LOCATION:Room 1
CATEGORIES:Room 1
END:VEVENT
BEGIN:VEVENT
DTSTART;TZID=America/Edmonton:20260520T110000
DTEND;TZID=America/Edmonton:20260520T190000
DTSTAMP:20260422T203457
CREATED:20251125T154531Z
LAST-MODIFIED:20251125T154531Z
UID:10006171-1779274800-1779303600@communitycounsellingcentre.ca
SUMMARY:Sam
DESCRIPTION:
URL:https://communitycounsellingcentre.ca/event/sam/2026-05-20/
LOCATION:Room 1
CATEGORIES:Room 1
END:VEVENT
BEGIN:VEVENT
DTSTART;TZID=America/Edmonton:20260521T130000
DTEND;TZID=America/Edmonton:20260521T170000
DTSTAMP:20260422T203457
CREATED:20260317T233955Z
LAST-MODIFIED:20260317T233955Z
UID:10008170-1779368400-1779382800@communitycounsellingcentre.ca
SUMMARY:Sam
DESCRIPTION:
URL:https://communitycounsellingcentre.ca/event/sam-3/2026-05-21/
LOCATION:Room 1
CATEGORIES:Room 1
END:VEVENT
BEGIN:VEVENT
DTSTART;TZID=America/Edmonton:20260522T110000
DTEND;TZID=America/Edmonton:20260522T170000
DTSTAMP:20260422T203457
CREATED:20251126T024600Z
LAST-MODIFIED:20251126T024600Z
UID:10007594-1779447600-1779469200@communitycounsellingcentre.ca
SUMMARY:Desiree
DESCRIPTION:
URL:https://communitycounsellingcentre.ca/event/desiree-4/2026-05-22/
LOCATION:Room 1
CATEGORIES:Room 1
END:VEVENT
BEGIN:VEVENT
DTSTART;TZID=America/Edmonton:20260523T110000
DTEND;TZID=America/Edmonton:20260523T160000
DTSTAMP:20260422T203457
CREATED:20260105T163050Z
LAST-MODIFIED:20260105T163050Z
UID:10007727-1779534000-1779552000@communitycounsellingcentre.ca
SUMMARY:Sam
DESCRIPTION:
URL:https://communitycounsellingcentre.ca/event/sam-2/2026-05-23/
LOCATION:Room 1
CATEGORIES:Room 1
END:VEVENT
BEGIN:VEVENT
DTSTART;TZID=America/Edmonton:20260525T110000
DTEND;TZID=America/Edmonton:20260525T200000
DTSTAMP:20260422T203457
CREATED:20251126T024503Z
LAST-MODIFIED:20251126T024503Z
UID:10007542-1779706800-1779739200@communitycounsellingcentre.ca
SUMMARY:Desiree
DESCRIPTION:
URL:https://communitycounsellingcentre.ca/event/desiree-3/2026-05-25/
LOCATION:Room 1
CATEGORIES:Room 1
END:VEVENT
BEGIN:VEVENT
DTSTART;TZID=America/Edmonton:20260526T110000
DTEND;TZID=America/Edmonton:20260526T190000
DTSTAMP:20260422T203457
CREATED:20241127T172306Z
LAST-MODIFIED:20251126T022940Z
UID:10007176-1779793200-1779822000@communitycounsellingcentre.ca
SUMMARY:Sam
DESCRIPTION:
URL:https://communitycounsellingcentre.ca/event/sam-6-2-2/2026-05-26/
LOCATION:Room 1
CATEGORIES:Room 1
END:VEVENT
BEGIN:VEVENT
DTSTART;TZID=America/Edmonton:20260527T110000
DTEND;TZID=America/Edmonton:20260527T190000
DTSTAMP:20260422T203457
CREATED:20251125T154531Z
LAST-MODIFIED:20251125T154531Z
UID:10006172-1779879600-1779908400@communitycounsellingcentre.ca
SUMMARY:Sam
DESCRIPTION:
URL:https://communitycounsellingcentre.ca/event/sam/2026-05-27/
LOCATION:Room 1
CATEGORIES:Room 1
END:VEVENT
BEGIN:VEVENT
DTSTART;TZID=America/Edmonton:20260528T130000
DTEND;TZID=America/Edmonton:20260528T170000
DTSTAMP:20260422T203457
CREATED:20260317T233955Z
LAST-MODIFIED:20260317T233955Z
UID:10008171-1779973200-1779987600@communitycounsellingcentre.ca
SUMMARY:Sam
DESCRIPTION:
URL:https://communitycounsellingcentre.ca/event/sam-3/2026-05-28/
LOCATION:Room 1
CATEGORIES:Room 1
END:VEVENT
BEGIN:VEVENT
DTSTART;TZID=America/Edmonton:20260529T110000
DTEND;TZID=America/Edmonton:20260529T170000
DTSTAMP:20260422T203457
CREATED:20251126T024600Z
LAST-MODIFIED:20251126T024600Z
UID:10007595-1780052400-1780074000@communitycounsellingcentre.ca
SUMMARY:Desiree
DESCRIPTION:
URL:https://communitycounsellingcentre.ca/event/desiree-4/2026-05-29/
LOCATION:Room 1
CATEGORIES:Room 1
END:VEVENT
BEGIN:VEVENT
DTSTART;TZID=America/Edmonton:20260530T110000
DTEND;TZID=America/Edmonton:20260530T160000
DTSTAMP:20260422T203457
CREATED:20260105T163050Z
LAST-MODIFIED:20260105T163050Z
UID:10007728-1780138800-1780156800@communitycounsellingcentre.ca
SUMMARY:Sam
DESCRIPTION:
URL:https://communitycounsellingcentre.ca/event/sam-2/2026-05-30/
LOCATION:Room 1
CATEGORIES:Room 1
END:VEVENT
BEGIN:VEVENT
DTSTART;TZID=America/Edmonton:20260601T110000
DTEND;TZID=America/Edmonton:20260601T200000
DTSTAMP:20260422T203457
CREATED:20251126T024503Z
LAST-MODIFIED:20251126T024503Z
UID:10007543-1780311600-1780344000@communitycounsellingcentre.ca
SUMMARY:Desiree
DESCRIPTION:
URL:https://communitycounsellingcentre.ca/event/desiree-3/2026-06-01/
LOCATION:Room 1
CATEGORIES:Room 1
END:VEVENT
BEGIN:VEVENT
DTSTART;TZID=America/Edmonton:20260602T110000
DTEND;TZID=America/Edmonton:20260602T190000
DTSTAMP:20260422T203457
CREATED:20241127T172306Z
LAST-MODIFIED:20251126T022940Z
UID:10007177-1780398000-1780426800@communitycounsellingcentre.ca
SUMMARY:Sam
DESCRIPTION:
URL:https://communitycounsellingcentre.ca/event/sam-6-2-2/2026-06-02/
LOCATION:Room 1
CATEGORIES:Room 1
END:VEVENT
BEGIN:VEVENT
DTSTART;TZID=America/Edmonton:20260603T110000
DTEND;TZID=America/Edmonton:20260603T190000
DTSTAMP:20260422T203457
CREATED:20251125T154531Z
LAST-MODIFIED:20251125T154531Z
UID:10006173-1780484400-1780513200@communitycounsellingcentre.ca
SUMMARY:Sam
DESCRIPTION:
URL:https://communitycounsellingcentre.ca/event/sam/2026-06-03/
LOCATION:Room 1
CATEGORIES:Room 1
END:VEVENT
BEGIN:VEVENT
DTSTART;TZID=America/Edmonton:20260604T130000
DTEND;TZID=America/Edmonton:20260604T170000
DTSTAMP:20260422T203457
CREATED:20260317T233955Z
LAST-MODIFIED:20260317T233955Z
UID:10008172-1780578000-1780592400@communitycounsellingcentre.ca
SUMMARY:Sam
DESCRIPTION:
URL:https://communitycounsellingcentre.ca/event/sam-3/2026-06-04/
LOCATION:Room 1
CATEGORIES:Room 1
END:VEVENT
BEGIN:VEVENT
DTSTART;TZID=America/Edmonton:20260605T110000
DTEND;TZID=America/Edmonton:20260605T170000
DTSTAMP:20260422T203457
CREATED:20251126T024600Z
LAST-MODIFIED:20251126T024600Z
UID:10007596-1780657200-1780678800@communitycounsellingcentre.ca
SUMMARY:Desiree
DESCRIPTION:
URL:https://communitycounsellingcentre.ca/event/desiree-4/2026-06-05/
LOCATION:Room 1
CATEGORIES:Room 1
END:VEVENT
BEGIN:VEVENT
DTSTART;TZID=America/Edmonton:20260606T110000
DTEND;TZID=America/Edmonton:20260606T160000
DTSTAMP:20260422T203457
CREATED:20260105T163050Z
LAST-MODIFIED:20260105T163050Z
UID:10007729-1780743600-1780761600@communitycounsellingcentre.ca
SUMMARY:Sam
DESCRIPTION:
URL:https://communitycounsellingcentre.ca/event/sam-2/2026-06-06/
LOCATION:Room 1
CATEGORIES:Room 1
END:VEVENT
BEGIN:VEVENT
DTSTART;TZID=America/Edmonton:20260608T110000
DTEND;TZID=America/Edmonton:20260608T200000
DTSTAMP:20260422T203457
CREATED:20251126T024503Z
LAST-MODIFIED:20251126T024503Z
UID:10007544-1780916400-1780948800@communitycounsellingcentre.ca
SUMMARY:Desiree
DESCRIPTION:
URL:https://communitycounsellingcentre.ca/event/desiree-3/2026-06-08/
LOCATION:Room 1
CATEGORIES:Room 1
END:VEVENT
BEGIN:VEVENT
DTSTART;TZID=America/Edmonton:20260609T110000
DTEND;TZID=America/Edmonton:20260609T190000
DTSTAMP:20260422T203457
CREATED:20241127T172306Z
LAST-MODIFIED:20251126T022940Z
UID:10007178-1781002800-1781031600@communitycounsellingcentre.ca
SUMMARY:Sam
DESCRIPTION:
URL:https://communitycounsellingcentre.ca/event/sam-6-2-2/2026-06-09/
LOCATION:Room 1
CATEGORIES:Room 1
END:VEVENT
BEGIN:VEVENT
DTSTART;TZID=America/Edmonton:20260610T110000
DTEND;TZID=America/Edmonton:20260610T190000
DTSTAMP:20260422T203457
CREATED:20251125T154531Z
LAST-MODIFIED:20251125T154531Z
UID:10006174-1781089200-1781118000@communitycounsellingcentre.ca
SUMMARY:Sam
DESCRIPTION:
URL:https://communitycounsellingcentre.ca/event/sam/2026-06-10/
LOCATION:Room 1
CATEGORIES:Room 1
END:VEVENT
END:VCALENDAR