BEGIN:VCALENDAR
VERSION:2.0
PRODID:-//Community Counselling Centre - ECPv6.13.1//NONSGML v1.0//EN
CALSCALE:GREGORIAN
METHOD:PUBLISH
X-ORIGINAL-URL:https://communitycounsellingcentre.ca
X-WR-CALDESC:Events for Community Counselling Centre
REFRESH-INTERVAL;VALUE=DURATION:PT1H
X-Robots-Tag:noindex
X-PUBLISHED-TTL:PT1H
BEGIN:VTIMEZONE
TZID:America/Edmonton
BEGIN:DAYLIGHT
TZOFFSETFROM:-0700
TZOFFSETTO:-0600
TZNAME:MDT
DTSTART:20260308T090000
END:DAYLIGHT
BEGIN:STANDARD
TZOFFSETFROM:-0600
TZOFFSETTO:-0700
TZNAME:MST
DTSTART:20261101T080000
END:STANDARD
END:VTIMEZONE
BEGIN:VEVENT
DTSTART;TZID=America/Edmonton:20260604T130000
DTEND;TZID=America/Edmonton:20260604T170000
DTSTAMP:20260423T002643
CREATED:20260317T233955Z
LAST-MODIFIED:20260317T233955Z
UID:10008172-1780578000-1780592400@communitycounsellingcentre.ca
SUMMARY:Sam
DESCRIPTION:
URL:https://communitycounsellingcentre.ca/event/sam-3/2026-06-04/
LOCATION:Room 1
CATEGORIES:Room 1
END:VEVENT
BEGIN:VEVENT
DTSTART;TZID=America/Edmonton:20260605T110000
DTEND;TZID=America/Edmonton:20260605T170000
DTSTAMP:20260423T002643
CREATED:20251126T024600Z
LAST-MODIFIED:20251126T024600Z
UID:10007596-1780657200-1780678800@communitycounsellingcentre.ca
SUMMARY:Desiree
DESCRIPTION:
URL:https://communitycounsellingcentre.ca/event/desiree-4/2026-06-05/
LOCATION:Room 1
CATEGORIES:Room 1
END:VEVENT
BEGIN:VEVENT
DTSTART;TZID=America/Edmonton:20260606T110000
DTEND;TZID=America/Edmonton:20260606T160000
DTSTAMP:20260423T002643
CREATED:20260105T163050Z
LAST-MODIFIED:20260105T163050Z
UID:10007729-1780743600-1780761600@communitycounsellingcentre.ca
SUMMARY:Sam
DESCRIPTION:
URL:https://communitycounsellingcentre.ca/event/sam-2/2026-06-06/
LOCATION:Room 1
CATEGORIES:Room 1
END:VEVENT
BEGIN:VEVENT
DTSTART;TZID=America/Edmonton:20260608T110000
DTEND;TZID=America/Edmonton:20260608T200000
DTSTAMP:20260423T002643
CREATED:20251126T024503Z
LAST-MODIFIED:20251126T024503Z
UID:10007544-1780916400-1780948800@communitycounsellingcentre.ca
SUMMARY:Desiree
DESCRIPTION:
URL:https://communitycounsellingcentre.ca/event/desiree-3/2026-06-08/
LOCATION:Room 1
CATEGORIES:Room 1
END:VEVENT
BEGIN:VEVENT
DTSTART;TZID=America/Edmonton:20260609T110000
DTEND;TZID=America/Edmonton:20260609T190000
DTSTAMP:20260423T002643
CREATED:20241127T172306Z
LAST-MODIFIED:20251126T022940Z
UID:10007178-1781002800-1781031600@communitycounsellingcentre.ca
SUMMARY:Sam
DESCRIPTION:
URL:https://communitycounsellingcentre.ca/event/sam-6-2-2/2026-06-09/
LOCATION:Room 1
CATEGORIES:Room 1
END:VEVENT
BEGIN:VEVENT
DTSTART;TZID=America/Edmonton:20260610T110000
DTEND;TZID=America/Edmonton:20260610T190000
DTSTAMP:20260423T002643
CREATED:20251125T154531Z
LAST-MODIFIED:20251125T154531Z
UID:10006174-1781089200-1781118000@communitycounsellingcentre.ca
SUMMARY:Sam
DESCRIPTION:
URL:https://communitycounsellingcentre.ca/event/sam/2026-06-10/
LOCATION:Room 1
CATEGORIES:Room 1
END:VEVENT
BEGIN:VEVENT
DTSTART;TZID=America/Edmonton:20260611T130000
DTEND;TZID=America/Edmonton:20260611T170000
DTSTAMP:20260423T002643
CREATED:20260317T233955Z
LAST-MODIFIED:20260317T233955Z
UID:10008173-1781182800-1781197200@communitycounsellingcentre.ca
SUMMARY:Sam
DESCRIPTION:
URL:https://communitycounsellingcentre.ca/event/sam-3/2026-06-11/
LOCATION:Room 1
CATEGORIES:Room 1
END:VEVENT
BEGIN:VEVENT
DTSTART;TZID=America/Edmonton:20260612T110000
DTEND;TZID=America/Edmonton:20260612T170000
DTSTAMP:20260423T002643
CREATED:20251126T024600Z
LAST-MODIFIED:20251126T024600Z
UID:10007597-1781262000-1781283600@communitycounsellingcentre.ca
SUMMARY:Desiree
DESCRIPTION:
URL:https://communitycounsellingcentre.ca/event/desiree-4/2026-06-12/
LOCATION:Room 1
CATEGORIES:Room 1
END:VEVENT
BEGIN:VEVENT
DTSTART;TZID=America/Edmonton:20260613T110000
DTEND;TZID=America/Edmonton:20260613T160000
DTSTAMP:20260423T002643
CREATED:20260105T163050Z
LAST-MODIFIED:20260105T163050Z
UID:10007730-1781348400-1781366400@communitycounsellingcentre.ca
SUMMARY:Sam
DESCRIPTION:
URL:https://communitycounsellingcentre.ca/event/sam-2/2026-06-13/
LOCATION:Room 1
CATEGORIES:Room 1
END:VEVENT
BEGIN:VEVENT
DTSTART;TZID=America/Edmonton:20260615T110000
DTEND;TZID=America/Edmonton:20260615T200000
DTSTAMP:20260423T002643
CREATED:20251126T024503Z
LAST-MODIFIED:20251126T024503Z
UID:10007545-1781521200-1781553600@communitycounsellingcentre.ca
SUMMARY:Desiree
DESCRIPTION:
URL:https://communitycounsellingcentre.ca/event/desiree-3/2026-06-15/
LOCATION:Room 1
CATEGORIES:Room 1
END:VEVENT
BEGIN:VEVENT
DTSTART;TZID=America/Edmonton:20260616T110000
DTEND;TZID=America/Edmonton:20260616T190000
DTSTAMP:20260423T002643
CREATED:20241127T172306Z
LAST-MODIFIED:20251126T022940Z
UID:10007179-1781607600-1781636400@communitycounsellingcentre.ca
SUMMARY:Sam
DESCRIPTION:
URL:https://communitycounsellingcentre.ca/event/sam-6-2-2/2026-06-16/
LOCATION:Room 1
CATEGORIES:Room 1
END:VEVENT
BEGIN:VEVENT
DTSTART;TZID=America/Edmonton:20260617T110000
DTEND;TZID=America/Edmonton:20260617T190000
DTSTAMP:20260423T002643
CREATED:20251125T154531Z
LAST-MODIFIED:20251125T154531Z
UID:10006175-1781694000-1781722800@communitycounsellingcentre.ca
SUMMARY:Sam
DESCRIPTION:
URL:https://communitycounsellingcentre.ca/event/sam/2026-06-17/
LOCATION:Room 1
CATEGORIES:Room 1
END:VEVENT
BEGIN:VEVENT
DTSTART;TZID=America/Edmonton:20260618T130000
DTEND;TZID=America/Edmonton:20260618T170000
DTSTAMP:20260423T002643
CREATED:20260317T233955Z
LAST-MODIFIED:20260317T233955Z
UID:10008174-1781787600-1781802000@communitycounsellingcentre.ca
SUMMARY:Sam
DESCRIPTION:
URL:https://communitycounsellingcentre.ca/event/sam-3/2026-06-18/
LOCATION:Room 1
CATEGORIES:Room 1
END:VEVENT
BEGIN:VEVENT
DTSTART;TZID=America/Edmonton:20260619T110000
DTEND;TZID=America/Edmonton:20260619T170000
DTSTAMP:20260423T002643
CREATED:20251126T024600Z
LAST-MODIFIED:20251126T024600Z
UID:10007598-1781866800-1781888400@communitycounsellingcentre.ca
SUMMARY:Desiree
DESCRIPTION:
URL:https://communitycounsellingcentre.ca/event/desiree-4/2026-06-19/
LOCATION:Room 1
CATEGORIES:Room 1
END:VEVENT
BEGIN:VEVENT
DTSTART;TZID=America/Edmonton:20260620T110000
DTEND;TZID=America/Edmonton:20260620T160000
DTSTAMP:20260423T002643
CREATED:20260105T163050Z
LAST-MODIFIED:20260105T163050Z
UID:10007731-1781953200-1781971200@communitycounsellingcentre.ca
SUMMARY:Sam
DESCRIPTION:
URL:https://communitycounsellingcentre.ca/event/sam-2/2026-06-20/
LOCATION:Room 1
CATEGORIES:Room 1
END:VEVENT
BEGIN:VEVENT
DTSTART;TZID=America/Edmonton:20260622T110000
DTEND;TZID=America/Edmonton:20260622T200000
DTSTAMP:20260423T002643
CREATED:20251126T024503Z
LAST-MODIFIED:20251126T024503Z
UID:10007546-1782126000-1782158400@communitycounsellingcentre.ca
SUMMARY:Desiree
DESCRIPTION:
URL:https://communitycounsellingcentre.ca/event/desiree-3/2026-06-22/
LOCATION:Room 1
CATEGORIES:Room 1
END:VEVENT
BEGIN:VEVENT
DTSTART;TZID=America/Edmonton:20260623T110000
DTEND;TZID=America/Edmonton:20260623T190000
DTSTAMP:20260423T002644
CREATED:20241127T172306Z
LAST-MODIFIED:20251126T022940Z
UID:10007180-1782212400-1782241200@communitycounsellingcentre.ca
SUMMARY:Sam
DESCRIPTION:
URL:https://communitycounsellingcentre.ca/event/sam-6-2-2/2026-06-23/
LOCATION:Room 1
CATEGORIES:Room 1
END:VEVENT
BEGIN:VEVENT
DTSTART;TZID=America/Edmonton:20260624T110000
DTEND;TZID=America/Edmonton:20260624T190000
DTSTAMP:20260423T002644
CREATED:20251125T154531Z
LAST-MODIFIED:20251125T154531Z
UID:10006176-1782298800-1782327600@communitycounsellingcentre.ca
SUMMARY:Sam
DESCRIPTION:
URL:https://communitycounsellingcentre.ca/event/sam/2026-06-24/
LOCATION:Room 1
CATEGORIES:Room 1
END:VEVENT
BEGIN:VEVENT
DTSTART;TZID=America/Edmonton:20260625T130000
DTEND;TZID=America/Edmonton:20260625T170000
DTSTAMP:20260423T002644
CREATED:20260317T233955Z
LAST-MODIFIED:20260317T233955Z
UID:10008175-1782392400-1782406800@communitycounsellingcentre.ca
SUMMARY:Sam
DESCRIPTION:
URL:https://communitycounsellingcentre.ca/event/sam-3/2026-06-25/
LOCATION:Room 1
CATEGORIES:Room 1
END:VEVENT
BEGIN:VEVENT
DTSTART;TZID=America/Edmonton:20260626T110000
DTEND;TZID=America/Edmonton:20260626T170000
DTSTAMP:20260423T002644
CREATED:20251126T024600Z
LAST-MODIFIED:20251126T024600Z
UID:10007599-1782471600-1782493200@communitycounsellingcentre.ca
SUMMARY:Desiree
DESCRIPTION:
URL:https://communitycounsellingcentre.ca/event/desiree-4/2026-06-26/
LOCATION:Room 1
CATEGORIES:Room 1
END:VEVENT
BEGIN:VEVENT
DTSTART;TZID=America/Edmonton:20260627T110000
DTEND;TZID=America/Edmonton:20260627T160000
DTSTAMP:20260423T002644
CREATED:20260105T163050Z
LAST-MODIFIED:20260105T163050Z
UID:10007732-1782558000-1782576000@communitycounsellingcentre.ca
SUMMARY:Sam
DESCRIPTION:
URL:https://communitycounsellingcentre.ca/event/sam-2/2026-06-27/
LOCATION:Room 1
CATEGORIES:Room 1
END:VEVENT
BEGIN:VEVENT
DTSTART;TZID=America/Edmonton:20260629T110000
DTEND;TZID=America/Edmonton:20260629T200000
DTSTAMP:20260423T002644
CREATED:20251126T024503Z
LAST-MODIFIED:20251126T024503Z
UID:10007547-1782730800-1782763200@communitycounsellingcentre.ca
SUMMARY:Desiree
DESCRIPTION:
URL:https://communitycounsellingcentre.ca/event/desiree-3/2026-06-29/
LOCATION:Room 1
CATEGORIES:Room 1
END:VEVENT
BEGIN:VEVENT
DTSTART;TZID=America/Edmonton:20260630T110000
DTEND;TZID=America/Edmonton:20260630T190000
DTSTAMP:20260423T002644
CREATED:20241127T172306Z
LAST-MODIFIED:20251126T022940Z
UID:10007181-1782817200-1782846000@communitycounsellingcentre.ca
SUMMARY:Sam
DESCRIPTION:
URL:https://communitycounsellingcentre.ca/event/sam-6-2-2/2026-06-30/
LOCATION:Room 1
CATEGORIES:Room 1
END:VEVENT
BEGIN:VEVENT
DTSTART;TZID=America/Edmonton:20260701T110000
DTEND;TZID=America/Edmonton:20260701T190000
DTSTAMP:20260423T002644
CREATED:20251125T154531Z
LAST-MODIFIED:20251125T154531Z
UID:10006177-1782903600-1782932400@communitycounsellingcentre.ca
SUMMARY:Sam
DESCRIPTION:
URL:https://communitycounsellingcentre.ca/event/sam/2026-07-01/
LOCATION:Room 1
CATEGORIES:Room 1
END:VEVENT
BEGIN:VEVENT
DTSTART;TZID=America/Edmonton:20260702T130000
DTEND;TZID=America/Edmonton:20260702T170000
DTSTAMP:20260423T002644
CREATED:20260317T233955Z
LAST-MODIFIED:20260317T233955Z
UID:10008176-1782997200-1783011600@communitycounsellingcentre.ca
SUMMARY:Sam
DESCRIPTION:
URL:https://communitycounsellingcentre.ca/event/sam-3/2026-07-02/
LOCATION:Room 1
CATEGORIES:Room 1
END:VEVENT
BEGIN:VEVENT
DTSTART;TZID=America/Edmonton:20260703T110000
DTEND;TZID=America/Edmonton:20260703T170000
DTSTAMP:20260423T002644
CREATED:20251126T024600Z
LAST-MODIFIED:20251126T024600Z
UID:10007600-1783076400-1783098000@communitycounsellingcentre.ca
SUMMARY:Desiree
DESCRIPTION:
URL:https://communitycounsellingcentre.ca/event/desiree-4/2026-07-03/
LOCATION:Room 1
CATEGORIES:Room 1
END:VEVENT
BEGIN:VEVENT
DTSTART;TZID=America/Edmonton:20260704T110000
DTEND;TZID=America/Edmonton:20260704T160000
DTSTAMP:20260423T002644
CREATED:20260105T163050Z
LAST-MODIFIED:20260105T163050Z
UID:10007733-1783162800-1783180800@communitycounsellingcentre.ca
SUMMARY:Sam
DESCRIPTION:
URL:https://communitycounsellingcentre.ca/event/sam-2/2026-07-04/
LOCATION:Room 1
CATEGORIES:Room 1
END:VEVENT
BEGIN:VEVENT
DTSTART;TZID=America/Edmonton:20260706T110000
DTEND;TZID=America/Edmonton:20260706T200000
DTSTAMP:20260423T002644
CREATED:20251126T024503Z
LAST-MODIFIED:20251126T024503Z
UID:10007548-1783335600-1783368000@communitycounsellingcentre.ca
SUMMARY:Desiree
DESCRIPTION:
URL:https://communitycounsellingcentre.ca/event/desiree-3/2026-07-06/
LOCATION:Room 1
CATEGORIES:Room 1
END:VEVENT
BEGIN:VEVENT
DTSTART;TZID=America/Edmonton:20260707T110000
DTEND;TZID=America/Edmonton:20260707T190000
DTSTAMP:20260423T002644
CREATED:20241127T172306Z
LAST-MODIFIED:20251126T022940Z
UID:10007182-1783422000-1783450800@communitycounsellingcentre.ca
SUMMARY:Sam
DESCRIPTION:
URL:https://communitycounsellingcentre.ca/event/sam-6-2-2/2026-07-07/
LOCATION:Room 1
CATEGORIES:Room 1
END:VEVENT
BEGIN:VEVENT
DTSTART;TZID=America/Edmonton:20260708T110000
DTEND;TZID=America/Edmonton:20260708T190000
DTSTAMP:20260423T002644
CREATED:20251125T154531Z
LAST-MODIFIED:20251125T154531Z
UID:10006178-1783508400-1783537200@communitycounsellingcentre.ca
SUMMARY:Sam
DESCRIPTION:
URL:https://communitycounsellingcentre.ca/event/sam/2026-07-08/
LOCATION:Room 1
CATEGORIES:Room 1
END:VEVENT
END:VCALENDAR