BEGIN:VCALENDAR
VERSION:2.0
PRODID:-//Community Counselling Centre - ECPv6.13.1//NONSGML v1.0//EN
CALSCALE:GREGORIAN
METHOD:PUBLISH
X-WR-CALNAME:Community Counselling Centre
X-ORIGINAL-URL:https://communitycounsellingcentre.ca
X-WR-CALDESC:Events for Community Counselling Centre
REFRESH-INTERVAL;VALUE=DURATION:PT1H
X-Robots-Tag:noindex
X-PUBLISHED-TTL:PT1H
BEGIN:VTIMEZONE
TZID:America/Edmonton
BEGIN:DAYLIGHT
TZOFFSETFROM:-0700
TZOFFSETTO:-0600
TZNAME:MDT
DTSTART:20250309T090000
END:DAYLIGHT
BEGIN:STANDARD
TZOFFSETFROM:-0600
TZOFFSETTO:-0700
TZNAME:MST
DTSTART:20251102T080000
END:STANDARD
BEGIN:DAYLIGHT
TZOFFSETFROM:-0700
TZOFFSETTO:-0600
TZNAME:MDT
DTSTART:20260308T090000
END:DAYLIGHT
BEGIN:STANDARD
TZOFFSETFROM:-0600
TZOFFSETTO:-0700
TZNAME:MST
DTSTART:20261101T080000
END:STANDARD
END:VTIMEZONE
BEGIN:VEVENT
DTSTART;TZID=America/Edmonton:20260114T110000
DTEND;TZID=America/Edmonton:20260114T190000
DTSTAMP:20260423T072222
CREATED:20251125T154531Z
LAST-MODIFIED:20251125T154531Z
UID:10006153-1768388400-1768417200@communitycounsellingcentre.ca
SUMMARY:Sam
DESCRIPTION:
URL:https://communitycounsellingcentre.ca/event/sam/2026-01-14/
LOCATION:Room 1
CATEGORIES:Room 1
END:VEVENT
BEGIN:VEVENT
DTSTART;TZID=America/Edmonton:20260113T110000
DTEND;TZID=America/Edmonton:20260113T190000
DTSTAMP:20260423T072222
CREATED:20241127T172306Z
LAST-MODIFIED:20251126T022940Z
UID:10007157-1768302000-1768330800@communitycounsellingcentre.ca
SUMMARY:Sam
DESCRIPTION:
URL:https://communitycounsellingcentre.ca/event/sam-6-2-2/2026-01-13/
LOCATION:Room 1
CATEGORIES:Room 1
END:VEVENT
BEGIN:VEVENT
DTSTART;TZID=America/Edmonton:20260112T110000
DTEND;TZID=America/Edmonton:20260112T200000
DTSTAMP:20260423T072222
CREATED:20251126T024503Z
LAST-MODIFIED:20251126T024503Z
UID:10007523-1768215600-1768248000@communitycounsellingcentre.ca
SUMMARY:Desiree
DESCRIPTION:
URL:https://communitycounsellingcentre.ca/event/desiree-3/2026-01-12/
LOCATION:Room 1
CATEGORIES:Room 1
END:VEVENT
BEGIN:VEVENT
DTSTART;TZID=America/Edmonton:20260110T110000
DTEND;TZID=America/Edmonton:20260110T160000
DTSTAMP:20260423T072222
CREATED:20260105T163050Z
LAST-MODIFIED:20260105T163050Z
UID:10007708-1768042800-1768060800@communitycounsellingcentre.ca
SUMMARY:Sam
DESCRIPTION:
URL:https://communitycounsellingcentre.ca/event/sam-2/2026-01-10/
LOCATION:Room 1
CATEGORIES:Room 1
END:VEVENT
BEGIN:VEVENT
DTSTART;TZID=America/Edmonton:20260109T110000
DTEND;TZID=America/Edmonton:20260109T170000
DTSTAMP:20260423T072222
CREATED:20251126T024600Z
LAST-MODIFIED:20251126T024600Z
UID:10007575-1767956400-1767978000@communitycounsellingcentre.ca
SUMMARY:Desiree
DESCRIPTION:
URL:https://communitycounsellingcentre.ca/event/desiree-4/2026-01-09/
LOCATION:Room 1
CATEGORIES:Room 1
END:VEVENT
BEGIN:VEVENT
DTSTART;TZID=America/Edmonton:20260108T120000
DTEND;TZID=America/Edmonton:20260108T200000
DTSTAMP:20260423T072222
CREATED:20250320T170707Z
LAST-MODIFIED:20260317T233752Z
UID:10007000-1767873600-1767902400@communitycounsellingcentre.ca
SUMMARY:Sabrina
DESCRIPTION:
URL:https://communitycounsellingcentre.ca/event/sabrina-12/2026-01-08/
LOCATION:Room 1
CATEGORIES:Room 1
END:VEVENT
BEGIN:VEVENT
DTSTART;TZID=America/Edmonton:20260107T110000
DTEND;TZID=America/Edmonton:20260107T190000
DTSTAMP:20260423T072222
CREATED:20251125T154531Z
LAST-MODIFIED:20251125T154531Z
UID:10006152-1767783600-1767812400@communitycounsellingcentre.ca
SUMMARY:Sam
DESCRIPTION:
URL:https://communitycounsellingcentre.ca/event/sam/2026-01-07/
LOCATION:Room 1
CATEGORIES:Room 1
END:VEVENT
BEGIN:VEVENT
DTSTART;TZID=America/Edmonton:20260106T110000
DTEND;TZID=America/Edmonton:20260106T190000
DTSTAMP:20260423T072222
CREATED:20241127T172306Z
LAST-MODIFIED:20251126T022940Z
UID:10007156-1767697200-1767726000@communitycounsellingcentre.ca
SUMMARY:Sam
DESCRIPTION:
URL:https://communitycounsellingcentre.ca/event/sam-6-2-2/2026-01-06/
LOCATION:Room 1
CATEGORIES:Room 1
END:VEVENT
BEGIN:VEVENT
DTSTART;TZID=America/Edmonton:20260105T110000
DTEND;TZID=America/Edmonton:20260105T200000
DTSTAMP:20260423T072222
CREATED:20251126T024503Z
LAST-MODIFIED:20251126T024503Z
UID:10007522-1767610800-1767643200@communitycounsellingcentre.ca
SUMMARY:Desiree
DESCRIPTION:
URL:https://communitycounsellingcentre.ca/event/desiree-3/2026-01-05/
LOCATION:Room 1
CATEGORIES:Room 1
END:VEVENT
BEGIN:VEVENT
DTSTART;TZID=America/Edmonton:20260103T110000
DTEND;TZID=America/Edmonton:20260103T160000
DTSTAMP:20260423T072222
CREATED:20260105T163050Z
LAST-MODIFIED:20260105T163050Z
UID:10007707-1767438000-1767456000@communitycounsellingcentre.ca
SUMMARY:Sam
DESCRIPTION:
URL:https://communitycounsellingcentre.ca/event/sam-2/2026-01-03/
LOCATION:Room 1
CATEGORIES:Room 1
END:VEVENT
BEGIN:VEVENT
DTSTART;TZID=America/Edmonton:20260102T110000
DTEND;TZID=America/Edmonton:20260102T170000
DTSTAMP:20260423T072222
CREATED:20251126T024600Z
LAST-MODIFIED:20251126T024600Z
UID:10007574-1767351600-1767373200@communitycounsellingcentre.ca
SUMMARY:Desiree
DESCRIPTION:
URL:https://communitycounsellingcentre.ca/event/desiree-4/2026-01-02/
LOCATION:Room 1
CATEGORIES:Room 1
END:VEVENT
BEGIN:VEVENT
DTSTART;TZID=America/Edmonton:20260101T120000
DTEND;TZID=America/Edmonton:20260101T200000
DTSTAMP:20260423T072222
CREATED:20250320T170707Z
LAST-MODIFIED:20260317T233752Z
UID:10006999-1767268800-1767297600@communitycounsellingcentre.ca
SUMMARY:Sabrina
DESCRIPTION:
URL:https://communitycounsellingcentre.ca/event/sabrina-12/2026-01-01/
LOCATION:Room 1
CATEGORIES:Room 1
END:VEVENT
BEGIN:VEVENT
DTSTART;TZID=America/Edmonton:20251231T110000
DTEND;TZID=America/Edmonton:20251231T190000
DTSTAMP:20260423T072222
CREATED:20251125T154531Z
LAST-MODIFIED:20251125T154531Z
UID:10006151-1767178800-1767207600@communitycounsellingcentre.ca
SUMMARY:Sam
DESCRIPTION:
URL:https://communitycounsellingcentre.ca/event/sam/2025-12-31/
LOCATION:Room 1
CATEGORIES:Room 1
END:VEVENT
BEGIN:VEVENT
DTSTART;TZID=America/Edmonton:20251230T110000
DTEND;TZID=America/Edmonton:20251230T190000
DTSTAMP:20260423T072222
CREATED:20241127T172306Z
LAST-MODIFIED:20251126T022940Z
UID:10006145-1767092400-1767121200@communitycounsellingcentre.ca
SUMMARY:Sam
DESCRIPTION:
URL:https://communitycounsellingcentre.ca/event/sam-6-2-2/2025-12-30/
LOCATION:Room 1
CATEGORIES:Room 1
END:VEVENT
BEGIN:VEVENT
DTSTART;TZID=America/Edmonton:20251225T120000
DTEND;TZID=America/Edmonton:20251225T200000
DTSTAMP:20260423T072222
CREATED:20250320T170707Z
LAST-MODIFIED:20260317T233752Z
UID:10005457-1766664000-1766692800@communitycounsellingcentre.ca
SUMMARY:Sabrina
DESCRIPTION:
URL:https://communitycounsellingcentre.ca/event/sabrina-12/2025-12-25/
LOCATION:Room 1
CATEGORIES:Room 1
END:VEVENT
BEGIN:VEVENT
DTSTART;TZID=America/Edmonton:20251224T110000
DTEND;TZID=America/Edmonton:20251224T190000
DTSTAMP:20260423T072222
CREATED:20251125T154531Z
LAST-MODIFIED:20251125T154531Z
UID:10006150-1766574000-1766602800@communitycounsellingcentre.ca
SUMMARY:Sam
DESCRIPTION:
URL:https://communitycounsellingcentre.ca/event/sam/2025-12-24/
LOCATION:Room 1
CATEGORIES:Room 1
END:VEVENT
BEGIN:VEVENT
DTSTART;TZID=America/Edmonton:20251223T110000
DTEND;TZID=America/Edmonton:20251223T190000
DTSTAMP:20260423T072222
CREATED:20241127T172306Z
LAST-MODIFIED:20251126T022940Z
UID:10006144-1766487600-1766516400@communitycounsellingcentre.ca
SUMMARY:Sam
DESCRIPTION:
URL:https://communitycounsellingcentre.ca/event/sam-6-2-2/2025-12-23/
LOCATION:Room 1
CATEGORIES:Room 1
END:VEVENT
BEGIN:VEVENT
DTSTART;TZID=America/Edmonton:20251218T120000
DTEND;TZID=America/Edmonton:20251218T200000
DTSTAMP:20260423T072222
CREATED:20250320T170707Z
LAST-MODIFIED:20260317T233752Z
UID:10005456-1766059200-1766088000@communitycounsellingcentre.ca
SUMMARY:Sabrina
DESCRIPTION:
URL:https://communitycounsellingcentre.ca/event/sabrina-12/2025-12-18/
LOCATION:Room 1
CATEGORIES:Room 1
END:VEVENT
BEGIN:VEVENT
DTSTART;TZID=America/Edmonton:20251217T110000
DTEND;TZID=America/Edmonton:20251217T190000
DTSTAMP:20260423T072222
CREATED:20251125T154531Z
LAST-MODIFIED:20251125T154531Z
UID:10006149-1765969200-1765998000@communitycounsellingcentre.ca
SUMMARY:Sam
DESCRIPTION:
URL:https://communitycounsellingcentre.ca/event/sam/2025-12-17/
LOCATION:Room 1
CATEGORIES:Room 1
END:VEVENT
BEGIN:VEVENT
DTSTART;TZID=America/Edmonton:20251216T110000
DTEND;TZID=America/Edmonton:20251216T190000
DTSTAMP:20260423T072222
CREATED:20241127T172306Z
LAST-MODIFIED:20251126T022940Z
UID:10006143-1765882800-1765911600@communitycounsellingcentre.ca
SUMMARY:Sam
DESCRIPTION:
URL:https://communitycounsellingcentre.ca/event/sam-6-2-2/2025-12-16/
LOCATION:Room 1
CATEGORIES:Room 1
END:VEVENT
BEGIN:VEVENT
DTSTART;TZID=America/Edmonton:20251211T120000
DTEND;TZID=America/Edmonton:20251211T200000
DTSTAMP:20260423T072222
CREATED:20250320T170707Z
LAST-MODIFIED:20260317T233752Z
UID:10005455-1765454400-1765483200@communitycounsellingcentre.ca
SUMMARY:Sabrina
DESCRIPTION:
URL:https://communitycounsellingcentre.ca/event/sabrina-12/2025-12-11/
LOCATION:Room 1
CATEGORIES:Room 1
END:VEVENT
BEGIN:VEVENT
DTSTART;TZID=America/Edmonton:20251210T110000
DTEND;TZID=America/Edmonton:20251210T190000
DTSTAMP:20260423T072222
CREATED:20251125T154531Z
LAST-MODIFIED:20251125T154531Z
UID:10006148-1765364400-1765393200@communitycounsellingcentre.ca
SUMMARY:Sam
DESCRIPTION:
URL:https://communitycounsellingcentre.ca/event/sam/2025-12-10/
LOCATION:Room 1
CATEGORIES:Room 1
END:VEVENT
BEGIN:VEVENT
DTSTART;TZID=America/Edmonton:20251209T110000
DTEND;TZID=America/Edmonton:20251209T190000
DTSTAMP:20260423T072222
CREATED:20241127T172306Z
LAST-MODIFIED:20251126T022940Z
UID:10006142-1765278000-1765306800@communitycounsellingcentre.ca
SUMMARY:Sam
DESCRIPTION:
URL:https://communitycounsellingcentre.ca/event/sam-6-2-2/2025-12-09/
LOCATION:Room 1
CATEGORIES:Room 1
END:VEVENT
BEGIN:VEVENT
DTSTART;TZID=America/Edmonton:20251204T120000
DTEND;TZID=America/Edmonton:20251204T200000
DTSTAMP:20260423T072222
CREATED:20250320T170707Z
LAST-MODIFIED:20260317T233752Z
UID:10005454-1764849600-1764878400@communitycounsellingcentre.ca
SUMMARY:Sabrina
DESCRIPTION:
URL:https://communitycounsellingcentre.ca/event/sabrina-12/2025-12-04/
LOCATION:Room 1
CATEGORIES:Room 1
END:VEVENT
BEGIN:VEVENT
DTSTART;TZID=America/Edmonton:20251203T110000
DTEND;TZID=America/Edmonton:20251203T190000
DTSTAMP:20260423T072222
CREATED:20251125T154531Z
LAST-MODIFIED:20251125T154531Z
UID:10006147-1764759600-1764788400@communitycounsellingcentre.ca
SUMMARY:Sam
DESCRIPTION:
URL:https://communitycounsellingcentre.ca/event/sam/2025-12-03/
LOCATION:Room 1
CATEGORIES:Room 1
END:VEVENT
BEGIN:VEVENT
DTSTART;TZID=America/Edmonton:20251202T110000
DTEND;TZID=America/Edmonton:20251202T190000
DTSTAMP:20260423T072222
CREATED:20241127T172306Z
LAST-MODIFIED:20251126T022940Z
UID:10006141-1764673200-1764702000@communitycounsellingcentre.ca
SUMMARY:Sam
DESCRIPTION:
URL:https://communitycounsellingcentre.ca/event/sam-6-2-2/2025-12-02/
LOCATION:Room 1
CATEGORIES:Room 1
END:VEVENT
BEGIN:VEVENT
DTSTART;TZID=America/Edmonton:20251127T120000
DTEND;TZID=America/Edmonton:20251127T200000
DTSTAMP:20260423T072222
CREATED:20250320T170707Z
LAST-MODIFIED:20260317T233752Z
UID:10005453-1764244800-1764273600@communitycounsellingcentre.ca
SUMMARY:Sabrina
DESCRIPTION:
URL:https://communitycounsellingcentre.ca/event/sabrina-12/2025-11-27/
LOCATION:Room 1
CATEGORIES:Room 1
END:VEVENT
BEGIN:VEVENT
DTSTART;TZID=America/Edmonton:20251126T110000
DTEND;TZID=America/Edmonton:20251126T190000
DTSTAMP:20260423T072222
CREATED:20251125T154531Z
LAST-MODIFIED:20251125T154531Z
UID:10006146-1764154800-1764183600@communitycounsellingcentre.ca
SUMMARY:Sam
DESCRIPTION:
URL:https://communitycounsellingcentre.ca/event/sam/2025-11-26/
LOCATION:Room 1
CATEGORIES:Room 1
END:VEVENT
BEGIN:VEVENT
DTSTART;TZID=America/Edmonton:20251125T110000
DTEND;TZID=America/Edmonton:20251125T190000
DTSTAMP:20260423T072222
CREATED:20241127T172306Z
LAST-MODIFIED:20251126T022940Z
UID:10006140-1764068400-1764097200@communitycounsellingcentre.ca
SUMMARY:Sam
DESCRIPTION:
URL:https://communitycounsellingcentre.ca/event/sam-6-2-2/2025-11-25/
LOCATION:Room 1
CATEGORIES:Room 1
END:VEVENT
BEGIN:VEVENT
DTSTART;TZID=America/Edmonton:20251120T120000
DTEND;TZID=America/Edmonton:20251120T200000
DTSTAMP:20260423T072222
CREATED:20250320T170707Z
LAST-MODIFIED:20260317T233752Z
UID:10005452-1763640000-1763668800@communitycounsellingcentre.ca
SUMMARY:Sabrina
DESCRIPTION:
URL:https://communitycounsellingcentre.ca/event/sabrina-12/2025-11-20/
LOCATION:Room 1
CATEGORIES:Room 1
END:VEVENT
END:VCALENDAR