BEGIN:VCALENDAR
VERSION:2.0
PRODID:-//Community Counselling Centre - ECPv6.13.1//NONSGML v1.0//EN
CALSCALE:GREGORIAN
METHOD:PUBLISH
X-ORIGINAL-URL:https://communitycounsellingcentre.ca
X-WR-CALDESC:Events for Community Counselling Centre
REFRESH-INTERVAL;VALUE=DURATION:PT1H
X-Robots-Tag:noindex
X-PUBLISHED-TTL:PT1H
BEGIN:VTIMEZONE
TZID:America/Edmonton
BEGIN:DAYLIGHT
TZOFFSETFROM:-0700
TZOFFSETTO:-0600
TZNAME:MDT
DTSTART:20250309T090000
END:DAYLIGHT
BEGIN:STANDARD
TZOFFSETFROM:-0600
TZOFFSETTO:-0700
TZNAME:MST
DTSTART:20251102T080000
END:STANDARD
END:VTIMEZONE
BEGIN:VEVENT
DTSTART;TZID=America/Edmonton:20250625T120000
DTEND;TZID=America/Edmonton:20250625T200000
DTSTAMP:20260422T233143
CREATED:20241123T192303Z
LAST-MODIFIED:20251126T022729Z
UID:10004820-1750852800-1750881600@communitycounsellingcentre.ca
SUMMARY:Sabrina
DESCRIPTION:
URL:https://communitycounsellingcentre.ca/event/sabrina-10/2025-06-25/
LOCATION:Room 2
CATEGORIES:Room 2
END:VEVENT
BEGIN:VEVENT
DTSTART;TZID=America/Edmonton:20250618T120000
DTEND;TZID=America/Edmonton:20250618T200000
DTSTAMP:20260422T233143
CREATED:20241123T192303Z
LAST-MODIFIED:20251126T022729Z
UID:10004819-1750248000-1750276800@communitycounsellingcentre.ca
SUMMARY:Sabrina
DESCRIPTION:
URL:https://communitycounsellingcentre.ca/event/sabrina-10/2025-06-18/
LOCATION:Room 2
CATEGORIES:Room 2
END:VEVENT
BEGIN:VEVENT
DTSTART;TZID=America/Edmonton:20250611T120000
DTEND;TZID=America/Edmonton:20250611T200000
DTSTAMP:20260422T233143
CREATED:20241123T192303Z
LAST-MODIFIED:20251126T022729Z
UID:10004818-1749643200-1749672000@communitycounsellingcentre.ca
SUMMARY:Sabrina
DESCRIPTION:
URL:https://communitycounsellingcentre.ca/event/sabrina-10/2025-06-11/
LOCATION:Room 2
CATEGORIES:Room 2
END:VEVENT
BEGIN:VEVENT
DTSTART;TZID=America/Edmonton:20250604T120000
DTEND;TZID=America/Edmonton:20250604T200000
DTSTAMP:20260422T233143
CREATED:20241123T192303Z
LAST-MODIFIED:20251126T022729Z
UID:10004817-1749038400-1749067200@communitycounsellingcentre.ca
SUMMARY:Sabrina
DESCRIPTION:
URL:https://communitycounsellingcentre.ca/event/sabrina-10/2025-06-04/
LOCATION:Room 2
CATEGORIES:Room 2
END:VEVENT
BEGIN:VEVENT
DTSTART;TZID=America/Edmonton:20250528T120000
DTEND;TZID=America/Edmonton:20250528T200000
DTSTAMP:20260422T233143
CREATED:20241123T192303Z
LAST-MODIFIED:20251126T022729Z
UID:10004816-1748433600-1748462400@communitycounsellingcentre.ca
SUMMARY:Sabrina
DESCRIPTION:
URL:https://communitycounsellingcentre.ca/event/sabrina-10/2025-05-28/
LOCATION:Room 2
CATEGORIES:Room 2
END:VEVENT
BEGIN:VEVENT
DTSTART;TZID=America/Edmonton:20250521T120000
DTEND;TZID=America/Edmonton:20250521T200000
DTSTAMP:20260422T233143
CREATED:20241123T192303Z
LAST-MODIFIED:20251126T022729Z
UID:10004815-1747828800-1747857600@communitycounsellingcentre.ca
SUMMARY:Sabrina
DESCRIPTION:
URL:https://communitycounsellingcentre.ca/event/sabrina-10/2025-05-21/
LOCATION:Room 2
CATEGORIES:Room 2
END:VEVENT
BEGIN:VEVENT
DTSTART;TZID=America/Edmonton:20250514T120000
DTEND;TZID=America/Edmonton:20250514T200000
DTSTAMP:20260422T233143
CREATED:20241123T192303Z
LAST-MODIFIED:20251126T022729Z
UID:10004814-1747224000-1747252800@communitycounsellingcentre.ca
SUMMARY:Sabrina
DESCRIPTION:
URL:https://communitycounsellingcentre.ca/event/sabrina-10/2025-05-14/
LOCATION:Room 2
CATEGORIES:Room 2
END:VEVENT
BEGIN:VEVENT
DTSTART;TZID=America/Edmonton:20250507T120000
DTEND;TZID=America/Edmonton:20250507T200000
DTSTAMP:20260422T233143
CREATED:20241123T192303Z
LAST-MODIFIED:20251126T022729Z
UID:10004813-1746619200-1746648000@communitycounsellingcentre.ca
SUMMARY:Sabrina
DESCRIPTION:
URL:https://communitycounsellingcentre.ca/event/sabrina-10/2025-05-07/
LOCATION:Room 2
CATEGORIES:Room 2
END:VEVENT
BEGIN:VEVENT
DTSTART;TZID=America/Edmonton:20250430T120000
DTEND;TZID=America/Edmonton:20250430T200000
DTSTAMP:20260422T233143
CREATED:20241123T192303Z
LAST-MODIFIED:20251126T022729Z
UID:10004812-1746014400-1746043200@communitycounsellingcentre.ca
SUMMARY:Sabrina
DESCRIPTION:
URL:https://communitycounsellingcentre.ca/event/sabrina-10/2025-04-30/
LOCATION:Room 2
CATEGORIES:Room 2
END:VEVENT
BEGIN:VEVENT
DTSTART;TZID=America/Edmonton:20250423T120000
DTEND;TZID=America/Edmonton:20250423T200000
DTSTAMP:20260422T233143
CREATED:20241123T192303Z
LAST-MODIFIED:20251126T022729Z
UID:10004811-1745409600-1745438400@communitycounsellingcentre.ca
SUMMARY:Sabrina
DESCRIPTION:
URL:https://communitycounsellingcentre.ca/event/sabrina-10/2025-04-23/
LOCATION:Room 2
CATEGORIES:Room 2
END:VEVENT
BEGIN:VEVENT
DTSTART;TZID=America/Edmonton:20250416T120000
DTEND;TZID=America/Edmonton:20250416T200000
DTSTAMP:20260422T233143
CREATED:20241123T192303Z
LAST-MODIFIED:20251126T022729Z
UID:10004810-1744804800-1744833600@communitycounsellingcentre.ca
SUMMARY:Sabrina
DESCRIPTION:
URL:https://communitycounsellingcentre.ca/event/sabrina-10/2025-04-16/
LOCATION:Room 2
CATEGORIES:Room 2
END:VEVENT
BEGIN:VEVENT
DTSTART;TZID=America/Edmonton:20250409T120000
DTEND;TZID=America/Edmonton:20250409T200000
DTSTAMP:20260422T233143
CREATED:20241123T192303Z
LAST-MODIFIED:20251126T022729Z
UID:10004809-1744200000-1744228800@communitycounsellingcentre.ca
SUMMARY:Sabrina
DESCRIPTION:
URL:https://communitycounsellingcentre.ca/event/sabrina-10/2025-04-09/
LOCATION:Room 2
CATEGORIES:Room 2
END:VEVENT
BEGIN:VEVENT
DTSTART;TZID=America/Edmonton:20250402T120000
DTEND;TZID=America/Edmonton:20250402T200000
DTSTAMP:20260422T233143
CREATED:20241123T192303Z
LAST-MODIFIED:20251126T022729Z
UID:10004808-1743595200-1743624000@communitycounsellingcentre.ca
SUMMARY:Sabrina
DESCRIPTION:
URL:https://communitycounsellingcentre.ca/event/sabrina-10/2025-04-02/
LOCATION:Room 2
CATEGORIES:Room 2
END:VEVENT
BEGIN:VEVENT
DTSTART;TZID=America/Edmonton:20250326T120000
DTEND;TZID=America/Edmonton:20250326T200000
DTSTAMP:20260422T233143
CREATED:20241123T192303Z
LAST-MODIFIED:20251126T022729Z
UID:10004807-1742990400-1743019200@communitycounsellingcentre.ca
SUMMARY:Sabrina
DESCRIPTION:
URL:https://communitycounsellingcentre.ca/event/sabrina-10/2025-03-26/
LOCATION:Room 2
CATEGORIES:Room 2
END:VEVENT
BEGIN:VEVENT
DTSTART;TZID=America/Edmonton:20250319T120000
DTEND;TZID=America/Edmonton:20250319T200000
DTSTAMP:20260422T233143
CREATED:20241123T192303Z
LAST-MODIFIED:20251126T022729Z
UID:10004806-1742385600-1742414400@communitycounsellingcentre.ca
SUMMARY:Sabrina
DESCRIPTION:
URL:https://communitycounsellingcentre.ca/event/sabrina-10/2025-03-19/
LOCATION:Room 2
CATEGORIES:Room 2
END:VEVENT
BEGIN:VEVENT
DTSTART;TZID=America/Edmonton:20250312T120000
DTEND;TZID=America/Edmonton:20250312T200000
DTSTAMP:20260422T233143
CREATED:20241123T192303Z
LAST-MODIFIED:20251126T022729Z
UID:10004805-1741780800-1741809600@communitycounsellingcentre.ca
SUMMARY:Sabrina
DESCRIPTION:
URL:https://communitycounsellingcentre.ca/event/sabrina-10/2025-03-12/
LOCATION:Room 2
CATEGORIES:Room 2
END:VEVENT
BEGIN:VEVENT
DTSTART;TZID=America/Edmonton:20250305T120000
DTEND;TZID=America/Edmonton:20250305T200000
DTSTAMP:20260422T233143
CREATED:20241123T192303Z
LAST-MODIFIED:20251126T022729Z
UID:10004804-1741176000-1741204800@communitycounsellingcentre.ca
SUMMARY:Sabrina
DESCRIPTION:
URL:https://communitycounsellingcentre.ca/event/sabrina-10/2025-03-05/
LOCATION:Room 2
CATEGORIES:Room 2
END:VEVENT
BEGIN:VEVENT
DTSTART;TZID=America/Edmonton:20250226T120000
DTEND;TZID=America/Edmonton:20250226T200000
DTSTAMP:20260422T233143
CREATED:20241123T192303Z
LAST-MODIFIED:20251126T022729Z
UID:10004803-1740571200-1740600000@communitycounsellingcentre.ca
SUMMARY:Sabrina
DESCRIPTION:
URL:https://communitycounsellingcentre.ca/event/sabrina-10/2025-02-26/
LOCATION:Room 2
CATEGORIES:Room 2
END:VEVENT
BEGIN:VEVENT
DTSTART;TZID=America/Edmonton:20250219T120000
DTEND;TZID=America/Edmonton:20250219T200000
DTSTAMP:20260422T233143
CREATED:20241123T192303Z
LAST-MODIFIED:20251126T022729Z
UID:10004802-1739966400-1739995200@communitycounsellingcentre.ca
SUMMARY:Sabrina
DESCRIPTION:
URL:https://communitycounsellingcentre.ca/event/sabrina-10/2025-02-19/
LOCATION:Room 2
CATEGORIES:Room 2
END:VEVENT
BEGIN:VEVENT
DTSTART;TZID=America/Edmonton:20250212T120000
DTEND;TZID=America/Edmonton:20250212T200000
DTSTAMP:20260422T233143
CREATED:20241123T192303Z
LAST-MODIFIED:20251126T022729Z
UID:10004801-1739361600-1739390400@communitycounsellingcentre.ca
SUMMARY:Sabrina
DESCRIPTION:
URL:https://communitycounsellingcentre.ca/event/sabrina-10/2025-02-12/
LOCATION:Room 2
CATEGORIES:Room 2
END:VEVENT
BEGIN:VEVENT
DTSTART;TZID=America/Edmonton:20250205T120000
DTEND;TZID=America/Edmonton:20250205T200000
DTSTAMP:20260422T233143
CREATED:20241123T192303Z
LAST-MODIFIED:20251126T022729Z
UID:10004800-1738756800-1738785600@communitycounsellingcentre.ca
SUMMARY:Sabrina
DESCRIPTION:
URL:https://communitycounsellingcentre.ca/event/sabrina-10/2025-02-05/
LOCATION:Room 2
CATEGORIES:Room 2
END:VEVENT
BEGIN:VEVENT
DTSTART;TZID=America/Edmonton:20250129T120000
DTEND;TZID=America/Edmonton:20250129T200000
DTSTAMP:20260422T233143
CREATED:20241123T192303Z
LAST-MODIFIED:20251126T022729Z
UID:10004799-1738152000-1738180800@communitycounsellingcentre.ca
SUMMARY:Sabrina
DESCRIPTION:
URL:https://communitycounsellingcentre.ca/event/sabrina-10/2025-01-29/
LOCATION:Room 2
CATEGORIES:Room 2
END:VEVENT
BEGIN:VEVENT
DTSTART;TZID=America/Edmonton:20250122T120000
DTEND;TZID=America/Edmonton:20250122T200000
DTSTAMP:20260422T233143
CREATED:20241123T192303Z
LAST-MODIFIED:20251126T022729Z
UID:10004798-1737547200-1737576000@communitycounsellingcentre.ca
SUMMARY:Sabrina
DESCRIPTION:
URL:https://communitycounsellingcentre.ca/event/sabrina-10/2025-01-22/
LOCATION:Room 2
CATEGORIES:Room 2
END:VEVENT
BEGIN:VEVENT
DTSTART;TZID=America/Edmonton:20250115T120000
DTEND;TZID=America/Edmonton:20250115T200000
DTSTAMP:20260422T233143
CREATED:20241123T192303Z
LAST-MODIFIED:20251126T022729Z
UID:10004797-1736942400-1736971200@communitycounsellingcentre.ca
SUMMARY:Sabrina
DESCRIPTION:
URL:https://communitycounsellingcentre.ca/event/sabrina-10/2025-01-15/
LOCATION:Room 2
CATEGORIES:Room 2
END:VEVENT
BEGIN:VEVENT
DTSTART;TZID=America/Edmonton:20250108T120000
DTEND;TZID=America/Edmonton:20250108T200000
DTSTAMP:20260422T233143
CREATED:20241123T192303Z
LAST-MODIFIED:20251126T022729Z
UID:10004796-1736337600-1736366400@communitycounsellingcentre.ca
SUMMARY:Sabrina
DESCRIPTION:
URL:https://communitycounsellingcentre.ca/event/sabrina-10/2025-01-08/
LOCATION:Room 2
CATEGORIES:Room 2
END:VEVENT
BEGIN:VEVENT
DTSTART;TZID=America/Edmonton:20250101T120000
DTEND;TZID=America/Edmonton:20250101T200000
DTSTAMP:20260422T233143
CREATED:20241123T192303Z
LAST-MODIFIED:20251126T022729Z
UID:10005105-1735732800-1735761600@communitycounsellingcentre.ca
SUMMARY:Sabrina
DESCRIPTION:
URL:https://communitycounsellingcentre.ca/event/sabrina-10/2025-01-01/
LOCATION:Room 2
CATEGORIES:Room 2
END:VEVENT
END:VCALENDAR