BEGIN:VCALENDAR
VERSION:2.0
PRODID:-//Community Counselling Centre - ECPv6.13.1//NONSGML v1.0//EN
CALSCALE:GREGORIAN
METHOD:PUBLISH
X-WR-CALNAME:Community Counselling Centre
X-ORIGINAL-URL:https://communitycounsellingcentre.ca
X-WR-CALDESC:Events for Community Counselling Centre
REFRESH-INTERVAL;VALUE=DURATION:PT1H
X-Robots-Tag:noindex
X-PUBLISHED-TTL:PT1H
BEGIN:VTIMEZONE
TZID:America/Edmonton
BEGIN:DAYLIGHT
TZOFFSETFROM:-0700
TZOFFSETTO:-0600
TZNAME:MDT
DTSTART:20260308T090000
END:DAYLIGHT
BEGIN:STANDARD
TZOFFSETFROM:-0600
TZOFFSETTO:-0700
TZNAME:MST
DTSTART:20261101T080000
END:STANDARD
END:VTIMEZONE
BEGIN:VEVENT
DTSTART;TZID=America/Edmonton:20260827T140000
DTEND;TZID=America/Edmonton:20260827T200000
DTSTAMP:20260422T182140
CREATED:20251027T230208Z
LAST-MODIFIED:20251126T021620Z
UID:10006562-1787839200-1787860800@communitycounsellingcentre.ca
SUMMARY:Nick
DESCRIPTION:
URL:https://communitycounsellingcentre.ca/event/nick-5-2/2026-08-27/
LOCATION:Room 2
CATEGORIES:Room 2
END:VEVENT
BEGIN:VEVENT
DTSTART;TZID=America/Edmonton:20260830T130000
DTEND;TZID=America/Edmonton:20260830T210000
DTSTAMP:20260422T182140
CREATED:20260324T212100Z
LAST-MODIFIED:20260324T212100Z
UID:10008301-1788094800-1788123600@communitycounsellingcentre.ca
SUMMARY:Barb
DESCRIPTION:
URL:https://communitycounsellingcentre.ca/event/barb-2/2026-08-30/
LOCATION:Room 2
CATEGORIES:Room 2
END:VEVENT
BEGIN:VEVENT
DTSTART;TZID=America/Edmonton:20260831T100000
DTEND;TZID=America/Edmonton:20260831T140000
DTSTAMP:20260422T182140
CREATED:20260317T234650Z
LAST-MODIFIED:20260317T234650Z
UID:10008220-1788170400-1788184800@communitycounsellingcentre.ca
SUMMARY:Claire
DESCRIPTION:
URL:https://communitycounsellingcentre.ca/event/claire-4/2026-08-31/
LOCATION:Room 2
CATEGORIES:Room 2
END:VEVENT
BEGIN:VEVENT
DTSTART;TZID=America/Edmonton:20260831T170000
DTEND;TZID=America/Edmonton:20260831T210000
DTSTAMP:20260422T182140
CREATED:20260324T211943Z
LAST-MODIFIED:20260324T211943Z
UID:10008262-1788195600-1788210000@communitycounsellingcentre.ca
SUMMARY:Barb
DESCRIPTION:
URL:https://communitycounsellingcentre.ca/event/barb/2026-08-31/
LOCATION:Room 2
CATEGORIES:Room 2
END:VEVENT
BEGIN:VEVENT
DTSTART;TZID=America/Edmonton:20260901T150000
DTEND;TZID=America/Edmonton:20260901T190000
DTSTAMP:20260422T182140
CREATED:20250916T200850Z
LAST-MODIFIED:20250916T201158Z
UID:10005791-1788274800-1788289200@communitycounsellingcentre.ca
SUMMARY:Cecilia
DESCRIPTION:
URL:https://communitycounsellingcentre.ca/event/cecilia-35/2026-09-01/
LOCATION:Room 2
CATEGORIES:Room 2
END:VEVENT
BEGIN:VEVENT
DTSTART;TZID=America/Edmonton:20260902T120000
DTEND;TZID=America/Edmonton:20260902T200000
DTSTAMP:20260422T182140
CREATED:20241123T192303Z
LAST-MODIFIED:20251126T022729Z
UID:10007138-1788350400-1788379200@communitycounsellingcentre.ca
SUMMARY:Sabrina
DESCRIPTION:
URL:https://communitycounsellingcentre.ca/event/sabrina-10/2026-09-02/
LOCATION:Room 2
CATEGORIES:Room 2
END:VEVENT
BEGIN:VEVENT
DTSTART;TZID=America/Edmonton:20260903T140000
DTEND;TZID=America/Edmonton:20260903T200000
DTSTAMP:20260422T182140
CREATED:20251027T230208Z
LAST-MODIFIED:20251126T021620Z
UID:10006563-1788444000-1788465600@communitycounsellingcentre.ca
SUMMARY:Nick
DESCRIPTION:
URL:https://communitycounsellingcentre.ca/event/nick-5-2/2026-09-03/
LOCATION:Room 2
CATEGORIES:Room 2
END:VEVENT
BEGIN:VEVENT
DTSTART;TZID=America/Edmonton:20260906T130000
DTEND;TZID=America/Edmonton:20260906T210000
DTSTAMP:20260422T182140
CREATED:20260324T212100Z
LAST-MODIFIED:20260324T212100Z
UID:10008302-1788699600-1788728400@communitycounsellingcentre.ca
SUMMARY:Barb
DESCRIPTION:
URL:https://communitycounsellingcentre.ca/event/barb-2/2026-09-06/
LOCATION:Room 2
CATEGORIES:Room 2
END:VEVENT
BEGIN:VEVENT
DTSTART;TZID=America/Edmonton:20260907T100000
DTEND;TZID=America/Edmonton:20260907T140000
DTSTAMP:20260422T182140
CREATED:20260317T234650Z
LAST-MODIFIED:20260317T234650Z
UID:10008221-1788775200-1788789600@communitycounsellingcentre.ca
SUMMARY:Claire
DESCRIPTION:
URL:https://communitycounsellingcentre.ca/event/claire-4/2026-09-07/
LOCATION:Room 2
CATEGORIES:Room 2
END:VEVENT
BEGIN:VEVENT
DTSTART;TZID=America/Edmonton:20260907T170000
DTEND;TZID=America/Edmonton:20260907T210000
DTSTAMP:20260422T182140
CREATED:20260324T211943Z
LAST-MODIFIED:20260324T211943Z
UID:10008263-1788800400-1788814800@communitycounsellingcentre.ca
SUMMARY:Barb
DESCRIPTION:
URL:https://communitycounsellingcentre.ca/event/barb/2026-09-07/
LOCATION:Room 2
CATEGORIES:Room 2
END:VEVENT
BEGIN:VEVENT
DTSTART;TZID=America/Edmonton:20260908T150000
DTEND;TZID=America/Edmonton:20260908T190000
DTSTAMP:20260422T182140
CREATED:20250916T200850Z
LAST-MODIFIED:20250916T201158Z
UID:10005792-1788879600-1788894000@communitycounsellingcentre.ca
SUMMARY:Cecilia
DESCRIPTION:
URL:https://communitycounsellingcentre.ca/event/cecilia-35/2026-09-08/
LOCATION:Room 2
CATEGORIES:Room 2
END:VEVENT
BEGIN:VEVENT
DTSTART;TZID=America/Edmonton:20260909T120000
DTEND;TZID=America/Edmonton:20260909T200000
DTSTAMP:20260422T182140
CREATED:20241123T192303Z
LAST-MODIFIED:20251126T022729Z
UID:10007139-1788955200-1788984000@communitycounsellingcentre.ca
SUMMARY:Sabrina
DESCRIPTION:
URL:https://communitycounsellingcentre.ca/event/sabrina-10/2026-09-09/
LOCATION:Room 2
CATEGORIES:Room 2
END:VEVENT
BEGIN:VEVENT
DTSTART;TZID=America/Edmonton:20260910T140000
DTEND;TZID=America/Edmonton:20260910T200000
DTSTAMP:20260422T182140
CREATED:20251027T230208Z
LAST-MODIFIED:20251126T021620Z
UID:10006564-1789048800-1789070400@communitycounsellingcentre.ca
SUMMARY:Nick
DESCRIPTION:
URL:https://communitycounsellingcentre.ca/event/nick-5-2/2026-09-10/
LOCATION:Room 2
CATEGORIES:Room 2
END:VEVENT
BEGIN:VEVENT
DTSTART;TZID=America/Edmonton:20260913T130000
DTEND;TZID=America/Edmonton:20260913T210000
DTSTAMP:20260422T182140
CREATED:20260324T212100Z
LAST-MODIFIED:20260324T212100Z
UID:10008303-1789304400-1789333200@communitycounsellingcentre.ca
SUMMARY:Barb
DESCRIPTION:
URL:https://communitycounsellingcentre.ca/event/barb-2/2026-09-13/
LOCATION:Room 2
CATEGORIES:Room 2
END:VEVENT
BEGIN:VEVENT
DTSTART;TZID=America/Edmonton:20260914T100000
DTEND;TZID=America/Edmonton:20260914T140000
DTSTAMP:20260422T182140
CREATED:20260317T234650Z
LAST-MODIFIED:20260317T234650Z
UID:10008222-1789380000-1789394400@communitycounsellingcentre.ca
SUMMARY:Claire
DESCRIPTION:
URL:https://communitycounsellingcentre.ca/event/claire-4/2026-09-14/
LOCATION:Room 2
CATEGORIES:Room 2
END:VEVENT
BEGIN:VEVENT
DTSTART;TZID=America/Edmonton:20260914T170000
DTEND;TZID=America/Edmonton:20260914T210000
DTSTAMP:20260422T182140
CREATED:20260324T211943Z
LAST-MODIFIED:20260324T211943Z
UID:10008264-1789405200-1789419600@communitycounsellingcentre.ca
SUMMARY:Barb
DESCRIPTION:
URL:https://communitycounsellingcentre.ca/event/barb/2026-09-14/
LOCATION:Room 2
CATEGORIES:Room 2
END:VEVENT
BEGIN:VEVENT
DTSTART;TZID=America/Edmonton:20260915T150000
DTEND;TZID=America/Edmonton:20260915T190000
DTSTAMP:20260422T182140
CREATED:20250916T200850Z
LAST-MODIFIED:20250916T201158Z
UID:10005793-1789484400-1789498800@communitycounsellingcentre.ca
SUMMARY:Cecilia
DESCRIPTION:
URL:https://communitycounsellingcentre.ca/event/cecilia-35/2026-09-15/
LOCATION:Room 2
CATEGORIES:Room 2
END:VEVENT
BEGIN:VEVENT
DTSTART;TZID=America/Edmonton:20260916T120000
DTEND;TZID=America/Edmonton:20260916T200000
DTSTAMP:20260422T182140
CREATED:20241123T192303Z
LAST-MODIFIED:20251126T022729Z
UID:10007140-1789560000-1789588800@communitycounsellingcentre.ca
SUMMARY:Sabrina
DESCRIPTION:
URL:https://communitycounsellingcentre.ca/event/sabrina-10/2026-09-16/
LOCATION:Room 2
CATEGORIES:Room 2
END:VEVENT
BEGIN:VEVENT
DTSTART;TZID=America/Edmonton:20260917T140000
DTEND;TZID=America/Edmonton:20260917T200000
DTSTAMP:20260422T182140
CREATED:20251027T230208Z
LAST-MODIFIED:20251126T021620Z
UID:10006565-1789653600-1789675200@communitycounsellingcentre.ca
SUMMARY:Nick
DESCRIPTION:
URL:https://communitycounsellingcentre.ca/event/nick-5-2/2026-09-17/
LOCATION:Room 2
CATEGORIES:Room 2
END:VEVENT
BEGIN:VEVENT
DTSTART;TZID=America/Edmonton:20260920T130000
DTEND;TZID=America/Edmonton:20260920T210000
DTSTAMP:20260422T182140
CREATED:20260324T212100Z
LAST-MODIFIED:20260324T212100Z
UID:10008304-1789909200-1789938000@communitycounsellingcentre.ca
SUMMARY:Barb
DESCRIPTION:
URL:https://communitycounsellingcentre.ca/event/barb-2/2026-09-20/
LOCATION:Room 2
CATEGORIES:Room 2
END:VEVENT
BEGIN:VEVENT
DTSTART;TZID=America/Edmonton:20260921T100000
DTEND;TZID=America/Edmonton:20260921T140000
DTSTAMP:20260422T182140
CREATED:20260317T234650Z
LAST-MODIFIED:20260317T234650Z
UID:10008223-1789984800-1789999200@communitycounsellingcentre.ca
SUMMARY:Claire
DESCRIPTION:
URL:https://communitycounsellingcentre.ca/event/claire-4/2026-09-21/
LOCATION:Room 2
CATEGORIES:Room 2
END:VEVENT
BEGIN:VEVENT
DTSTART;TZID=America/Edmonton:20260921T170000
DTEND;TZID=America/Edmonton:20260921T210000
DTSTAMP:20260422T182140
CREATED:20260324T211943Z
LAST-MODIFIED:20260324T211943Z
UID:10008265-1790010000-1790024400@communitycounsellingcentre.ca
SUMMARY:Barb
DESCRIPTION:
URL:https://communitycounsellingcentre.ca/event/barb/2026-09-21/
LOCATION:Room 2
CATEGORIES:Room 2
END:VEVENT
BEGIN:VEVENT
DTSTART;TZID=America/Edmonton:20260922T150000
DTEND;TZID=America/Edmonton:20260922T190000
DTSTAMP:20260422T182140
CREATED:20250916T200850Z
LAST-MODIFIED:20250916T201158Z
UID:10005794-1790089200-1790103600@communitycounsellingcentre.ca
SUMMARY:Cecilia
DESCRIPTION:
URL:https://communitycounsellingcentre.ca/event/cecilia-35/2026-09-22/
LOCATION:Room 2
CATEGORIES:Room 2
END:VEVENT
BEGIN:VEVENT
DTSTART;TZID=America/Edmonton:20260923T120000
DTEND;TZID=America/Edmonton:20260923T200000
DTSTAMP:20260422T182140
CREATED:20241123T192303Z
LAST-MODIFIED:20251126T022729Z
UID:10007141-1790164800-1790193600@communitycounsellingcentre.ca
SUMMARY:Sabrina
DESCRIPTION:
URL:https://communitycounsellingcentre.ca/event/sabrina-10/2026-09-23/
LOCATION:Room 2
CATEGORIES:Room 2
END:VEVENT
BEGIN:VEVENT
DTSTART;TZID=America/Edmonton:20260924T140000
DTEND;TZID=America/Edmonton:20260924T200000
DTSTAMP:20260422T182140
CREATED:20251027T230208Z
LAST-MODIFIED:20251126T021620Z
UID:10006566-1790258400-1790280000@communitycounsellingcentre.ca
SUMMARY:Nick
DESCRIPTION:
URL:https://communitycounsellingcentre.ca/event/nick-5-2/2026-09-24/
LOCATION:Room 2
CATEGORIES:Room 2
END:VEVENT
BEGIN:VEVENT
DTSTART;TZID=America/Edmonton:20260927T130000
DTEND;TZID=America/Edmonton:20260927T210000
DTSTAMP:20260422T182140
CREATED:20260324T212100Z
LAST-MODIFIED:20260324T212100Z
UID:10008305-1790514000-1790542800@communitycounsellingcentre.ca
SUMMARY:Barb
DESCRIPTION:
URL:https://communitycounsellingcentre.ca/event/barb-2/2026-09-27/
LOCATION:Room 2
CATEGORIES:Room 2
END:VEVENT
BEGIN:VEVENT
DTSTART;TZID=America/Edmonton:20260928T100000
DTEND;TZID=America/Edmonton:20260928T140000
DTSTAMP:20260422T182140
CREATED:20260317T234650Z
LAST-MODIFIED:20260317T234650Z
UID:10008224-1790589600-1790604000@communitycounsellingcentre.ca
SUMMARY:Claire
DESCRIPTION:
URL:https://communitycounsellingcentre.ca/event/claire-4/2026-09-28/
LOCATION:Room 2
CATEGORIES:Room 2
END:VEVENT
BEGIN:VEVENT
DTSTART;TZID=America/Edmonton:20260928T170000
DTEND;TZID=America/Edmonton:20260928T210000
DTSTAMP:20260422T182140
CREATED:20260324T211943Z
LAST-MODIFIED:20260324T211943Z
UID:10008266-1790614800-1790629200@communitycounsellingcentre.ca
SUMMARY:Barb
DESCRIPTION:
URL:https://communitycounsellingcentre.ca/event/barb/2026-09-28/
LOCATION:Room 2
CATEGORIES:Room 2
END:VEVENT
BEGIN:VEVENT
DTSTART;TZID=America/Edmonton:20260929T150000
DTEND;TZID=America/Edmonton:20260929T190000
DTSTAMP:20260422T182140
CREATED:20250916T200850Z
LAST-MODIFIED:20250916T201158Z
UID:10005795-1790694000-1790708400@communitycounsellingcentre.ca
SUMMARY:Cecilia
DESCRIPTION:
URL:https://communitycounsellingcentre.ca/event/cecilia-35/2026-09-29/
LOCATION:Room 2
CATEGORIES:Room 2
END:VEVENT
BEGIN:VEVENT
DTSTART;TZID=America/Edmonton:20260930T120000
DTEND;TZID=America/Edmonton:20260930T200000
DTSTAMP:20260422T182140
CREATED:20241123T192303Z
LAST-MODIFIED:20251126T022729Z
UID:10007142-1790769600-1790798400@communitycounsellingcentre.ca
SUMMARY:Sabrina
DESCRIPTION:
URL:https://communitycounsellingcentre.ca/event/sabrina-10/2026-09-30/
LOCATION:Room 2
CATEGORIES:Room 2
END:VEVENT
END:VCALENDAR