BEGIN:VCALENDAR
VERSION:2.0
PRODID:-//Community Counselling Centre - ECPv6.13.1//NONSGML v1.0//EN
CALSCALE:GREGORIAN
METHOD:PUBLISH
X-ORIGINAL-URL:https://communitycounsellingcentre.ca
X-WR-CALDESC:Events for Community Counselling Centre
REFRESH-INTERVAL;VALUE=DURATION:PT1H
X-Robots-Tag:noindex
X-PUBLISHED-TTL:PT1H
BEGIN:VTIMEZONE
TZID:America/Edmonton
BEGIN:DAYLIGHT
TZOFFSETFROM:-0700
TZOFFSETTO:-0600
TZNAME:MDT
DTSTART:20260308T090000
END:DAYLIGHT
BEGIN:STANDARD
TZOFFSETFROM:-0600
TZOFFSETTO:-0700
TZNAME:MST
DTSTART:20261101T080000
END:STANDARD
END:VTIMEZONE
BEGIN:VEVENT
DTSTART;TZID=America/Edmonton:20260927T130000
DTEND;TZID=America/Edmonton:20260927T210000
DTSTAMP:20260422T235847
CREATED:20260324T212100Z
LAST-MODIFIED:20260324T212100Z
UID:10008305-1790514000-1790542800@communitycounsellingcentre.ca
SUMMARY:Barb
DESCRIPTION:
URL:https://communitycounsellingcentre.ca/event/barb-2/2026-09-27/
LOCATION:Room 2
CATEGORIES:Room 2
END:VEVENT
BEGIN:VEVENT
DTSTART;TZID=America/Edmonton:20260928T100000
DTEND;TZID=America/Edmonton:20260928T140000
DTSTAMP:20260422T235847
CREATED:20260317T234650Z
LAST-MODIFIED:20260317T234650Z
UID:10008224-1790589600-1790604000@communitycounsellingcentre.ca
SUMMARY:Claire
DESCRIPTION:
URL:https://communitycounsellingcentre.ca/event/claire-4/2026-09-28/
LOCATION:Room 2
CATEGORIES:Room 2
END:VEVENT
BEGIN:VEVENT
DTSTART;TZID=America/Edmonton:20260928T170000
DTEND;TZID=America/Edmonton:20260928T210000
DTSTAMP:20260422T235847
CREATED:20260324T211943Z
LAST-MODIFIED:20260324T211943Z
UID:10008266-1790614800-1790629200@communitycounsellingcentre.ca
SUMMARY:Barb
DESCRIPTION:
URL:https://communitycounsellingcentre.ca/event/barb/2026-09-28/
LOCATION:Room 2
CATEGORIES:Room 2
END:VEVENT
BEGIN:VEVENT
DTSTART;TZID=America/Edmonton:20260929T150000
DTEND;TZID=America/Edmonton:20260929T190000
DTSTAMP:20260422T235847
CREATED:20250916T200850Z
LAST-MODIFIED:20250916T201158Z
UID:10005795-1790694000-1790708400@communitycounsellingcentre.ca
SUMMARY:Cecilia
DESCRIPTION:
URL:https://communitycounsellingcentre.ca/event/cecilia-35/2026-09-29/
LOCATION:Room 2
CATEGORIES:Room 2
END:VEVENT
BEGIN:VEVENT
DTSTART;TZID=America/Edmonton:20260930T120000
DTEND;TZID=America/Edmonton:20260930T200000
DTSTAMP:20260422T235847
CREATED:20241123T192303Z
LAST-MODIFIED:20251126T022729Z
UID:10007142-1790769600-1790798400@communitycounsellingcentre.ca
SUMMARY:Sabrina
DESCRIPTION:
URL:https://communitycounsellingcentre.ca/event/sabrina-10/2026-09-30/
LOCATION:Room 2
CATEGORIES:Room 2
END:VEVENT
BEGIN:VEVENT
DTSTART;TZID=America/Edmonton:20261001T140000
DTEND;TZID=America/Edmonton:20261001T200000
DTSTAMP:20260422T235847
CREATED:20251027T230208Z
LAST-MODIFIED:20251126T021620Z
UID:10006567-1790863200-1790884800@communitycounsellingcentre.ca
SUMMARY:Nick
DESCRIPTION:
URL:https://communitycounsellingcentre.ca/event/nick-5-2/2026-10-01/
LOCATION:Room 2
CATEGORIES:Room 2
END:VEVENT
BEGIN:VEVENT
DTSTART;TZID=America/Edmonton:20261004T130000
DTEND;TZID=America/Edmonton:20261004T210000
DTSTAMP:20260422T235847
CREATED:20260324T212100Z
LAST-MODIFIED:20260324T212100Z
UID:10008306-1791118800-1791147600@communitycounsellingcentre.ca
SUMMARY:Barb
DESCRIPTION:
URL:https://communitycounsellingcentre.ca/event/barb-2/2026-10-04/
LOCATION:Room 2
CATEGORIES:Room 2
END:VEVENT
BEGIN:VEVENT
DTSTART;TZID=America/Edmonton:20261005T100000
DTEND;TZID=America/Edmonton:20261005T140000
DTSTAMP:20260422T235847
CREATED:20260317T234650Z
LAST-MODIFIED:20260317T234650Z
UID:10008225-1791194400-1791208800@communitycounsellingcentre.ca
SUMMARY:Claire
DESCRIPTION:
URL:https://communitycounsellingcentre.ca/event/claire-4/2026-10-05/
LOCATION:Room 2
CATEGORIES:Room 2
END:VEVENT
BEGIN:VEVENT
DTSTART;TZID=America/Edmonton:20261005T170000
DTEND;TZID=America/Edmonton:20261005T210000
DTSTAMP:20260422T235847
CREATED:20260324T211943Z
LAST-MODIFIED:20260324T211943Z
UID:10008267-1791219600-1791234000@communitycounsellingcentre.ca
SUMMARY:Barb
DESCRIPTION:
URL:https://communitycounsellingcentre.ca/event/barb/2026-10-05/
LOCATION:Room 2
CATEGORIES:Room 2
END:VEVENT
BEGIN:VEVENT
DTSTART;TZID=America/Edmonton:20261006T150000
DTEND;TZID=America/Edmonton:20261006T190000
DTSTAMP:20260422T235847
CREATED:20250916T200850Z
LAST-MODIFIED:20250916T201158Z
UID:10005796-1791298800-1791313200@communitycounsellingcentre.ca
SUMMARY:Cecilia
DESCRIPTION:
URL:https://communitycounsellingcentre.ca/event/cecilia-35/2026-10-06/
LOCATION:Room 2
CATEGORIES:Room 2
END:VEVENT
BEGIN:VEVENT
DTSTART;TZID=America/Edmonton:20261007T120000
DTEND;TZID=America/Edmonton:20261007T200000
DTSTAMP:20260422T235847
CREATED:20241123T192303Z
LAST-MODIFIED:20251126T022729Z
UID:10007143-1791374400-1791403200@communitycounsellingcentre.ca
SUMMARY:Sabrina
DESCRIPTION:
URL:https://communitycounsellingcentre.ca/event/sabrina-10/2026-10-07/
LOCATION:Room 2
CATEGORIES:Room 2
END:VEVENT
BEGIN:VEVENT
DTSTART;TZID=America/Edmonton:20261008T140000
DTEND;TZID=America/Edmonton:20261008T200000
DTSTAMP:20260422T235847
CREATED:20251027T230208Z
LAST-MODIFIED:20251126T021620Z
UID:10006568-1791468000-1791489600@communitycounsellingcentre.ca
SUMMARY:Nick
DESCRIPTION:
URL:https://communitycounsellingcentre.ca/event/nick-5-2/2026-10-08/
LOCATION:Room 2
CATEGORIES:Room 2
END:VEVENT
BEGIN:VEVENT
DTSTART;TZID=America/Edmonton:20261011T130000
DTEND;TZID=America/Edmonton:20261011T210000
DTSTAMP:20260422T235847
CREATED:20260324T212100Z
LAST-MODIFIED:20260324T212100Z
UID:10008307-1791723600-1791752400@communitycounsellingcentre.ca
SUMMARY:Barb
DESCRIPTION:
URL:https://communitycounsellingcentre.ca/event/barb-2/2026-10-11/
LOCATION:Room 2
CATEGORIES:Room 2
END:VEVENT
BEGIN:VEVENT
DTSTART;TZID=America/Edmonton:20261012T100000
DTEND;TZID=America/Edmonton:20261012T140000
DTSTAMP:20260422T235847
CREATED:20260317T234650Z
LAST-MODIFIED:20260317T234650Z
UID:10008226-1791799200-1791813600@communitycounsellingcentre.ca
SUMMARY:Claire
DESCRIPTION:
URL:https://communitycounsellingcentre.ca/event/claire-4/2026-10-12/
LOCATION:Room 2
CATEGORIES:Room 2
END:VEVENT
BEGIN:VEVENT
DTSTART;TZID=America/Edmonton:20261012T170000
DTEND;TZID=America/Edmonton:20261012T210000
DTSTAMP:20260422T235847
CREATED:20260324T211943Z
LAST-MODIFIED:20260324T211943Z
UID:10008268-1791824400-1791838800@communitycounsellingcentre.ca
SUMMARY:Barb
DESCRIPTION:
URL:https://communitycounsellingcentre.ca/event/barb/2026-10-12/
LOCATION:Room 2
CATEGORIES:Room 2
END:VEVENT
BEGIN:VEVENT
DTSTART;TZID=America/Edmonton:20261013T150000
DTEND;TZID=America/Edmonton:20261013T190000
DTSTAMP:20260422T235847
CREATED:20250916T200850Z
LAST-MODIFIED:20250916T201158Z
UID:10005797-1791903600-1791918000@communitycounsellingcentre.ca
SUMMARY:Cecilia
DESCRIPTION:
URL:https://communitycounsellingcentre.ca/event/cecilia-35/2026-10-13/
LOCATION:Room 2
CATEGORIES:Room 2
END:VEVENT
BEGIN:VEVENT
DTSTART;TZID=America/Edmonton:20261014T120000
DTEND;TZID=America/Edmonton:20261014T200000
DTSTAMP:20260422T235847
CREATED:20241123T192303Z
LAST-MODIFIED:20251126T022729Z
UID:10007144-1791979200-1792008000@communitycounsellingcentre.ca
SUMMARY:Sabrina
DESCRIPTION:
URL:https://communitycounsellingcentre.ca/event/sabrina-10/2026-10-14/
LOCATION:Room 2
CATEGORIES:Room 2
END:VEVENT
BEGIN:VEVENT
DTSTART;TZID=America/Edmonton:20261015T140000
DTEND;TZID=America/Edmonton:20261015T200000
DTSTAMP:20260422T235847
CREATED:20251027T230208Z
LAST-MODIFIED:20251126T021620Z
UID:10006569-1792072800-1792094400@communitycounsellingcentre.ca
SUMMARY:Nick
DESCRIPTION:
URL:https://communitycounsellingcentre.ca/event/nick-5-2/2026-10-15/
LOCATION:Room 2
CATEGORIES:Room 2
END:VEVENT
BEGIN:VEVENT
DTSTART;TZID=America/Edmonton:20261018T130000
DTEND;TZID=America/Edmonton:20261018T210000
DTSTAMP:20260422T235847
CREATED:20260324T212100Z
LAST-MODIFIED:20260324T212100Z
UID:10008308-1792328400-1792357200@communitycounsellingcentre.ca
SUMMARY:Barb
DESCRIPTION:
URL:https://communitycounsellingcentre.ca/event/barb-2/2026-10-18/
LOCATION:Room 2
CATEGORIES:Room 2
END:VEVENT
BEGIN:VEVENT
DTSTART;TZID=America/Edmonton:20261019T100000
DTEND;TZID=America/Edmonton:20261019T140000
DTSTAMP:20260422T235847
CREATED:20260317T234650Z
LAST-MODIFIED:20260317T234650Z
UID:10008227-1792404000-1792418400@communitycounsellingcentre.ca
SUMMARY:Claire
DESCRIPTION:
URL:https://communitycounsellingcentre.ca/event/claire-4/2026-10-19/
LOCATION:Room 2
CATEGORIES:Room 2
END:VEVENT
BEGIN:VEVENT
DTSTART;TZID=America/Edmonton:20261019T170000
DTEND;TZID=America/Edmonton:20261019T210000
DTSTAMP:20260422T235847
CREATED:20260324T211943Z
LAST-MODIFIED:20260324T211943Z
UID:10008269-1792429200-1792443600@communitycounsellingcentre.ca
SUMMARY:Barb
DESCRIPTION:
URL:https://communitycounsellingcentre.ca/event/barb/2026-10-19/
LOCATION:Room 2
CATEGORIES:Room 2
END:VEVENT
BEGIN:VEVENT
DTSTART;TZID=America/Edmonton:20261020T150000
DTEND;TZID=America/Edmonton:20261020T190000
DTSTAMP:20260422T235847
CREATED:20250916T200850Z
LAST-MODIFIED:20250916T201158Z
UID:10005798-1792508400-1792522800@communitycounsellingcentre.ca
SUMMARY:Cecilia
DESCRIPTION:
URL:https://communitycounsellingcentre.ca/event/cecilia-35/2026-10-20/
LOCATION:Room 2
CATEGORIES:Room 2
END:VEVENT
BEGIN:VEVENT
DTSTART;TZID=America/Edmonton:20261021T120000
DTEND;TZID=America/Edmonton:20261021T200000
DTSTAMP:20260422T235847
CREATED:20241123T192303Z
LAST-MODIFIED:20251126T022729Z
UID:10007145-1792584000-1792612800@communitycounsellingcentre.ca
SUMMARY:Sabrina
DESCRIPTION:
URL:https://communitycounsellingcentre.ca/event/sabrina-10/2026-10-21/
LOCATION:Room 2
CATEGORIES:Room 2
END:VEVENT
BEGIN:VEVENT
DTSTART;TZID=America/Edmonton:20261022T140000
DTEND;TZID=America/Edmonton:20261022T200000
DTSTAMP:20260422T235847
CREATED:20251027T230208Z
LAST-MODIFIED:20251126T021620Z
UID:10006570-1792677600-1792699200@communitycounsellingcentre.ca
SUMMARY:Nick
DESCRIPTION:
URL:https://communitycounsellingcentre.ca/event/nick-5-2/2026-10-22/
LOCATION:Room 2
CATEGORIES:Room 2
END:VEVENT
BEGIN:VEVENT
DTSTART;TZID=America/Edmonton:20261025T130000
DTEND;TZID=America/Edmonton:20261025T210000
DTSTAMP:20260422T235847
CREATED:20260324T212100Z
LAST-MODIFIED:20260324T212100Z
UID:10008309-1792933200-1792962000@communitycounsellingcentre.ca
SUMMARY:Barb
DESCRIPTION:
URL:https://communitycounsellingcentre.ca/event/barb-2/2026-10-25/
LOCATION:Room 2
CATEGORIES:Room 2
END:VEVENT
BEGIN:VEVENT
DTSTART;TZID=America/Edmonton:20261026T100000
DTEND;TZID=America/Edmonton:20261026T140000
DTSTAMP:20260422T235847
CREATED:20260317T234650Z
LAST-MODIFIED:20260317T234650Z
UID:10008228-1793008800-1793023200@communitycounsellingcentre.ca
SUMMARY:Claire
DESCRIPTION:
URL:https://communitycounsellingcentre.ca/event/claire-4/2026-10-26/
LOCATION:Room 2
CATEGORIES:Room 2
END:VEVENT
BEGIN:VEVENT
DTSTART;TZID=America/Edmonton:20261026T170000
DTEND;TZID=America/Edmonton:20261026T210000
DTSTAMP:20260422T235847
CREATED:20260324T211943Z
LAST-MODIFIED:20260324T211943Z
UID:10008270-1793034000-1793048400@communitycounsellingcentre.ca
SUMMARY:Barb
DESCRIPTION:
URL:https://communitycounsellingcentre.ca/event/barb/2026-10-26/
LOCATION:Room 2
CATEGORIES:Room 2
END:VEVENT
BEGIN:VEVENT
DTSTART;TZID=America/Edmonton:20261027T150000
DTEND;TZID=America/Edmonton:20261027T190000
DTSTAMP:20260422T235847
CREATED:20250916T200850Z
LAST-MODIFIED:20250916T201158Z
UID:10005799-1793113200-1793127600@communitycounsellingcentre.ca
SUMMARY:Cecilia
DESCRIPTION:
URL:https://communitycounsellingcentre.ca/event/cecilia-35/2026-10-27/
LOCATION:Room 2
CATEGORIES:Room 2
END:VEVENT
BEGIN:VEVENT
DTSTART;TZID=America/Edmonton:20261028T120000
DTEND;TZID=America/Edmonton:20261028T200000
DTSTAMP:20260422T235847
CREATED:20241123T192303Z
LAST-MODIFIED:20251126T022729Z
UID:10007146-1793188800-1793217600@communitycounsellingcentre.ca
SUMMARY:Sabrina
DESCRIPTION:
URL:https://communitycounsellingcentre.ca/event/sabrina-10/2026-10-28/
LOCATION:Room 2
CATEGORIES:Room 2
END:VEVENT
BEGIN:VEVENT
DTSTART;TZID=America/Edmonton:20261029T140000
DTEND;TZID=America/Edmonton:20261029T200000
DTSTAMP:20260422T235847
CREATED:20251027T230208Z
LAST-MODIFIED:20251126T021620Z
UID:10006571-1793282400-1793304000@communitycounsellingcentre.ca
SUMMARY:Nick
DESCRIPTION:
URL:https://communitycounsellingcentre.ca/event/nick-5-2/2026-10-29/
LOCATION:Room 2
CATEGORIES:Room 2
END:VEVENT
END:VCALENDAR