BEGIN:VCALENDAR
VERSION:2.0
PRODID:-//Community Counselling Centre - ECPv6.13.1//NONSGML v1.0//EN
CALSCALE:GREGORIAN
METHOD:PUBLISH
X-ORIGINAL-URL:https://communitycounsellingcentre.ca
X-WR-CALDESC:Events for Community Counselling Centre
REFRESH-INTERVAL;VALUE=DURATION:PT1H
X-Robots-Tag:noindex
X-PUBLISHED-TTL:PT1H
BEGIN:VTIMEZONE
TZID:America/Edmonton
BEGIN:DAYLIGHT
TZOFFSETFROM:-0700
TZOFFSETTO:-0600
TZNAME:MDT
DTSTART:20260308T090000
END:DAYLIGHT
BEGIN:STANDARD
TZOFFSETFROM:-0600
TZOFFSETTO:-0700
TZNAME:MST
DTSTART:20261101T080000
END:STANDARD
END:VTIMEZONE
BEGIN:VEVENT
DTSTART;TZID=America/Edmonton:20261122T130000
DTEND;TZID=America/Edmonton:20261122T210000
DTSTAMP:20260423T100919
CREATED:20260324T212100Z
LAST-MODIFIED:20260324T212100Z
UID:10008313-1795352400-1795381200@communitycounsellingcentre.ca
SUMMARY:Barb
DESCRIPTION:
URL:https://communitycounsellingcentre.ca/event/barb-2/2026-11-22/
LOCATION:Room 2
CATEGORIES:Room 2
END:VEVENT
BEGIN:VEVENT
DTSTART;TZID=America/Edmonton:20261123T100000
DTEND;TZID=America/Edmonton:20261123T140000
DTSTAMP:20260423T100919
CREATED:20260317T234650Z
LAST-MODIFIED:20260317T234650Z
UID:10008232-1795428000-1795442400@communitycounsellingcentre.ca
SUMMARY:Claire
DESCRIPTION:
URL:https://communitycounsellingcentre.ca/event/claire-4/2026-11-23/
LOCATION:Room 2
CATEGORIES:Room 2
END:VEVENT
BEGIN:VEVENT
DTSTART;TZID=America/Edmonton:20261123T170000
DTEND;TZID=America/Edmonton:20261123T210000
DTSTAMP:20260423T100919
CREATED:20260324T211943Z
LAST-MODIFIED:20260324T211943Z
UID:10008274-1795453200-1795467600@communitycounsellingcentre.ca
SUMMARY:Barb
DESCRIPTION:
URL:https://communitycounsellingcentre.ca/event/barb/2026-11-23/
LOCATION:Room 2
CATEGORIES:Room 2
END:VEVENT
BEGIN:VEVENT
DTSTART;TZID=America/Edmonton:20261124T150000
DTEND;TZID=America/Edmonton:20261124T190000
DTSTAMP:20260423T100919
CREATED:20250916T200850Z
LAST-MODIFIED:20250916T201158Z
UID:10005803-1795532400-1795546800@communitycounsellingcentre.ca
SUMMARY:Cecilia
DESCRIPTION:
URL:https://communitycounsellingcentre.ca/event/cecilia-35/2026-11-24/
LOCATION:Room 2
CATEGORIES:Room 2
END:VEVENT
BEGIN:VEVENT
DTSTART;TZID=America/Edmonton:20261125T120000
DTEND;TZID=America/Edmonton:20261125T200000
DTSTAMP:20260423T100919
CREATED:20241123T192303Z
LAST-MODIFIED:20251126T022729Z
UID:10007150-1795608000-1795636800@communitycounsellingcentre.ca
SUMMARY:Sabrina
DESCRIPTION:
URL:https://communitycounsellingcentre.ca/event/sabrina-10/2026-11-25/
LOCATION:Room 2
CATEGORIES:Room 2
END:VEVENT
BEGIN:VEVENT
DTSTART;TZID=America/Edmonton:20261126T140000
DTEND;TZID=America/Edmonton:20261126T200000
DTSTAMP:20260423T100919
CREATED:20251027T230208Z
LAST-MODIFIED:20251126T021620Z
UID:10006575-1795701600-1795723200@communitycounsellingcentre.ca
SUMMARY:Nick
DESCRIPTION:
URL:https://communitycounsellingcentre.ca/event/nick-5-2/2026-11-26/
LOCATION:Room 2
CATEGORIES:Room 2
END:VEVENT
BEGIN:VEVENT
DTSTART;TZID=America/Edmonton:20261129T130000
DTEND;TZID=America/Edmonton:20261129T210000
DTSTAMP:20260423T100919
CREATED:20260324T212100Z
LAST-MODIFIED:20260324T212100Z
UID:10008314-1795957200-1795986000@communitycounsellingcentre.ca
SUMMARY:Barb
DESCRIPTION:
URL:https://communitycounsellingcentre.ca/event/barb-2/2026-11-29/
LOCATION:Room 2
CATEGORIES:Room 2
END:VEVENT
BEGIN:VEVENT
DTSTART;TZID=America/Edmonton:20261130T100000
DTEND;TZID=America/Edmonton:20261130T140000
DTSTAMP:20260423T100919
CREATED:20260317T234650Z
LAST-MODIFIED:20260317T234650Z
UID:10008233-1796032800-1796047200@communitycounsellingcentre.ca
SUMMARY:Claire
DESCRIPTION:
URL:https://communitycounsellingcentre.ca/event/claire-4/2026-11-30/
LOCATION:Room 2
CATEGORIES:Room 2
END:VEVENT
BEGIN:VEVENT
DTSTART;TZID=America/Edmonton:20261130T170000
DTEND;TZID=America/Edmonton:20261130T210000
DTSTAMP:20260423T100919
CREATED:20260324T211943Z
LAST-MODIFIED:20260324T211943Z
UID:10008275-1796058000-1796072400@communitycounsellingcentre.ca
SUMMARY:Barb
DESCRIPTION:
URL:https://communitycounsellingcentre.ca/event/barb/2026-11-30/
LOCATION:Room 2
CATEGORIES:Room 2
END:VEVENT
BEGIN:VEVENT
DTSTART;TZID=America/Edmonton:20261201T150000
DTEND;TZID=America/Edmonton:20261201T190000
DTSTAMP:20260423T100919
CREATED:20250916T200850Z
LAST-MODIFIED:20250916T201158Z
UID:10005804-1796137200-1796151600@communitycounsellingcentre.ca
SUMMARY:Cecilia
DESCRIPTION:
URL:https://communitycounsellingcentre.ca/event/cecilia-35/2026-12-01/
LOCATION:Room 2
CATEGORIES:Room 2
END:VEVENT
BEGIN:VEVENT
DTSTART;TZID=America/Edmonton:20261202T120000
DTEND;TZID=America/Edmonton:20261202T200000
DTSTAMP:20260423T100919
CREATED:20241123T192303Z
LAST-MODIFIED:20251126T022729Z
UID:10007151-1796212800-1796241600@communitycounsellingcentre.ca
SUMMARY:Sabrina
DESCRIPTION:
URL:https://communitycounsellingcentre.ca/event/sabrina-10/2026-12-02/
LOCATION:Room 2
CATEGORIES:Room 2
END:VEVENT
BEGIN:VEVENT
DTSTART;TZID=America/Edmonton:20261203T140000
DTEND;TZID=America/Edmonton:20261203T200000
DTSTAMP:20260423T100919
CREATED:20251027T230208Z
LAST-MODIFIED:20251126T021620Z
UID:10006576-1796306400-1796328000@communitycounsellingcentre.ca
SUMMARY:Nick
DESCRIPTION:
URL:https://communitycounsellingcentre.ca/event/nick-5-2/2026-12-03/
LOCATION:Room 2
CATEGORIES:Room 2
END:VEVENT
BEGIN:VEVENT
DTSTART;TZID=America/Edmonton:20261206T130000
DTEND;TZID=America/Edmonton:20261206T210000
DTSTAMP:20260423T100919
CREATED:20260324T212100Z
LAST-MODIFIED:20260324T212100Z
UID:10008315-1796562000-1796590800@communitycounsellingcentre.ca
SUMMARY:Barb
DESCRIPTION:
URL:https://communitycounsellingcentre.ca/event/barb-2/2026-12-06/
LOCATION:Room 2
CATEGORIES:Room 2
END:VEVENT
BEGIN:VEVENT
DTSTART;TZID=America/Edmonton:20261207T100000
DTEND;TZID=America/Edmonton:20261207T140000
DTSTAMP:20260423T100919
CREATED:20260317T234650Z
LAST-MODIFIED:20260317T234650Z
UID:10008234-1796637600-1796652000@communitycounsellingcentre.ca
SUMMARY:Claire
DESCRIPTION:
URL:https://communitycounsellingcentre.ca/event/claire-4/2026-12-07/
LOCATION:Room 2
CATEGORIES:Room 2
END:VEVENT
BEGIN:VEVENT
DTSTART;TZID=America/Edmonton:20261207T170000
DTEND;TZID=America/Edmonton:20261207T210000
DTSTAMP:20260423T100919
CREATED:20260324T211943Z
LAST-MODIFIED:20260324T211943Z
UID:10008276-1796662800-1796677200@communitycounsellingcentre.ca
SUMMARY:Barb
DESCRIPTION:
URL:https://communitycounsellingcentre.ca/event/barb/2026-12-07/
LOCATION:Room 2
CATEGORIES:Room 2
END:VEVENT
BEGIN:VEVENT
DTSTART;TZID=America/Edmonton:20261208T150000
DTEND;TZID=America/Edmonton:20261208T190000
DTSTAMP:20260423T100919
CREATED:20250916T200850Z
LAST-MODIFIED:20250916T201158Z
UID:10005805-1796742000-1796756400@communitycounsellingcentre.ca
SUMMARY:Cecilia
DESCRIPTION:
URL:https://communitycounsellingcentre.ca/event/cecilia-35/2026-12-08/
LOCATION:Room 2
CATEGORIES:Room 2
END:VEVENT
BEGIN:VEVENT
DTSTART;TZID=America/Edmonton:20261209T120000
DTEND;TZID=America/Edmonton:20261209T200000
DTSTAMP:20260423T100919
CREATED:20241123T192303Z
LAST-MODIFIED:20251126T022729Z
UID:10007152-1796817600-1796846400@communitycounsellingcentre.ca
SUMMARY:Sabrina
DESCRIPTION:
URL:https://communitycounsellingcentre.ca/event/sabrina-10/2026-12-09/
LOCATION:Room 2
CATEGORIES:Room 2
END:VEVENT
BEGIN:VEVENT
DTSTART;TZID=America/Edmonton:20261210T140000
DTEND;TZID=America/Edmonton:20261210T200000
DTSTAMP:20260423T100919
CREATED:20251027T230208Z
LAST-MODIFIED:20251126T021620Z
UID:10006577-1796911200-1796932800@communitycounsellingcentre.ca
SUMMARY:Nick
DESCRIPTION:
URL:https://communitycounsellingcentre.ca/event/nick-5-2/2026-12-10/
LOCATION:Room 2
CATEGORIES:Room 2
END:VEVENT
BEGIN:VEVENT
DTSTART;TZID=America/Edmonton:20261213T130000
DTEND;TZID=America/Edmonton:20261213T210000
DTSTAMP:20260423T100919
CREATED:20260324T212100Z
LAST-MODIFIED:20260324T212100Z
UID:10008316-1797166800-1797195600@communitycounsellingcentre.ca
SUMMARY:Barb
DESCRIPTION:
URL:https://communitycounsellingcentre.ca/event/barb-2/2026-12-13/
LOCATION:Room 2
CATEGORIES:Room 2
END:VEVENT
BEGIN:VEVENT
DTSTART;TZID=America/Edmonton:20261214T100000
DTEND;TZID=America/Edmonton:20261214T140000
DTSTAMP:20260423T100919
CREATED:20260317T234650Z
LAST-MODIFIED:20260317T234650Z
UID:10008235-1797242400-1797256800@communitycounsellingcentre.ca
SUMMARY:Claire
DESCRIPTION:
URL:https://communitycounsellingcentre.ca/event/claire-4/2026-12-14/
LOCATION:Room 2
CATEGORIES:Room 2
END:VEVENT
BEGIN:VEVENT
DTSTART;TZID=America/Edmonton:20261214T170000
DTEND;TZID=America/Edmonton:20261214T210000
DTSTAMP:20260423T100919
CREATED:20260324T211943Z
LAST-MODIFIED:20260324T211943Z
UID:10008277-1797267600-1797282000@communitycounsellingcentre.ca
SUMMARY:Barb
DESCRIPTION:
URL:https://communitycounsellingcentre.ca/event/barb/2026-12-14/
LOCATION:Room 2
CATEGORIES:Room 2
END:VEVENT
BEGIN:VEVENT
DTSTART;TZID=America/Edmonton:20261215T150000
DTEND;TZID=America/Edmonton:20261215T190000
DTSTAMP:20260423T100919
CREATED:20250916T200850Z
LAST-MODIFIED:20250916T201158Z
UID:10005806-1797346800-1797361200@communitycounsellingcentre.ca
SUMMARY:Cecilia
DESCRIPTION:
URL:https://communitycounsellingcentre.ca/event/cecilia-35/2026-12-15/
LOCATION:Room 2
CATEGORIES:Room 2
END:VEVENT
BEGIN:VEVENT
DTSTART;TZID=America/Edmonton:20261216T120000
DTEND;TZID=America/Edmonton:20261216T200000
DTSTAMP:20260423T100919
CREATED:20241123T192303Z
LAST-MODIFIED:20251126T022729Z
UID:10007153-1797422400-1797451200@communitycounsellingcentre.ca
SUMMARY:Sabrina
DESCRIPTION:
URL:https://communitycounsellingcentre.ca/event/sabrina-10/2026-12-16/
LOCATION:Room 2
CATEGORIES:Room 2
END:VEVENT
BEGIN:VEVENT
DTSTART;TZID=America/Edmonton:20261217T140000
DTEND;TZID=America/Edmonton:20261217T200000
DTSTAMP:20260423T100919
CREATED:20251027T230208Z
LAST-MODIFIED:20251126T021620Z
UID:10006578-1797516000-1797537600@communitycounsellingcentre.ca
SUMMARY:Nick
DESCRIPTION:
URL:https://communitycounsellingcentre.ca/event/nick-5-2/2026-12-17/
LOCATION:Room 2
CATEGORIES:Room 2
END:VEVENT
BEGIN:VEVENT
DTSTART;TZID=America/Edmonton:20261220T130000
DTEND;TZID=America/Edmonton:20261220T210000
DTSTAMP:20260423T100919
CREATED:20260324T212100Z
LAST-MODIFIED:20260324T212100Z
UID:10008317-1797771600-1797800400@communitycounsellingcentre.ca
SUMMARY:Barb
DESCRIPTION:
URL:https://communitycounsellingcentre.ca/event/barb-2/2026-12-20/
LOCATION:Room 2
CATEGORIES:Room 2
END:VEVENT
BEGIN:VEVENT
DTSTART;TZID=America/Edmonton:20261221T100000
DTEND;TZID=America/Edmonton:20261221T140000
DTSTAMP:20260423T100919
CREATED:20260317T234650Z
LAST-MODIFIED:20260317T234650Z
UID:10008236-1797847200-1797861600@communitycounsellingcentre.ca
SUMMARY:Claire
DESCRIPTION:
URL:https://communitycounsellingcentre.ca/event/claire-4/2026-12-21/
LOCATION:Room 2
CATEGORIES:Room 2
END:VEVENT
BEGIN:VEVENT
DTSTART;TZID=America/Edmonton:20261221T170000
DTEND;TZID=America/Edmonton:20261221T210000
DTSTAMP:20260423T100919
CREATED:20260324T211943Z
LAST-MODIFIED:20260324T211943Z
UID:10008278-1797872400-1797886800@communitycounsellingcentre.ca
SUMMARY:Barb
DESCRIPTION:
URL:https://communitycounsellingcentre.ca/event/barb/2026-12-21/
LOCATION:Room 2
CATEGORIES:Room 2
END:VEVENT
BEGIN:VEVENT
DTSTART;TZID=America/Edmonton:20261222T150000
DTEND;TZID=America/Edmonton:20261222T190000
DTSTAMP:20260423T100919
CREATED:20250916T200850Z
LAST-MODIFIED:20250916T201158Z
UID:10005807-1797951600-1797966000@communitycounsellingcentre.ca
SUMMARY:Cecilia
DESCRIPTION:
URL:https://communitycounsellingcentre.ca/event/cecilia-35/2026-12-22/
LOCATION:Room 2
CATEGORIES:Room 2
END:VEVENT
BEGIN:VEVENT
DTSTART;TZID=America/Edmonton:20261223T120000
DTEND;TZID=America/Edmonton:20261223T200000
DTSTAMP:20260423T100919
CREATED:20241123T192303Z
LAST-MODIFIED:20251126T022729Z
UID:10007154-1798027200-1798056000@communitycounsellingcentre.ca
SUMMARY:Sabrina
DESCRIPTION:
URL:https://communitycounsellingcentre.ca/event/sabrina-10/2026-12-23/
LOCATION:Room 2
CATEGORIES:Room 2
END:VEVENT
BEGIN:VEVENT
DTSTART;TZID=America/Edmonton:20261224T140000
DTEND;TZID=America/Edmonton:20261224T200000
DTSTAMP:20260423T100919
CREATED:20251027T230208Z
LAST-MODIFIED:20251126T021620Z
UID:10006579-1798120800-1798142400@communitycounsellingcentre.ca
SUMMARY:Nick
DESCRIPTION:
URL:https://communitycounsellingcentre.ca/event/nick-5-2/2026-12-24/
LOCATION:Room 2
CATEGORIES:Room 2
END:VEVENT
END:VCALENDAR