BEGIN:VCALENDAR
VERSION:2.0
PRODID:-//Community Counselling Centre - ECPv6.13.1//NONSGML v1.0//EN
CALSCALE:GREGORIAN
METHOD:PUBLISH
X-WR-CALNAME:Community Counselling Centre
X-ORIGINAL-URL:https://communitycounsellingcentre.ca
X-WR-CALDESC:Events for Community Counselling Centre
REFRESH-INTERVAL;VALUE=DURATION:PT1H
X-Robots-Tag:noindex
X-PUBLISHED-TTL:PT1H
BEGIN:VTIMEZONE
TZID:America/Edmonton
BEGIN:DAYLIGHT
TZOFFSETFROM:-0700
TZOFFSETTO:-0600
TZNAME:MDT
DTSTART:20260308T090000
END:DAYLIGHT
BEGIN:STANDARD
TZOFFSETFROM:-0600
TZOFFSETTO:-0700
TZNAME:MST
DTSTART:20261101T080000
END:STANDARD
END:VTIMEZONE
BEGIN:VEVENT
DTSTART;TZID=America/Edmonton:20260317T150000
DTEND;TZID=America/Edmonton:20260317T190000
DTSTAMP:20260422T060947
CREATED:20250916T200850Z
LAST-MODIFIED:20250916T201158Z
UID:10005767-1773759600-1773774000@communitycounsellingcentre.ca
SUMMARY:Cecilia
DESCRIPTION:
URL:https://communitycounsellingcentre.ca/event/cecilia-35/2026-03-17/
LOCATION:Room 2
CATEGORIES:Room 2
END:VEVENT
BEGIN:VEVENT
DTSTART;TZID=America/Edmonton:20260313T130000
DTEND;TZID=America/Edmonton:20260313T150000
DTSTAMP:20260422T060947
CREATED:20260227T174803Z
LAST-MODIFIED:20260227T174803Z
UID:10007872-1773406800-1773414000@communitycounsellingcentre.ca
SUMMARY:Cecilia
DESCRIPTION:
URL:https://communitycounsellingcentre.ca/event/cecilia-3/
LOCATION:Room 2
CATEGORIES:Room 2
END:VEVENT
BEGIN:VEVENT
DTSTART;TZID=America/Edmonton:20260312T140000
DTEND;TZID=America/Edmonton:20260312T200000
DTSTAMP:20260422T060947
CREATED:20251027T230208Z
LAST-MODIFIED:20251126T021620Z
UID:10006538-1773324000-1773345600@communitycounsellingcentre.ca
SUMMARY:Nick
DESCRIPTION:
URL:https://communitycounsellingcentre.ca/event/nick-5-2/2026-03-12/
LOCATION:Room 2
CATEGORIES:Room 2
END:VEVENT
BEGIN:VEVENT
DTSTART;TZID=America/Edmonton:20260311T120000
DTEND;TZID=America/Edmonton:20260311T200000
DTSTAMP:20260422T060947
CREATED:20241123T192303Z
LAST-MODIFIED:20251126T022729Z
UID:10007113-1773230400-1773259200@communitycounsellingcentre.ca
SUMMARY:Sabrina
DESCRIPTION:
URL:https://communitycounsellingcentre.ca/event/sabrina-10/2026-03-11/
LOCATION:Room 2
CATEGORIES:Room 2
END:VEVENT
BEGIN:VEVENT
DTSTART;TZID=America/Edmonton:20260310T150000
DTEND;TZID=America/Edmonton:20260310T190000
DTSTAMP:20260422T060947
CREATED:20250916T200850Z
LAST-MODIFIED:20250916T201158Z
UID:10005766-1773154800-1773169200@communitycounsellingcentre.ca
SUMMARY:Cecilia
DESCRIPTION:
URL:https://communitycounsellingcentre.ca/event/cecilia-35/2026-03-10/
LOCATION:Room 2
CATEGORIES:Room 2
END:VEVENT
BEGIN:VEVENT
DTSTART;TZID=America/Edmonton:20260306T153000
DTEND;TZID=America/Edmonton:20260306T163000
DTSTAMP:20260422T060947
CREATED:20260227T174601Z
LAST-MODIFIED:20260227T174601Z
UID:10007870-1772811000-1772814600@communitycounsellingcentre.ca
SUMMARY:Elizabeth
DESCRIPTION:
URL:https://communitycounsellingcentre.ca/event/elizabeth/
LOCATION:Room 2
CATEGORIES:Room 2
END:VEVENT
BEGIN:VEVENT
DTSTART;TZID=America/Edmonton:20260306T123000
DTEND;TZID=America/Edmonton:20260306T150000
DTSTAMP:20260422T060947
CREATED:20260227T174705Z
LAST-MODIFIED:20260227T174705Z
UID:10007871-1772800200-1772809200@communitycounsellingcentre.ca
SUMMARY:Cecilia
DESCRIPTION:
URL:https://communitycounsellingcentre.ca/event/cecilia-2/
LOCATION:Room 2
CATEGORIES:Room 2
END:VEVENT
BEGIN:VEVENT
DTSTART;TZID=America/Edmonton:20260305T140000
DTEND;TZID=America/Edmonton:20260305T200000
DTSTAMP:20260422T060947
CREATED:20251027T230208Z
LAST-MODIFIED:20251126T021620Z
UID:10006537-1772719200-1772740800@communitycounsellingcentre.ca
SUMMARY:Nick
DESCRIPTION:
URL:https://communitycounsellingcentre.ca/event/nick-5-2/2026-03-05/
LOCATION:Room 2
CATEGORIES:Room 2
END:VEVENT
BEGIN:VEVENT
DTSTART;TZID=America/Edmonton:20260304T120000
DTEND;TZID=America/Edmonton:20260304T200000
DTSTAMP:20260422T060947
CREATED:20241123T192303Z
LAST-MODIFIED:20251126T022729Z
UID:10007112-1772625600-1772654400@communitycounsellingcentre.ca
SUMMARY:Sabrina
DESCRIPTION:
URL:https://communitycounsellingcentre.ca/event/sabrina-10/2026-03-04/
LOCATION:Room 2
CATEGORIES:Room 2
END:VEVENT
BEGIN:VEVENT
DTSTART;TZID=America/Edmonton:20260303T150000
DTEND;TZID=America/Edmonton:20260303T190000
DTSTAMP:20260422T060947
CREATED:20250916T200850Z
LAST-MODIFIED:20250916T201158Z
UID:10005765-1772550000-1772564400@communitycounsellingcentre.ca
SUMMARY:Cecilia
DESCRIPTION:
URL:https://communitycounsellingcentre.ca/event/cecilia-35/2026-03-03/
LOCATION:Room 2
CATEGORIES:Room 2
END:VEVENT
BEGIN:VEVENT
DTSTART;TZID=America/Edmonton:20260226T140000
DTEND;TZID=America/Edmonton:20260226T200000
DTSTAMP:20260422T060947
CREATED:20251027T230208Z
LAST-MODIFIED:20251126T021620Z
UID:10006536-1772114400-1772136000@communitycounsellingcentre.ca
SUMMARY:Nick
DESCRIPTION:
URL:https://communitycounsellingcentre.ca/event/nick-5-2/2026-02-26/
LOCATION:Room 2
CATEGORIES:Room 2
END:VEVENT
BEGIN:VEVENT
DTSTART;TZID=America/Edmonton:20260225T120000
DTEND;TZID=America/Edmonton:20260225T200000
DTSTAMP:20260422T060947
CREATED:20241123T192303Z
LAST-MODIFIED:20251126T022729Z
UID:10007111-1772020800-1772049600@communitycounsellingcentre.ca
SUMMARY:Sabrina
DESCRIPTION:
URL:https://communitycounsellingcentre.ca/event/sabrina-10/2026-02-25/
LOCATION:Room 2
CATEGORIES:Room 2
END:VEVENT
BEGIN:VEVENT
DTSTART;TZID=America/Edmonton:20260224T150000
DTEND;TZID=America/Edmonton:20260224T190000
DTSTAMP:20260422T060947
CREATED:20250916T200850Z
LAST-MODIFIED:20250916T201158Z
UID:10005764-1771945200-1771959600@communitycounsellingcentre.ca
SUMMARY:Cecilia
DESCRIPTION:
URL:https://communitycounsellingcentre.ca/event/cecilia-35/2026-02-24/
LOCATION:Room 2
CATEGORIES:Room 2
END:VEVENT
BEGIN:VEVENT
DTSTART;TZID=America/Edmonton:20260219T140000
DTEND;TZID=America/Edmonton:20260219T200000
DTSTAMP:20260422T060947
CREATED:20251027T230208Z
LAST-MODIFIED:20251126T021620Z
UID:10006535-1771509600-1771531200@communitycounsellingcentre.ca
SUMMARY:Nick
DESCRIPTION:
URL:https://communitycounsellingcentre.ca/event/nick-5-2/2026-02-19/
LOCATION:Room 2
CATEGORIES:Room 2
END:VEVENT
BEGIN:VEVENT
DTSTART;TZID=America/Edmonton:20260218T120000
DTEND;TZID=America/Edmonton:20260218T200000
DTSTAMP:20260422T060947
CREATED:20241123T192303Z
LAST-MODIFIED:20251126T022729Z
UID:10007110-1771416000-1771444800@communitycounsellingcentre.ca
SUMMARY:Sabrina
DESCRIPTION:
URL:https://communitycounsellingcentre.ca/event/sabrina-10/2026-02-18/
LOCATION:Room 2
CATEGORIES:Room 2
END:VEVENT
BEGIN:VEVENT
DTSTART;TZID=America/Edmonton:20260217T150000
DTEND;TZID=America/Edmonton:20260217T190000
DTSTAMP:20260422T060947
CREATED:20250916T200850Z
LAST-MODIFIED:20250916T201158Z
UID:10005763-1771340400-1771354800@communitycounsellingcentre.ca
SUMMARY:Cecilia
DESCRIPTION:
URL:https://communitycounsellingcentre.ca/event/cecilia-35/2026-02-17/
LOCATION:Room 2
CATEGORIES:Room 2
END:VEVENT
BEGIN:VEVENT
DTSTART;TZID=America/Edmonton:20260212T140000
DTEND;TZID=America/Edmonton:20260212T200000
DTSTAMP:20260422T060947
CREATED:20251027T230208Z
LAST-MODIFIED:20251126T021620Z
UID:10006534-1770904800-1770926400@communitycounsellingcentre.ca
SUMMARY:Nick
DESCRIPTION:
URL:https://communitycounsellingcentre.ca/event/nick-5-2/2026-02-12/
LOCATION:Room 2
CATEGORIES:Room 2
END:VEVENT
BEGIN:VEVENT
DTSTART;TZID=America/Edmonton:20260211T120000
DTEND;TZID=America/Edmonton:20260211T200000
DTSTAMP:20260422T060947
CREATED:20241123T192303Z
LAST-MODIFIED:20251126T022729Z
UID:10007109-1770811200-1770840000@communitycounsellingcentre.ca
SUMMARY:Sabrina
DESCRIPTION:
URL:https://communitycounsellingcentre.ca/event/sabrina-10/2026-02-11/
LOCATION:Room 2
CATEGORIES:Room 2
END:VEVENT
BEGIN:VEVENT
DTSTART;TZID=America/Edmonton:20260210T150000
DTEND;TZID=America/Edmonton:20260210T190000
DTSTAMP:20260422T060947
CREATED:20250916T200850Z
LAST-MODIFIED:20250916T201158Z
UID:10005762-1770735600-1770750000@communitycounsellingcentre.ca
SUMMARY:Cecilia
DESCRIPTION:
URL:https://communitycounsellingcentre.ca/event/cecilia-35/2026-02-10/
LOCATION:Room 2
CATEGORIES:Room 2
END:VEVENT
BEGIN:VEVENT
DTSTART;TZID=America/Edmonton:20260205T140000
DTEND;TZID=America/Edmonton:20260205T200000
DTSTAMP:20260422T060947
CREATED:20251027T230208Z
LAST-MODIFIED:20251126T021620Z
UID:10006533-1770300000-1770321600@communitycounsellingcentre.ca
SUMMARY:Nick
DESCRIPTION:
URL:https://communitycounsellingcentre.ca/event/nick-5-2/2026-02-05/
LOCATION:Room 2
CATEGORIES:Room 2
END:VEVENT
BEGIN:VEVENT
DTSTART;TZID=America/Edmonton:20260204T120000
DTEND;TZID=America/Edmonton:20260204T200000
DTSTAMP:20260422T060947
CREATED:20241123T192303Z
LAST-MODIFIED:20251126T022729Z
UID:10007108-1770206400-1770235200@communitycounsellingcentre.ca
SUMMARY:Sabrina
DESCRIPTION:
URL:https://communitycounsellingcentre.ca/event/sabrina-10/2026-02-04/
LOCATION:Room 2
CATEGORIES:Room 2
END:VEVENT
BEGIN:VEVENT
DTSTART;TZID=America/Edmonton:20260203T150000
DTEND;TZID=America/Edmonton:20260203T190000
DTSTAMP:20260422T060947
CREATED:20250916T200850Z
LAST-MODIFIED:20250916T201158Z
UID:10005761-1770130800-1770145200@communitycounsellingcentre.ca
SUMMARY:Cecilia
DESCRIPTION:
URL:https://communitycounsellingcentre.ca/event/cecilia-35/2026-02-03/
LOCATION:Room 2
CATEGORIES:Room 2
END:VEVENT
BEGIN:VEVENT
DTSTART;TZID=America/Edmonton:20260129T140000
DTEND;TZID=America/Edmonton:20260129T200000
DTSTAMP:20260422T060947
CREATED:20251027T230208Z
LAST-MODIFIED:20251126T021620Z
UID:10006532-1769695200-1769716800@communitycounsellingcentre.ca
SUMMARY:Nick
DESCRIPTION:
URL:https://communitycounsellingcentre.ca/event/nick-5-2/2026-01-29/
LOCATION:Room 2
CATEGORIES:Room 2
END:VEVENT
BEGIN:VEVENT
DTSTART;TZID=America/Edmonton:20260128T120000
DTEND;TZID=America/Edmonton:20260128T200000
DTSTAMP:20260422T060947
CREATED:20241123T192303Z
LAST-MODIFIED:20251126T022729Z
UID:10007107-1769601600-1769630400@communitycounsellingcentre.ca
SUMMARY:Sabrina
DESCRIPTION:
URL:https://communitycounsellingcentre.ca/event/sabrina-10/2026-01-28/
LOCATION:Room 2
CATEGORIES:Room 2
END:VEVENT
BEGIN:VEVENT
DTSTART;TZID=America/Edmonton:20260127T150000
DTEND;TZID=America/Edmonton:20260127T190000
DTSTAMP:20260422T060947
CREATED:20250916T200850Z
LAST-MODIFIED:20250916T201158Z
UID:10005760-1769526000-1769540400@communitycounsellingcentre.ca
SUMMARY:Cecilia
DESCRIPTION:
URL:https://communitycounsellingcentre.ca/event/cecilia-35/2026-01-27/
LOCATION:Room 2
CATEGORIES:Room 2
END:VEVENT
BEGIN:VEVENT
DTSTART;TZID=America/Edmonton:20260122T140000
DTEND;TZID=America/Edmonton:20260122T200000
DTSTAMP:20260422T060947
CREATED:20251027T230208Z
LAST-MODIFIED:20251126T021620Z
UID:10006531-1769090400-1769112000@communitycounsellingcentre.ca
SUMMARY:Nick
DESCRIPTION:
URL:https://communitycounsellingcentre.ca/event/nick-5-2/2026-01-22/
LOCATION:Room 2
CATEGORIES:Room 2
END:VEVENT
BEGIN:VEVENT
DTSTART;TZID=America/Edmonton:20260121T120000
DTEND;TZID=America/Edmonton:20260121T200000
DTSTAMP:20260422T060947
CREATED:20241123T192303Z
LAST-MODIFIED:20251126T022729Z
UID:10007106-1768996800-1769025600@communitycounsellingcentre.ca
SUMMARY:Sabrina
DESCRIPTION:
URL:https://communitycounsellingcentre.ca/event/sabrina-10/2026-01-21/
LOCATION:Room 2
CATEGORIES:Room 2
END:VEVENT
BEGIN:VEVENT
DTSTART;TZID=America/Edmonton:20260120T150000
DTEND;TZID=America/Edmonton:20260120T190000
DTSTAMP:20260422T060947
CREATED:20250916T200850Z
LAST-MODIFIED:20250916T201158Z
UID:10005759-1768921200-1768935600@communitycounsellingcentre.ca
SUMMARY:Cecilia
DESCRIPTION:
URL:https://communitycounsellingcentre.ca/event/cecilia-35/2026-01-20/
LOCATION:Room 2
CATEGORIES:Room 2
END:VEVENT
BEGIN:VEVENT
DTSTART;TZID=America/Edmonton:20260115T140000
DTEND;TZID=America/Edmonton:20260115T200000
DTSTAMP:20260422T060947
CREATED:20251027T230208Z
LAST-MODIFIED:20251126T021620Z
UID:10006530-1768485600-1768507200@communitycounsellingcentre.ca
SUMMARY:Nick
DESCRIPTION:
URL:https://communitycounsellingcentre.ca/event/nick-5-2/2026-01-15/
LOCATION:Room 2
CATEGORIES:Room 2
END:VEVENT
BEGIN:VEVENT
DTSTART;TZID=America/Edmonton:20260114T120000
DTEND;TZID=America/Edmonton:20260114T200000
DTSTAMP:20260422T060947
CREATED:20241123T192303Z
LAST-MODIFIED:20251126T022729Z
UID:10007105-1768392000-1768420800@communitycounsellingcentre.ca
SUMMARY:Sabrina
DESCRIPTION:
URL:https://communitycounsellingcentre.ca/event/sabrina-10/2026-01-14/
LOCATION:Room 2
CATEGORIES:Room 2
END:VEVENT
END:VCALENDAR