BEGIN:VCALENDAR
VERSION:2.0
PRODID:-//Community Counselling Centre - ECPv6.13.1//NONSGML v1.0//EN
CALSCALE:GREGORIAN
METHOD:PUBLISH
X-WR-CALNAME:Community Counselling Centre
X-ORIGINAL-URL:https://communitycounsellingcentre.ca
X-WR-CALDESC:Events for Community Counselling Centre
REFRESH-INTERVAL;VALUE=DURATION:PT1H
X-Robots-Tag:noindex
X-PUBLISHED-TTL:PT1H
BEGIN:VTIMEZONE
TZID:America/Edmonton
BEGIN:DAYLIGHT
TZOFFSETFROM:-0700
TZOFFSETTO:-0600
TZNAME:MDT
DTSTART:20260308T090000
END:DAYLIGHT
BEGIN:STANDARD
TZOFFSETFROM:-0600
TZOFFSETTO:-0700
TZNAME:MST
DTSTART:20261101T080000
END:STANDARD
END:VTIMEZONE
BEGIN:VEVENT
DTSTART;TZID=America/Edmonton:20260702T140000
DTEND;TZID=America/Edmonton:20260702T200000
DTSTAMP:20260422T122756
CREATED:20251027T230208Z
LAST-MODIFIED:20251126T021620Z
UID:10006554-1783000800-1783022400@communitycounsellingcentre.ca
SUMMARY:Nick
DESCRIPTION:
URL:https://communitycounsellingcentre.ca/event/nick-5-2/2026-07-02/
LOCATION:Room 2
CATEGORIES:Room 2
END:VEVENT
BEGIN:VEVENT
DTSTART;TZID=America/Edmonton:20260705T130000
DTEND;TZID=America/Edmonton:20260705T210000
DTSTAMP:20260422T122756
CREATED:20260324T212100Z
LAST-MODIFIED:20260324T212100Z
UID:10008293-1783256400-1783285200@communitycounsellingcentre.ca
SUMMARY:Barb
DESCRIPTION:
URL:https://communitycounsellingcentre.ca/event/barb-2/2026-07-05/
LOCATION:Room 2
CATEGORIES:Room 2
END:VEVENT
BEGIN:VEVENT
DTSTART;TZID=America/Edmonton:20260706T100000
DTEND;TZID=America/Edmonton:20260706T140000
DTSTAMP:20260422T122756
CREATED:20260317T234650Z
LAST-MODIFIED:20260317T234650Z
UID:10008212-1783332000-1783346400@communitycounsellingcentre.ca
SUMMARY:Claire
DESCRIPTION:
URL:https://communitycounsellingcentre.ca/event/claire-4/2026-07-06/
LOCATION:Room 2
CATEGORIES:Room 2
END:VEVENT
BEGIN:VEVENT
DTSTART;TZID=America/Edmonton:20260706T170000
DTEND;TZID=America/Edmonton:20260706T210000
DTSTAMP:20260422T122756
CREATED:20260324T211943Z
LAST-MODIFIED:20260324T211943Z
UID:10008254-1783357200-1783371600@communitycounsellingcentre.ca
SUMMARY:Barb
DESCRIPTION:
URL:https://communitycounsellingcentre.ca/event/barb/2026-07-06/
LOCATION:Room 2
CATEGORIES:Room 2
END:VEVENT
BEGIN:VEVENT
DTSTART;TZID=America/Edmonton:20260707T150000
DTEND;TZID=America/Edmonton:20260707T190000
DTSTAMP:20260422T122756
CREATED:20250916T200850Z
LAST-MODIFIED:20250916T201158Z
UID:10005783-1783436400-1783450800@communitycounsellingcentre.ca
SUMMARY:Cecilia
DESCRIPTION:
URL:https://communitycounsellingcentre.ca/event/cecilia-35/2026-07-07/
LOCATION:Room 2
CATEGORIES:Room 2
END:VEVENT
BEGIN:VEVENT
DTSTART;TZID=America/Edmonton:20260708T120000
DTEND;TZID=America/Edmonton:20260708T200000
DTSTAMP:20260422T122756
CREATED:20241123T192303Z
LAST-MODIFIED:20251126T022729Z
UID:10007130-1783512000-1783540800@communitycounsellingcentre.ca
SUMMARY:Sabrina
DESCRIPTION:
URL:https://communitycounsellingcentre.ca/event/sabrina-10/2026-07-08/
LOCATION:Room 2
CATEGORIES:Room 2
END:VEVENT
BEGIN:VEVENT
DTSTART;TZID=America/Edmonton:20260709T140000
DTEND;TZID=America/Edmonton:20260709T200000
DTSTAMP:20260422T122756
CREATED:20251027T230208Z
LAST-MODIFIED:20251126T021620Z
UID:10006555-1783605600-1783627200@communitycounsellingcentre.ca
SUMMARY:Nick
DESCRIPTION:
URL:https://communitycounsellingcentre.ca/event/nick-5-2/2026-07-09/
LOCATION:Room 2
CATEGORIES:Room 2
END:VEVENT
BEGIN:VEVENT
DTSTART;TZID=America/Edmonton:20260712T130000
DTEND;TZID=America/Edmonton:20260712T210000
DTSTAMP:20260422T122756
CREATED:20260324T212100Z
LAST-MODIFIED:20260324T212100Z
UID:10008294-1783861200-1783890000@communitycounsellingcentre.ca
SUMMARY:Barb
DESCRIPTION:
URL:https://communitycounsellingcentre.ca/event/barb-2/2026-07-12/
LOCATION:Room 2
CATEGORIES:Room 2
END:VEVENT
BEGIN:VEVENT
DTSTART;TZID=America/Edmonton:20260713T100000
DTEND;TZID=America/Edmonton:20260713T140000
DTSTAMP:20260422T122756
CREATED:20260317T234650Z
LAST-MODIFIED:20260317T234650Z
UID:10008213-1783936800-1783951200@communitycounsellingcentre.ca
SUMMARY:Claire
DESCRIPTION:
URL:https://communitycounsellingcentre.ca/event/claire-4/2026-07-13/
LOCATION:Room 2
CATEGORIES:Room 2
END:VEVENT
BEGIN:VEVENT
DTSTART;TZID=America/Edmonton:20260713T170000
DTEND;TZID=America/Edmonton:20260713T210000
DTSTAMP:20260422T122756
CREATED:20260324T211943Z
LAST-MODIFIED:20260324T211943Z
UID:10008255-1783962000-1783976400@communitycounsellingcentre.ca
SUMMARY:Barb
DESCRIPTION:
URL:https://communitycounsellingcentre.ca/event/barb/2026-07-13/
LOCATION:Room 2
CATEGORIES:Room 2
END:VEVENT
BEGIN:VEVENT
DTSTART;TZID=America/Edmonton:20260714T150000
DTEND;TZID=America/Edmonton:20260714T190000
DTSTAMP:20260422T122756
CREATED:20250916T200850Z
LAST-MODIFIED:20250916T201158Z
UID:10005784-1784041200-1784055600@communitycounsellingcentre.ca
SUMMARY:Cecilia
DESCRIPTION:
URL:https://communitycounsellingcentre.ca/event/cecilia-35/2026-07-14/
LOCATION:Room 2
CATEGORIES:Room 2
END:VEVENT
BEGIN:VEVENT
DTSTART;TZID=America/Edmonton:20260715T120000
DTEND;TZID=America/Edmonton:20260715T200000
DTSTAMP:20260422T122756
CREATED:20241123T192303Z
LAST-MODIFIED:20251126T022729Z
UID:10007131-1784116800-1784145600@communitycounsellingcentre.ca
SUMMARY:Sabrina
DESCRIPTION:
URL:https://communitycounsellingcentre.ca/event/sabrina-10/2026-07-15/
LOCATION:Room 2
CATEGORIES:Room 2
END:VEVENT
BEGIN:VEVENT
DTSTART;TZID=America/Edmonton:20260716T140000
DTEND;TZID=America/Edmonton:20260716T200000
DTSTAMP:20260422T122756
CREATED:20251027T230208Z
LAST-MODIFIED:20251126T021620Z
UID:10006556-1784210400-1784232000@communitycounsellingcentre.ca
SUMMARY:Nick
DESCRIPTION:
URL:https://communitycounsellingcentre.ca/event/nick-5-2/2026-07-16/
LOCATION:Room 2
CATEGORIES:Room 2
END:VEVENT
BEGIN:VEVENT
DTSTART;TZID=America/Edmonton:20260719T130000
DTEND;TZID=America/Edmonton:20260719T210000
DTSTAMP:20260422T122756
CREATED:20260324T212100Z
LAST-MODIFIED:20260324T212100Z
UID:10008295-1784466000-1784494800@communitycounsellingcentre.ca
SUMMARY:Barb
DESCRIPTION:
URL:https://communitycounsellingcentre.ca/event/barb-2/2026-07-19/
LOCATION:Room 2
CATEGORIES:Room 2
END:VEVENT
BEGIN:VEVENT
DTSTART;TZID=America/Edmonton:20260720T100000
DTEND;TZID=America/Edmonton:20260720T140000
DTSTAMP:20260422T122756
CREATED:20260317T234650Z
LAST-MODIFIED:20260317T234650Z
UID:10008214-1784541600-1784556000@communitycounsellingcentre.ca
SUMMARY:Claire
DESCRIPTION:
URL:https://communitycounsellingcentre.ca/event/claire-4/2026-07-20/
LOCATION:Room 2
CATEGORIES:Room 2
END:VEVENT
BEGIN:VEVENT
DTSTART;TZID=America/Edmonton:20260720T170000
DTEND;TZID=America/Edmonton:20260720T210000
DTSTAMP:20260422T122756
CREATED:20260324T211943Z
LAST-MODIFIED:20260324T211943Z
UID:10008256-1784566800-1784581200@communitycounsellingcentre.ca
SUMMARY:Barb
DESCRIPTION:
URL:https://communitycounsellingcentre.ca/event/barb/2026-07-20/
LOCATION:Room 2
CATEGORIES:Room 2
END:VEVENT
BEGIN:VEVENT
DTSTART;TZID=America/Edmonton:20260721T150000
DTEND;TZID=America/Edmonton:20260721T190000
DTSTAMP:20260422T122756
CREATED:20250916T200850Z
LAST-MODIFIED:20250916T201158Z
UID:10005785-1784646000-1784660400@communitycounsellingcentre.ca
SUMMARY:Cecilia
DESCRIPTION:
URL:https://communitycounsellingcentre.ca/event/cecilia-35/2026-07-21/
LOCATION:Room 2
CATEGORIES:Room 2
END:VEVENT
BEGIN:VEVENT
DTSTART;TZID=America/Edmonton:20260722T120000
DTEND;TZID=America/Edmonton:20260722T200000
DTSTAMP:20260422T122756
CREATED:20241123T192303Z
LAST-MODIFIED:20251126T022729Z
UID:10007132-1784721600-1784750400@communitycounsellingcentre.ca
SUMMARY:Sabrina
DESCRIPTION:
URL:https://communitycounsellingcentre.ca/event/sabrina-10/2026-07-22/
LOCATION:Room 2
CATEGORIES:Room 2
END:VEVENT
BEGIN:VEVENT
DTSTART;TZID=America/Edmonton:20260723T140000
DTEND;TZID=America/Edmonton:20260723T200000
DTSTAMP:20260422T122756
CREATED:20251027T230208Z
LAST-MODIFIED:20251126T021620Z
UID:10006557-1784815200-1784836800@communitycounsellingcentre.ca
SUMMARY:Nick
DESCRIPTION:
URL:https://communitycounsellingcentre.ca/event/nick-5-2/2026-07-23/
LOCATION:Room 2
CATEGORIES:Room 2
END:VEVENT
BEGIN:VEVENT
DTSTART;TZID=America/Edmonton:20260726T130000
DTEND;TZID=America/Edmonton:20260726T210000
DTSTAMP:20260422T122756
CREATED:20260324T212100Z
LAST-MODIFIED:20260324T212100Z
UID:10008296-1785070800-1785099600@communitycounsellingcentre.ca
SUMMARY:Barb
DESCRIPTION:
URL:https://communitycounsellingcentre.ca/event/barb-2/2026-07-26/
LOCATION:Room 2
CATEGORIES:Room 2
END:VEVENT
BEGIN:VEVENT
DTSTART;TZID=America/Edmonton:20260727T100000
DTEND;TZID=America/Edmonton:20260727T140000
DTSTAMP:20260422T122756
CREATED:20260317T234650Z
LAST-MODIFIED:20260317T234650Z
UID:10008215-1785146400-1785160800@communitycounsellingcentre.ca
SUMMARY:Claire
DESCRIPTION:
URL:https://communitycounsellingcentre.ca/event/claire-4/2026-07-27/
LOCATION:Room 2
CATEGORIES:Room 2
END:VEVENT
BEGIN:VEVENT
DTSTART;TZID=America/Edmonton:20260727T170000
DTEND;TZID=America/Edmonton:20260727T210000
DTSTAMP:20260422T122756
CREATED:20260324T211943Z
LAST-MODIFIED:20260324T211943Z
UID:10008257-1785171600-1785186000@communitycounsellingcentre.ca
SUMMARY:Barb
DESCRIPTION:
URL:https://communitycounsellingcentre.ca/event/barb/2026-07-27/
LOCATION:Room 2
CATEGORIES:Room 2
END:VEVENT
BEGIN:VEVENT
DTSTART;TZID=America/Edmonton:20260728T150000
DTEND;TZID=America/Edmonton:20260728T190000
DTSTAMP:20260422T122756
CREATED:20250916T200850Z
LAST-MODIFIED:20250916T201158Z
UID:10005786-1785250800-1785265200@communitycounsellingcentre.ca
SUMMARY:Cecilia
DESCRIPTION:
URL:https://communitycounsellingcentre.ca/event/cecilia-35/2026-07-28/
LOCATION:Room 2
CATEGORIES:Room 2
END:VEVENT
BEGIN:VEVENT
DTSTART;TZID=America/Edmonton:20260729T120000
DTEND;TZID=America/Edmonton:20260729T200000
DTSTAMP:20260422T122756
CREATED:20241123T192303Z
LAST-MODIFIED:20251126T022729Z
UID:10007133-1785326400-1785355200@communitycounsellingcentre.ca
SUMMARY:Sabrina
DESCRIPTION:
URL:https://communitycounsellingcentre.ca/event/sabrina-10/2026-07-29/
LOCATION:Room 2
CATEGORIES:Room 2
END:VEVENT
BEGIN:VEVENT
DTSTART;TZID=America/Edmonton:20260730T140000
DTEND;TZID=America/Edmonton:20260730T200000
DTSTAMP:20260422T122756
CREATED:20251027T230208Z
LAST-MODIFIED:20251126T021620Z
UID:10006558-1785420000-1785441600@communitycounsellingcentre.ca
SUMMARY:Nick
DESCRIPTION:
URL:https://communitycounsellingcentre.ca/event/nick-5-2/2026-07-30/
LOCATION:Room 2
CATEGORIES:Room 2
END:VEVENT
BEGIN:VEVENT
DTSTART;TZID=America/Edmonton:20260802T130000
DTEND;TZID=America/Edmonton:20260802T210000
DTSTAMP:20260422T122756
CREATED:20260324T212100Z
LAST-MODIFIED:20260324T212100Z
UID:10008297-1785675600-1785704400@communitycounsellingcentre.ca
SUMMARY:Barb
DESCRIPTION:
URL:https://communitycounsellingcentre.ca/event/barb-2/2026-08-02/
LOCATION:Room 2
CATEGORIES:Room 2
END:VEVENT
BEGIN:VEVENT
DTSTART;TZID=America/Edmonton:20260803T100000
DTEND;TZID=America/Edmonton:20260803T140000
DTSTAMP:20260422T122756
CREATED:20260317T234650Z
LAST-MODIFIED:20260317T234650Z
UID:10008216-1785751200-1785765600@communitycounsellingcentre.ca
SUMMARY:Claire
DESCRIPTION:
URL:https://communitycounsellingcentre.ca/event/claire-4/2026-08-03/
LOCATION:Room 2
CATEGORIES:Room 2
END:VEVENT
BEGIN:VEVENT
DTSTART;TZID=America/Edmonton:20260803T170000
DTEND;TZID=America/Edmonton:20260803T210000
DTSTAMP:20260422T122756
CREATED:20260324T211943Z
LAST-MODIFIED:20260324T211943Z
UID:10008258-1785776400-1785790800@communitycounsellingcentre.ca
SUMMARY:Barb
DESCRIPTION:
URL:https://communitycounsellingcentre.ca/event/barb/2026-08-03/
LOCATION:Room 2
CATEGORIES:Room 2
END:VEVENT
BEGIN:VEVENT
DTSTART;TZID=America/Edmonton:20260804T150000
DTEND;TZID=America/Edmonton:20260804T190000
DTSTAMP:20260422T122756
CREATED:20250916T200850Z
LAST-MODIFIED:20250916T201158Z
UID:10005787-1785855600-1785870000@communitycounsellingcentre.ca
SUMMARY:Cecilia
DESCRIPTION:
URL:https://communitycounsellingcentre.ca/event/cecilia-35/2026-08-04/
LOCATION:Room 2
CATEGORIES:Room 2
END:VEVENT
BEGIN:VEVENT
DTSTART;TZID=America/Edmonton:20260805T120000
DTEND;TZID=America/Edmonton:20260805T200000
DTSTAMP:20260422T122756
CREATED:20241123T192303Z
LAST-MODIFIED:20251126T022729Z
UID:10007134-1785931200-1785960000@communitycounsellingcentre.ca
SUMMARY:Sabrina
DESCRIPTION:
URL:https://communitycounsellingcentre.ca/event/sabrina-10/2026-08-05/
LOCATION:Room 2
CATEGORIES:Room 2
END:VEVENT
END:VCALENDAR