BEGIN:VCALENDAR
VERSION:2.0
PRODID:-//Community Counselling Centre - ECPv6.13.1//NONSGML v1.0//EN
CALSCALE:GREGORIAN
METHOD:PUBLISH
X-WR-CALNAME:Community Counselling Centre
X-ORIGINAL-URL:https://communitycounsellingcentre.ca
X-WR-CALDESC:Events for Community Counselling Centre
REFRESH-INTERVAL;VALUE=DURATION:PT1H
X-Robots-Tag:noindex
X-PUBLISHED-TTL:PT1H
BEGIN:VTIMEZONE
TZID:America/Edmonton
BEGIN:DAYLIGHT
TZOFFSETFROM:-0700
TZOFFSETTO:-0600
TZNAME:MDT
DTSTART:20260308T090000
END:DAYLIGHT
BEGIN:STANDARD
TZOFFSETFROM:-0600
TZOFFSETTO:-0700
TZNAME:MST
DTSTART:20261101T080000
END:STANDARD
END:VTIMEZONE
BEGIN:VEVENT
DTSTART;TZID=America/Edmonton:20260730T140000
DTEND;TZID=America/Edmonton:20260730T200000
DTSTAMP:20260422T161745
CREATED:20251027T230208Z
LAST-MODIFIED:20251126T021620Z
UID:10006558-1785420000-1785441600@communitycounsellingcentre.ca
SUMMARY:Nick
DESCRIPTION:
URL:https://communitycounsellingcentre.ca/event/nick-5-2/2026-07-30/
LOCATION:Room 2
CATEGORIES:Room 2
END:VEVENT
BEGIN:VEVENT
DTSTART;TZID=America/Edmonton:20260802T130000
DTEND;TZID=America/Edmonton:20260802T210000
DTSTAMP:20260422T161745
CREATED:20260324T212100Z
LAST-MODIFIED:20260324T212100Z
UID:10008297-1785675600-1785704400@communitycounsellingcentre.ca
SUMMARY:Barb
DESCRIPTION:
URL:https://communitycounsellingcentre.ca/event/barb-2/2026-08-02/
LOCATION:Room 2
CATEGORIES:Room 2
END:VEVENT
BEGIN:VEVENT
DTSTART;TZID=America/Edmonton:20260803T100000
DTEND;TZID=America/Edmonton:20260803T140000
DTSTAMP:20260422T161745
CREATED:20260317T234650Z
LAST-MODIFIED:20260317T234650Z
UID:10008216-1785751200-1785765600@communitycounsellingcentre.ca
SUMMARY:Claire
DESCRIPTION:
URL:https://communitycounsellingcentre.ca/event/claire-4/2026-08-03/
LOCATION:Room 2
CATEGORIES:Room 2
END:VEVENT
BEGIN:VEVENT
DTSTART;TZID=America/Edmonton:20260803T170000
DTEND;TZID=America/Edmonton:20260803T210000
DTSTAMP:20260422T161745
CREATED:20260324T211943Z
LAST-MODIFIED:20260324T211943Z
UID:10008258-1785776400-1785790800@communitycounsellingcentre.ca
SUMMARY:Barb
DESCRIPTION:
URL:https://communitycounsellingcentre.ca/event/barb/2026-08-03/
LOCATION:Room 2
CATEGORIES:Room 2
END:VEVENT
BEGIN:VEVENT
DTSTART;TZID=America/Edmonton:20260804T150000
DTEND;TZID=America/Edmonton:20260804T190000
DTSTAMP:20260422T161745
CREATED:20250916T200850Z
LAST-MODIFIED:20250916T201158Z
UID:10005787-1785855600-1785870000@communitycounsellingcentre.ca
SUMMARY:Cecilia
DESCRIPTION:
URL:https://communitycounsellingcentre.ca/event/cecilia-35/2026-08-04/
LOCATION:Room 2
CATEGORIES:Room 2
END:VEVENT
BEGIN:VEVENT
DTSTART;TZID=America/Edmonton:20260805T120000
DTEND;TZID=America/Edmonton:20260805T200000
DTSTAMP:20260422T161745
CREATED:20241123T192303Z
LAST-MODIFIED:20251126T022729Z
UID:10007134-1785931200-1785960000@communitycounsellingcentre.ca
SUMMARY:Sabrina
DESCRIPTION:
URL:https://communitycounsellingcentre.ca/event/sabrina-10/2026-08-05/
LOCATION:Room 2
CATEGORIES:Room 2
END:VEVENT
BEGIN:VEVENT
DTSTART;TZID=America/Edmonton:20260806T140000
DTEND;TZID=America/Edmonton:20260806T200000
DTSTAMP:20260422T161745
CREATED:20251027T230208Z
LAST-MODIFIED:20251126T021620Z
UID:10006559-1786024800-1786046400@communitycounsellingcentre.ca
SUMMARY:Nick
DESCRIPTION:
URL:https://communitycounsellingcentre.ca/event/nick-5-2/2026-08-06/
LOCATION:Room 2
CATEGORIES:Room 2
END:VEVENT
BEGIN:VEVENT
DTSTART;TZID=America/Edmonton:20260809T130000
DTEND;TZID=America/Edmonton:20260809T210000
DTSTAMP:20260422T161745
CREATED:20260324T212100Z
LAST-MODIFIED:20260324T212100Z
UID:10008298-1786280400-1786309200@communitycounsellingcentre.ca
SUMMARY:Barb
DESCRIPTION:
URL:https://communitycounsellingcentre.ca/event/barb-2/2026-08-09/
LOCATION:Room 2
CATEGORIES:Room 2
END:VEVENT
BEGIN:VEVENT
DTSTART;TZID=America/Edmonton:20260810T100000
DTEND;TZID=America/Edmonton:20260810T140000
DTSTAMP:20260422T161745
CREATED:20260317T234650Z
LAST-MODIFIED:20260317T234650Z
UID:10008217-1786356000-1786370400@communitycounsellingcentre.ca
SUMMARY:Claire
DESCRIPTION:
URL:https://communitycounsellingcentre.ca/event/claire-4/2026-08-10/
LOCATION:Room 2
CATEGORIES:Room 2
END:VEVENT
BEGIN:VEVENT
DTSTART;TZID=America/Edmonton:20260810T170000
DTEND;TZID=America/Edmonton:20260810T210000
DTSTAMP:20260422T161745
CREATED:20260324T211943Z
LAST-MODIFIED:20260324T211943Z
UID:10008259-1786381200-1786395600@communitycounsellingcentre.ca
SUMMARY:Barb
DESCRIPTION:
URL:https://communitycounsellingcentre.ca/event/barb/2026-08-10/
LOCATION:Room 2
CATEGORIES:Room 2
END:VEVENT
BEGIN:VEVENT
DTSTART;TZID=America/Edmonton:20260811T150000
DTEND;TZID=America/Edmonton:20260811T190000
DTSTAMP:20260422T161745
CREATED:20250916T200850Z
LAST-MODIFIED:20250916T201158Z
UID:10005788-1786460400-1786474800@communitycounsellingcentre.ca
SUMMARY:Cecilia
DESCRIPTION:
URL:https://communitycounsellingcentre.ca/event/cecilia-35/2026-08-11/
LOCATION:Room 2
CATEGORIES:Room 2
END:VEVENT
BEGIN:VEVENT
DTSTART;TZID=America/Edmonton:20260812T120000
DTEND;TZID=America/Edmonton:20260812T200000
DTSTAMP:20260422T161745
CREATED:20241123T192303Z
LAST-MODIFIED:20251126T022729Z
UID:10007135-1786536000-1786564800@communitycounsellingcentre.ca
SUMMARY:Sabrina
DESCRIPTION:
URL:https://communitycounsellingcentre.ca/event/sabrina-10/2026-08-12/
LOCATION:Room 2
CATEGORIES:Room 2
END:VEVENT
BEGIN:VEVENT
DTSTART;TZID=America/Edmonton:20260813T140000
DTEND;TZID=America/Edmonton:20260813T200000
DTSTAMP:20260422T161745
CREATED:20251027T230208Z
LAST-MODIFIED:20251126T021620Z
UID:10006560-1786629600-1786651200@communitycounsellingcentre.ca
SUMMARY:Nick
DESCRIPTION:
URL:https://communitycounsellingcentre.ca/event/nick-5-2/2026-08-13/
LOCATION:Room 2
CATEGORIES:Room 2
END:VEVENT
BEGIN:VEVENT
DTSTART;TZID=America/Edmonton:20260816T130000
DTEND;TZID=America/Edmonton:20260816T210000
DTSTAMP:20260422T161745
CREATED:20260324T212100Z
LAST-MODIFIED:20260324T212100Z
UID:10008299-1786885200-1786914000@communitycounsellingcentre.ca
SUMMARY:Barb
DESCRIPTION:
URL:https://communitycounsellingcentre.ca/event/barb-2/2026-08-16/
LOCATION:Room 2
CATEGORIES:Room 2
END:VEVENT
BEGIN:VEVENT
DTSTART;TZID=America/Edmonton:20260817T100000
DTEND;TZID=America/Edmonton:20260817T140000
DTSTAMP:20260422T161745
CREATED:20260317T234650Z
LAST-MODIFIED:20260317T234650Z
UID:10008218-1786960800-1786975200@communitycounsellingcentre.ca
SUMMARY:Claire
DESCRIPTION:
URL:https://communitycounsellingcentre.ca/event/claire-4/2026-08-17/
LOCATION:Room 2
CATEGORIES:Room 2
END:VEVENT
BEGIN:VEVENT
DTSTART;TZID=America/Edmonton:20260817T170000
DTEND;TZID=America/Edmonton:20260817T210000
DTSTAMP:20260422T161745
CREATED:20260324T211943Z
LAST-MODIFIED:20260324T211943Z
UID:10008260-1786986000-1787000400@communitycounsellingcentre.ca
SUMMARY:Barb
DESCRIPTION:
URL:https://communitycounsellingcentre.ca/event/barb/2026-08-17/
LOCATION:Room 2
CATEGORIES:Room 2
END:VEVENT
BEGIN:VEVENT
DTSTART;TZID=America/Edmonton:20260818T150000
DTEND;TZID=America/Edmonton:20260818T190000
DTSTAMP:20260422T161745
CREATED:20250916T200850Z
LAST-MODIFIED:20250916T201158Z
UID:10005789-1787065200-1787079600@communitycounsellingcentre.ca
SUMMARY:Cecilia
DESCRIPTION:
URL:https://communitycounsellingcentre.ca/event/cecilia-35/2026-08-18/
LOCATION:Room 2
CATEGORIES:Room 2
END:VEVENT
BEGIN:VEVENT
DTSTART;TZID=America/Edmonton:20260819T120000
DTEND;TZID=America/Edmonton:20260819T200000
DTSTAMP:20260422T161745
CREATED:20241123T192303Z
LAST-MODIFIED:20251126T022729Z
UID:10007136-1787140800-1787169600@communitycounsellingcentre.ca
SUMMARY:Sabrina
DESCRIPTION:
URL:https://communitycounsellingcentre.ca/event/sabrina-10/2026-08-19/
LOCATION:Room 2
CATEGORIES:Room 2
END:VEVENT
BEGIN:VEVENT
DTSTART;TZID=America/Edmonton:20260820T140000
DTEND;TZID=America/Edmonton:20260820T200000
DTSTAMP:20260422T161745
CREATED:20251027T230208Z
LAST-MODIFIED:20251126T021620Z
UID:10006561-1787234400-1787256000@communitycounsellingcentre.ca
SUMMARY:Nick
DESCRIPTION:
URL:https://communitycounsellingcentre.ca/event/nick-5-2/2026-08-20/
LOCATION:Room 2
CATEGORIES:Room 2
END:VEVENT
BEGIN:VEVENT
DTSTART;TZID=America/Edmonton:20260823T130000
DTEND;TZID=America/Edmonton:20260823T210000
DTSTAMP:20260422T161745
CREATED:20260324T212100Z
LAST-MODIFIED:20260324T212100Z
UID:10008300-1787490000-1787518800@communitycounsellingcentre.ca
SUMMARY:Barb
DESCRIPTION:
URL:https://communitycounsellingcentre.ca/event/barb-2/2026-08-23/
LOCATION:Room 2
CATEGORIES:Room 2
END:VEVENT
BEGIN:VEVENT
DTSTART;TZID=America/Edmonton:20260824T100000
DTEND;TZID=America/Edmonton:20260824T140000
DTSTAMP:20260422T161745
CREATED:20260317T234650Z
LAST-MODIFIED:20260317T234650Z
UID:10008219-1787565600-1787580000@communitycounsellingcentre.ca
SUMMARY:Claire
DESCRIPTION:
URL:https://communitycounsellingcentre.ca/event/claire-4/2026-08-24/
LOCATION:Room 2
CATEGORIES:Room 2
END:VEVENT
BEGIN:VEVENT
DTSTART;TZID=America/Edmonton:20260824T170000
DTEND;TZID=America/Edmonton:20260824T210000
DTSTAMP:20260422T161745
CREATED:20260324T211943Z
LAST-MODIFIED:20260324T211943Z
UID:10008261-1787590800-1787605200@communitycounsellingcentre.ca
SUMMARY:Barb
DESCRIPTION:
URL:https://communitycounsellingcentre.ca/event/barb/2026-08-24/
LOCATION:Room 2
CATEGORIES:Room 2
END:VEVENT
BEGIN:VEVENT
DTSTART;TZID=America/Edmonton:20260825T150000
DTEND;TZID=America/Edmonton:20260825T190000
DTSTAMP:20260422T161745
CREATED:20250916T200850Z
LAST-MODIFIED:20250916T201158Z
UID:10005790-1787670000-1787684400@communitycounsellingcentre.ca
SUMMARY:Cecilia
DESCRIPTION:
URL:https://communitycounsellingcentre.ca/event/cecilia-35/2026-08-25/
LOCATION:Room 2
CATEGORIES:Room 2
END:VEVENT
BEGIN:VEVENT
DTSTART;TZID=America/Edmonton:20260826T120000
DTEND;TZID=America/Edmonton:20260826T200000
DTSTAMP:20260422T161745
CREATED:20241123T192303Z
LAST-MODIFIED:20251126T022729Z
UID:10007137-1787745600-1787774400@communitycounsellingcentre.ca
SUMMARY:Sabrina
DESCRIPTION:
URL:https://communitycounsellingcentre.ca/event/sabrina-10/2026-08-26/
LOCATION:Room 2
CATEGORIES:Room 2
END:VEVENT
BEGIN:VEVENT
DTSTART;TZID=America/Edmonton:20260827T140000
DTEND;TZID=America/Edmonton:20260827T200000
DTSTAMP:20260422T161745
CREATED:20251027T230208Z
LAST-MODIFIED:20251126T021620Z
UID:10006562-1787839200-1787860800@communitycounsellingcentre.ca
SUMMARY:Nick
DESCRIPTION:
URL:https://communitycounsellingcentre.ca/event/nick-5-2/2026-08-27/
LOCATION:Room 2
CATEGORIES:Room 2
END:VEVENT
BEGIN:VEVENT
DTSTART;TZID=America/Edmonton:20260830T130000
DTEND;TZID=America/Edmonton:20260830T210000
DTSTAMP:20260422T161745
CREATED:20260324T212100Z
LAST-MODIFIED:20260324T212100Z
UID:10008301-1788094800-1788123600@communitycounsellingcentre.ca
SUMMARY:Barb
DESCRIPTION:
URL:https://communitycounsellingcentre.ca/event/barb-2/2026-08-30/
LOCATION:Room 2
CATEGORIES:Room 2
END:VEVENT
BEGIN:VEVENT
DTSTART;TZID=America/Edmonton:20260831T100000
DTEND;TZID=America/Edmonton:20260831T140000
DTSTAMP:20260422T161745
CREATED:20260317T234650Z
LAST-MODIFIED:20260317T234650Z
UID:10008220-1788170400-1788184800@communitycounsellingcentre.ca
SUMMARY:Claire
DESCRIPTION:
URL:https://communitycounsellingcentre.ca/event/claire-4/2026-08-31/
LOCATION:Room 2
CATEGORIES:Room 2
END:VEVENT
BEGIN:VEVENT
DTSTART;TZID=America/Edmonton:20260831T170000
DTEND;TZID=America/Edmonton:20260831T210000
DTSTAMP:20260422T161745
CREATED:20260324T211943Z
LAST-MODIFIED:20260324T211943Z
UID:10008262-1788195600-1788210000@communitycounsellingcentre.ca
SUMMARY:Barb
DESCRIPTION:
URL:https://communitycounsellingcentre.ca/event/barb/2026-08-31/
LOCATION:Room 2
CATEGORIES:Room 2
END:VEVENT
BEGIN:VEVENT
DTSTART;TZID=America/Edmonton:20260901T150000
DTEND;TZID=America/Edmonton:20260901T190000
DTSTAMP:20260422T161745
CREATED:20250916T200850Z
LAST-MODIFIED:20250916T201158Z
UID:10005791-1788274800-1788289200@communitycounsellingcentre.ca
SUMMARY:Cecilia
DESCRIPTION:
URL:https://communitycounsellingcentre.ca/event/cecilia-35/2026-09-01/
LOCATION:Room 2
CATEGORIES:Room 2
END:VEVENT
BEGIN:VEVENT
DTSTART;TZID=America/Edmonton:20260902T120000
DTEND;TZID=America/Edmonton:20260902T200000
DTSTAMP:20260422T161745
CREATED:20241123T192303Z
LAST-MODIFIED:20251126T022729Z
UID:10007138-1788350400-1788379200@communitycounsellingcentre.ca
SUMMARY:Sabrina
DESCRIPTION:
URL:https://communitycounsellingcentre.ca/event/sabrina-10/2026-09-02/
LOCATION:Room 2
CATEGORIES:Room 2
END:VEVENT
END:VCALENDAR