BEGIN:VCALENDAR
VERSION:2.0
PRODID:-//Community Counselling Centre - ECPv6.13.1//NONSGML v1.0//EN
CALSCALE:GREGORIAN
METHOD:PUBLISH
X-WR-CALNAME:Community Counselling Centre
X-ORIGINAL-URL:https://communitycounsellingcentre.ca
X-WR-CALDESC:Events for Community Counselling Centre
REFRESH-INTERVAL;VALUE=DURATION:PT1H
X-Robots-Tag:noindex
X-PUBLISHED-TTL:PT1H
BEGIN:VTIMEZONE
TZID:America/Edmonton
BEGIN:DAYLIGHT
TZOFFSETFROM:-0700
TZOFFSETTO:-0600
TZNAME:MDT
DTSTART:20260308T090000
END:DAYLIGHT
BEGIN:STANDARD
TZOFFSETFROM:-0600
TZOFFSETTO:-0700
TZNAME:MST
DTSTART:20261101T080000
END:STANDARD
END:VTIMEZONE
BEGIN:VEVENT
DTSTART;TZID=America/Edmonton:20260423T140000
DTEND;TZID=America/Edmonton:20260423T200000
DTSTAMP:20260423T161225
CREATED:20260227T174239Z
LAST-MODIFIED:20260307T163310Z
UID:10007882-1776952800-1776974400@communitycounsellingcentre.ca
SUMMARY:Bo
DESCRIPTION:
URL:https://communitycounsellingcentre.ca/event/bo-12-2-2/2026-04-23/
LOCATION:Room 3
CATEGORIES:Room 3
END:VEVENT
BEGIN:VEVENT
DTSTART;TZID=America/Edmonton:20260424T100000
DTEND;TZID=America/Edmonton:20260424T140000
DTSTAMP:20260423T161225
CREATED:20251021T165214Z
LAST-MODIFIED:20260317T235202Z
UID:10005989-1777024800-1777039200@communitycounsellingcentre.ca
SUMMARY:Claire
DESCRIPTION:
URL:https://communitycounsellingcentre.ca/event/claire-2/2026-04-24/
LOCATION:Room 3
CATEGORIES:Room 3
END:VEVENT
BEGIN:VEVENT
DTSTART;TZID=America/Edmonton:20260424T160000
DTEND;TZID=America/Edmonton:20260424T200000
DTSTAMP:20260423T161225
CREATED:20251027T225904Z
LAST-MODIFIED:20251126T021806Z
UID:10006649-1777046400-1777060800@communitycounsellingcentre.ca
SUMMARY:Ishmal
DESCRIPTION:
URL:https://communitycounsellingcentre.ca/event/ishmal-2-2/2026-04-24/
LOCATION:Room 3
CATEGORIES:Room 3
END:VEVENT
BEGIN:VEVENT
DTSTART;TZID=America/Edmonton:20260427T100000
DTEND;TZID=America/Edmonton:20260427T200000
DTSTAMP:20260423T161225
CREATED:20250815T163752Z
LAST-MODIFIED:20251126T022100Z
UID:10006806-1777284000-1777320000@communitycounsellingcentre.ca
SUMMARY:Steven
DESCRIPTION:
URL:https://communitycounsellingcentre.ca/event/steven-4/2026-04-27/
LOCATION:Room 3
CATEGORIES:Room 3
END:VEVENT
BEGIN:VEVENT
DTSTART;TZID=America/Edmonton:20260428T120000
DTEND;TZID=America/Edmonton:20260428T200000
DTSTAMP:20260423T161225
CREATED:20250320T170016Z
LAST-MODIFIED:20251126T022218Z
UID:10006910-1777377600-1777406400@communitycounsellingcentre.ca
SUMMARY:Sabrina
DESCRIPTION:
URL:https://communitycounsellingcentre.ca/event/sabrina-7/2026-04-28/
LOCATION:Room 3
CATEGORIES:Room 3
END:VEVENT
BEGIN:VEVENT
DTSTART;TZID=America/Edmonton:20260429T100000
DTEND;TZID=America/Edmonton:20260429T140000
DTSTAMP:20260423T161225
CREATED:20251021T165121Z
LAST-MODIFIED:20251021T165121Z
UID:10005834-1777456800-1777471200@communitycounsellingcentre.ca
SUMMARY:Claire
DESCRIPTION:
URL:https://communitycounsellingcentre.ca/event/claire/2026-04-29/
LOCATION:Room 3
CATEGORIES:Room 3
END:VEVENT
BEGIN:VEVENT
DTSTART;TZID=America/Edmonton:20260429T150000
DTEND;TZID=America/Edmonton:20260429T210000
DTSTAMP:20260423T161225
CREATED:20240903T201801Z
LAST-MODIFIED:20260307T163448Z
UID:10008127-1777474800-1777496400@communitycounsellingcentre.ca
SUMMARY:Bo
DESCRIPTION:
URL:https://communitycounsellingcentre.ca/event/bo-4-2/2026-04-29/
LOCATION:Room 3
CATEGORIES:Room 3
END:VEVENT
BEGIN:VEVENT
DTSTART;TZID=America/Edmonton:20260430T140000
DTEND;TZID=America/Edmonton:20260430T200000
DTSTAMP:20260423T161225
CREATED:20260227T174239Z
LAST-MODIFIED:20260307T163310Z
UID:10007883-1777557600-1777579200@communitycounsellingcentre.ca
SUMMARY:Bo
DESCRIPTION:
URL:https://communitycounsellingcentre.ca/event/bo-12-2-2/2026-04-30/
LOCATION:Room 3
CATEGORIES:Room 3
END:VEVENT
BEGIN:VEVENT
DTSTART;TZID=America/Edmonton:20260501T100000
DTEND;TZID=America/Edmonton:20260501T140000
DTSTAMP:20260423T161225
CREATED:20251021T165214Z
LAST-MODIFIED:20260317T235202Z
UID:10008238-1777629600-1777644000@communitycounsellingcentre.ca
SUMMARY:Claire
DESCRIPTION:
URL:https://communitycounsellingcentre.ca/event/claire-2/2026-05-01/
LOCATION:Room 3
CATEGORIES:Room 3
END:VEVENT
BEGIN:VEVENT
DTSTART;TZID=America/Edmonton:20260501T160000
DTEND;TZID=America/Edmonton:20260501T200000
DTSTAMP:20260423T161225
CREATED:20251027T225904Z
LAST-MODIFIED:20251126T021806Z
UID:10006650-1777651200-1777665600@communitycounsellingcentre.ca
SUMMARY:Ishmal
DESCRIPTION:
URL:https://communitycounsellingcentre.ca/event/ishmal-2-2/2026-05-01/
LOCATION:Room 3
CATEGORIES:Room 3
END:VEVENT
BEGIN:VEVENT
DTSTART;TZID=America/Edmonton:20260504T100000
DTEND;TZID=America/Edmonton:20260504T200000
DTSTAMP:20260423T161225
CREATED:20250815T163752Z
LAST-MODIFIED:20251126T022100Z
UID:10006807-1777888800-1777924800@communitycounsellingcentre.ca
SUMMARY:Steven
DESCRIPTION:
URL:https://communitycounsellingcentre.ca/event/steven-4/2026-05-04/
LOCATION:Room 3
CATEGORIES:Room 3
END:VEVENT
BEGIN:VEVENT
DTSTART;TZID=America/Edmonton:20260505T120000
DTEND;TZID=America/Edmonton:20260505T200000
DTSTAMP:20260423T161225
CREATED:20250320T170016Z
LAST-MODIFIED:20251126T022218Z
UID:10006911-1777982400-1778011200@communitycounsellingcentre.ca
SUMMARY:Sabrina
DESCRIPTION:
URL:https://communitycounsellingcentre.ca/event/sabrina-7/2026-05-05/
LOCATION:Room 3
CATEGORIES:Room 3
END:VEVENT
BEGIN:VEVENT
DTSTART;TZID=America/Edmonton:20260506T100000
DTEND;TZID=America/Edmonton:20260506T140000
DTSTAMP:20260423T161225
CREATED:20251021T165121Z
LAST-MODIFIED:20251021T165121Z
UID:10005835-1778061600-1778076000@communitycounsellingcentre.ca
SUMMARY:Claire
DESCRIPTION:
URL:https://communitycounsellingcentre.ca/event/claire/2026-05-06/
LOCATION:Room 3
CATEGORIES:Room 3
END:VEVENT
BEGIN:VEVENT
DTSTART;TZID=America/Edmonton:20260506T150000
DTEND;TZID=America/Edmonton:20260506T210000
DTSTAMP:20260423T161225
CREATED:20240903T201801Z
LAST-MODIFIED:20260307T163448Z
UID:10008128-1778079600-1778101200@communitycounsellingcentre.ca
SUMMARY:Bo
DESCRIPTION:
URL:https://communitycounsellingcentre.ca/event/bo-4-2/2026-05-06/
LOCATION:Room 3
CATEGORIES:Room 3
END:VEVENT
BEGIN:VEVENT
DTSTART;TZID=America/Edmonton:20260507T140000
DTEND;TZID=America/Edmonton:20260507T200000
DTSTAMP:20260423T161225
CREATED:20260227T174239Z
LAST-MODIFIED:20260307T163310Z
UID:10007884-1778162400-1778184000@communitycounsellingcentre.ca
SUMMARY:Bo
DESCRIPTION:
URL:https://communitycounsellingcentre.ca/event/bo-12-2-2/2026-05-07/
LOCATION:Room 3
CATEGORIES:Room 3
END:VEVENT
BEGIN:VEVENT
DTSTART;TZID=America/Edmonton:20260508T160000
DTEND;TZID=America/Edmonton:20260508T200000
DTSTAMP:20260423T161225
CREATED:20251027T225904Z
LAST-MODIFIED:20251126T021806Z
UID:10006651-1778256000-1778270400@communitycounsellingcentre.ca
SUMMARY:Ishmal
DESCRIPTION:
URL:https://communitycounsellingcentre.ca/event/ishmal-2-2/2026-05-08/
LOCATION:Room 3
CATEGORIES:Room 3
END:VEVENT
BEGIN:VEVENT
DTSTART;TZID=America/Edmonton:20260511T100000
DTEND;TZID=America/Edmonton:20260511T200000
DTSTAMP:20260423T161225
CREATED:20250815T163752Z
LAST-MODIFIED:20251126T022100Z
UID:10006808-1778493600-1778529600@communitycounsellingcentre.ca
SUMMARY:Steven
DESCRIPTION:
URL:https://communitycounsellingcentre.ca/event/steven-4/2026-05-11/
LOCATION:Room 3
CATEGORIES:Room 3
END:VEVENT
BEGIN:VEVENT
DTSTART;TZID=America/Edmonton:20260512T120000
DTEND;TZID=America/Edmonton:20260512T200000
DTSTAMP:20260423T161225
CREATED:20250320T170016Z
LAST-MODIFIED:20251126T022218Z
UID:10006912-1778587200-1778616000@communitycounsellingcentre.ca
SUMMARY:Sabrina
DESCRIPTION:
URL:https://communitycounsellingcentre.ca/event/sabrina-7/2026-05-12/
LOCATION:Room 3
CATEGORIES:Room 3
END:VEVENT
BEGIN:VEVENT
DTSTART;TZID=America/Edmonton:20260513T100000
DTEND;TZID=America/Edmonton:20260513T140000
DTSTAMP:20260423T161225
CREATED:20251021T165121Z
LAST-MODIFIED:20251021T165121Z
UID:10005836-1778666400-1778680800@communitycounsellingcentre.ca
SUMMARY:Claire
DESCRIPTION:
URL:https://communitycounsellingcentre.ca/event/claire/2026-05-13/
LOCATION:Room 3
CATEGORIES:Room 3
END:VEVENT
BEGIN:VEVENT
DTSTART;TZID=America/Edmonton:20260513T150000
DTEND;TZID=America/Edmonton:20260513T210000
DTSTAMP:20260423T161225
CREATED:20240903T201801Z
LAST-MODIFIED:20260307T163448Z
UID:10008129-1778684400-1778706000@communitycounsellingcentre.ca
SUMMARY:Bo
DESCRIPTION:
URL:https://communitycounsellingcentre.ca/event/bo-4-2/2026-05-13/
LOCATION:Room 3
CATEGORIES:Room 3
END:VEVENT
BEGIN:VEVENT
DTSTART;TZID=America/Edmonton:20260514T140000
DTEND;TZID=America/Edmonton:20260514T200000
DTSTAMP:20260423T161225
CREATED:20260227T174239Z
LAST-MODIFIED:20260307T163310Z
UID:10007885-1778767200-1778788800@communitycounsellingcentre.ca
SUMMARY:Bo
DESCRIPTION:
URL:https://communitycounsellingcentre.ca/event/bo-12-2-2/2026-05-14/
LOCATION:Room 3
CATEGORIES:Room 3
END:VEVENT
BEGIN:VEVENT
DTSTART;TZID=America/Edmonton:20260515T160000
DTEND;TZID=America/Edmonton:20260515T200000
DTSTAMP:20260423T161225
CREATED:20251027T225904Z
LAST-MODIFIED:20251126T021806Z
UID:10006652-1778860800-1778875200@communitycounsellingcentre.ca
SUMMARY:Ishmal
DESCRIPTION:
URL:https://communitycounsellingcentre.ca/event/ishmal-2-2/2026-05-15/
LOCATION:Room 3
CATEGORIES:Room 3
END:VEVENT
BEGIN:VEVENT
DTSTART;TZID=America/Edmonton:20260518T100000
DTEND;TZID=America/Edmonton:20260518T200000
DTSTAMP:20260423T161225
CREATED:20250815T163752Z
LAST-MODIFIED:20251126T022100Z
UID:10006809-1779098400-1779134400@communitycounsellingcentre.ca
SUMMARY:Steven
DESCRIPTION:
URL:https://communitycounsellingcentre.ca/event/steven-4/2026-05-18/
LOCATION:Room 3
CATEGORIES:Room 3
END:VEVENT
BEGIN:VEVENT
DTSTART;TZID=America/Edmonton:20260519T120000
DTEND;TZID=America/Edmonton:20260519T200000
DTSTAMP:20260423T161225
CREATED:20250320T170016Z
LAST-MODIFIED:20251126T022218Z
UID:10006913-1779192000-1779220800@communitycounsellingcentre.ca
SUMMARY:Sabrina
DESCRIPTION:
URL:https://communitycounsellingcentre.ca/event/sabrina-7/2026-05-19/
LOCATION:Room 3
CATEGORIES:Room 3
END:VEVENT
BEGIN:VEVENT
DTSTART;TZID=America/Edmonton:20260520T100000
DTEND;TZID=America/Edmonton:20260520T140000
DTSTAMP:20260423T161225
CREATED:20251021T165121Z
LAST-MODIFIED:20251021T165121Z
UID:10005837-1779271200-1779285600@communitycounsellingcentre.ca
SUMMARY:Claire
DESCRIPTION:
URL:https://communitycounsellingcentre.ca/event/claire/2026-05-20/
LOCATION:Room 3
CATEGORIES:Room 3
END:VEVENT
BEGIN:VEVENT
DTSTART;TZID=America/Edmonton:20260520T150000
DTEND;TZID=America/Edmonton:20260520T210000
DTSTAMP:20260423T161225
CREATED:20240903T201801Z
LAST-MODIFIED:20260307T163448Z
UID:10008130-1779289200-1779310800@communitycounsellingcentre.ca
SUMMARY:Bo
DESCRIPTION:
URL:https://communitycounsellingcentre.ca/event/bo-4-2/2026-05-20/
LOCATION:Room 3
CATEGORIES:Room 3
END:VEVENT
BEGIN:VEVENT
DTSTART;TZID=America/Edmonton:20260521T140000
DTEND;TZID=America/Edmonton:20260521T200000
DTSTAMP:20260423T161225
CREATED:20260227T174239Z
LAST-MODIFIED:20260307T163310Z
UID:10007886-1779372000-1779393600@communitycounsellingcentre.ca
SUMMARY:Bo
DESCRIPTION:
URL:https://communitycounsellingcentre.ca/event/bo-12-2-2/2026-05-21/
LOCATION:Room 3
CATEGORIES:Room 3
END:VEVENT
BEGIN:VEVENT
DTSTART;TZID=America/Edmonton:20260522T160000
DTEND;TZID=America/Edmonton:20260522T200000
DTSTAMP:20260423T161225
CREATED:20251027T225904Z
LAST-MODIFIED:20251126T021806Z
UID:10006653-1779465600-1779480000@communitycounsellingcentre.ca
SUMMARY:Ishmal
DESCRIPTION:
URL:https://communitycounsellingcentre.ca/event/ishmal-2-2/2026-05-22/
LOCATION:Room 3
CATEGORIES:Room 3
END:VEVENT
BEGIN:VEVENT
DTSTART;TZID=America/Edmonton:20260525T100000
DTEND;TZID=America/Edmonton:20260525T200000
DTSTAMP:20260423T161225
CREATED:20250815T163752Z
LAST-MODIFIED:20251126T022100Z
UID:10006810-1779703200-1779739200@communitycounsellingcentre.ca
SUMMARY:Steven
DESCRIPTION:
URL:https://communitycounsellingcentre.ca/event/steven-4/2026-05-25/
LOCATION:Room 3
CATEGORIES:Room 3
END:VEVENT
BEGIN:VEVENT
DTSTART;TZID=America/Edmonton:20260526T120000
DTEND;TZID=America/Edmonton:20260526T200000
DTSTAMP:20260423T161225
CREATED:20250320T170016Z
LAST-MODIFIED:20251126T022218Z
UID:10006914-1779796800-1779825600@communitycounsellingcentre.ca
SUMMARY:Sabrina
DESCRIPTION:
URL:https://communitycounsellingcentre.ca/event/sabrina-7/2026-05-26/
LOCATION:Room 3
CATEGORIES:Room 3
END:VEVENT
END:VCALENDAR