BEGIN:VCALENDAR
VERSION:2.0
PRODID:-//Community Counselling Centre - ECPv6.13.1//NONSGML v1.0//EN
CALSCALE:GREGORIAN
METHOD:PUBLISH
X-ORIGINAL-URL:https://communitycounsellingcentre.ca
X-WR-CALDESC:Events for Community Counselling Centre
REFRESH-INTERVAL;VALUE=DURATION:PT1H
X-Robots-Tag:noindex
X-PUBLISHED-TTL:PT1H
BEGIN:VTIMEZONE
TZID:America/Edmonton
BEGIN:DAYLIGHT
TZOFFSETFROM:-0700
TZOFFSETTO:-0600
TZNAME:MDT
DTSTART:20260308T090000
END:DAYLIGHT
BEGIN:STANDARD
TZOFFSETFROM:-0600
TZOFFSETTO:-0700
TZNAME:MST
DTSTART:20261101T080000
END:STANDARD
END:VTIMEZONE
BEGIN:VEVENT
DTSTART;TZID=America/Edmonton:20260423T140000
DTEND;TZID=America/Edmonton:20260423T200000
DTSTAMP:20260423T145719
CREATED:20260227T174239Z
LAST-MODIFIED:20260307T163310Z
UID:10007882-1776952800-1776974400@communitycounsellingcentre.ca
SUMMARY:Bo
DESCRIPTION:
URL:https://communitycounsellingcentre.ca/event/bo-12-2-2/2026-04-23/
LOCATION:Room 3
CATEGORIES:Room 3
END:VEVENT
BEGIN:VEVENT
DTSTART;TZID=America/Edmonton:20260424T100000
DTEND;TZID=America/Edmonton:20260424T140000
DTSTAMP:20260423T145719
CREATED:20251021T165214Z
LAST-MODIFIED:20260317T235202Z
UID:10005989-1777024800-1777039200@communitycounsellingcentre.ca
SUMMARY:Claire
DESCRIPTION:
URL:https://communitycounsellingcentre.ca/event/claire-2/2026-04-24/
LOCATION:Room 3
CATEGORIES:Room 3
END:VEVENT
BEGIN:VEVENT
DTSTART;TZID=America/Edmonton:20260424T160000
DTEND;TZID=America/Edmonton:20260424T200000
DTSTAMP:20260423T145719
CREATED:20251027T225904Z
LAST-MODIFIED:20251126T021806Z
UID:10006649-1777046400-1777060800@communitycounsellingcentre.ca
SUMMARY:Ishmal
DESCRIPTION:
URL:https://communitycounsellingcentre.ca/event/ishmal-2-2/2026-04-24/
LOCATION:Room 3
CATEGORIES:Room 3
END:VEVENT
BEGIN:VEVENT
DTSTART;TZID=America/Edmonton:20260427T100000
DTEND;TZID=America/Edmonton:20260427T200000
DTSTAMP:20260423T145719
CREATED:20250815T163752Z
LAST-MODIFIED:20251126T022100Z
UID:10006806-1777284000-1777320000@communitycounsellingcentre.ca
SUMMARY:Steven
DESCRIPTION:
URL:https://communitycounsellingcentre.ca/event/steven-4/2026-04-27/
LOCATION:Room 3
CATEGORIES:Room 3
END:VEVENT
BEGIN:VEVENT
DTSTART;TZID=America/Edmonton:20260428T120000
DTEND;TZID=America/Edmonton:20260428T200000
DTSTAMP:20260423T145719
CREATED:20250320T170016Z
LAST-MODIFIED:20251126T022218Z
UID:10006910-1777377600-1777406400@communitycounsellingcentre.ca
SUMMARY:Sabrina
DESCRIPTION:
URL:https://communitycounsellingcentre.ca/event/sabrina-7/2026-04-28/
LOCATION:Room 3
CATEGORIES:Room 3
END:VEVENT
BEGIN:VEVENT
DTSTART;TZID=America/Edmonton:20260429T100000
DTEND;TZID=America/Edmonton:20260429T140000
DTSTAMP:20260423T145719
CREATED:20251021T165121Z
LAST-MODIFIED:20251021T165121Z
UID:10005834-1777456800-1777471200@communitycounsellingcentre.ca
SUMMARY:Claire
DESCRIPTION:
URL:https://communitycounsellingcentre.ca/event/claire/2026-04-29/
LOCATION:Room 3
CATEGORIES:Room 3
END:VEVENT
BEGIN:VEVENT
DTSTART;TZID=America/Edmonton:20260429T150000
DTEND;TZID=America/Edmonton:20260429T210000
DTSTAMP:20260423T145719
CREATED:20240903T201801Z
LAST-MODIFIED:20260307T163448Z
UID:10008127-1777474800-1777496400@communitycounsellingcentre.ca
SUMMARY:Bo
DESCRIPTION:
URL:https://communitycounsellingcentre.ca/event/bo-4-2/2026-04-29/
LOCATION:Room 3
CATEGORIES:Room 3
END:VEVENT
BEGIN:VEVENT
DTSTART;TZID=America/Edmonton:20260430T140000
DTEND;TZID=America/Edmonton:20260430T200000
DTSTAMP:20260423T145719
CREATED:20260227T174239Z
LAST-MODIFIED:20260307T163310Z
UID:10007883-1777557600-1777579200@communitycounsellingcentre.ca
SUMMARY:Bo
DESCRIPTION:
URL:https://communitycounsellingcentre.ca/event/bo-12-2-2/2026-04-30/
LOCATION:Room 3
CATEGORIES:Room 3
END:VEVENT
END:VCALENDAR