BEGIN:VCALENDAR
VERSION:2.0
PRODID:-//Community Counselling Centre - ECPv6.13.1//NONSGML v1.0//EN
CALSCALE:GREGORIAN
METHOD:PUBLISH
X-ORIGINAL-URL:https://communitycounsellingcentre.ca
X-WR-CALDESC:Events for Community Counselling Centre
REFRESH-INTERVAL;VALUE=DURATION:PT1H
X-Robots-Tag:noindex
X-PUBLISHED-TTL:PT1H
BEGIN:VTIMEZONE
TZID:America/Edmonton
BEGIN:DAYLIGHT
TZOFFSETFROM:-0700
TZOFFSETTO:-0600
TZNAME:MDT
DTSTART:20250309T090000
END:DAYLIGHT
BEGIN:STANDARD
TZOFFSETFROM:-0600
TZOFFSETTO:-0700
TZNAME:MST
DTSTART:20251102T080000
END:STANDARD
END:VTIMEZONE
BEGIN:VEVENT
DTSTART;TZID=America/Edmonton:20251215T100000
DTEND;TZID=America/Edmonton:20251215T200000
DTSTAMP:20260424T113649
CREATED:20250815T163752Z
LAST-MODIFIED:20251126T022100Z
UID:10005624-1765792800-1765828800@communitycounsellingcentre.ca
SUMMARY:Steven
DESCRIPTION:
URL:https://communitycounsellingcentre.ca/event/steven-4/2025-12-15/
LOCATION:Room 3
CATEGORIES:Room 3
END:VEVENT
BEGIN:VEVENT
DTSTART;TZID=America/Edmonton:20251212T160000
DTEND;TZID=America/Edmonton:20251212T200000
DTSTAMP:20260424T113649
CREATED:20251027T225904Z
LAST-MODIFIED:20251126T021806Z
UID:10005952-1765555200-1765569600@communitycounsellingcentre.ca
SUMMARY:Ishmal
DESCRIPTION:
URL:https://communitycounsellingcentre.ca/event/ishmal-2-2/2025-12-12/
LOCATION:Room 3
CATEGORIES:Room 3
END:VEVENT
BEGIN:VEVENT
DTSTART;TZID=America/Edmonton:20251212T100000
DTEND;TZID=America/Edmonton:20251212T140000
DTSTAMP:20260424T113649
CREATED:20251021T165214Z
LAST-MODIFIED:20260317T235202Z
UID:10005970-1765533600-1765548000@communitycounsellingcentre.ca
SUMMARY:Claire
DESCRIPTION:
URL:https://communitycounsellingcentre.ca/event/claire-2/2025-12-12/
LOCATION:Room 3
CATEGORIES:Room 3
END:VEVENT
BEGIN:VEVENT
DTSTART;TZID=America/Edmonton:20251210T150000
DTEND;TZID=America/Edmonton:20251210T210000
DTSTAMP:20260424T113649
CREATED:20240903T201801Z
LAST-MODIFIED:20260307T163448Z
UID:10008107-1765378800-1765400400@communitycounsellingcentre.ca
SUMMARY:Bo
DESCRIPTION:
URL:https://communitycounsellingcentre.ca/event/bo-4-2/2025-12-10/
LOCATION:Room 3
CATEGORIES:Room 3
END:VEVENT
BEGIN:VEVENT
DTSTART;TZID=America/Edmonton:20251210T100000
DTEND;TZID=America/Edmonton:20251210T140000
DTSTAMP:20260424T113649
CREATED:20251021T165121Z
LAST-MODIFIED:20251021T165121Z
UID:10005814-1765360800-1765375200@communitycounsellingcentre.ca
SUMMARY:Claire
DESCRIPTION:
URL:https://communitycounsellingcentre.ca/event/claire/2025-12-10/
LOCATION:Room 3
CATEGORIES:Room 3
END:VEVENT
BEGIN:VEVENT
DTSTART;TZID=America/Edmonton:20251209T120000
DTEND;TZID=America/Edmonton:20251209T200000
DTSTAMP:20260424T113649
CREATED:20250320T170016Z
LAST-MODIFIED:20251126T022218Z
UID:10005419-1765281600-1765310400@communitycounsellingcentre.ca
SUMMARY:Sabrina
DESCRIPTION:
URL:https://communitycounsellingcentre.ca/event/sabrina-7/2025-12-09/
LOCATION:Room 3
CATEGORIES:Room 3
END:VEVENT
BEGIN:VEVENT
DTSTART;TZID=America/Edmonton:20251208T100000
DTEND;TZID=America/Edmonton:20251208T200000
DTSTAMP:20260424T113649
CREATED:20250815T163752Z
LAST-MODIFIED:20251126T022100Z
UID:10005623-1765188000-1765224000@communitycounsellingcentre.ca
SUMMARY:Steven
DESCRIPTION:
URL:https://communitycounsellingcentre.ca/event/steven-4/2025-12-08/
LOCATION:Room 3
CATEGORIES:Room 3
END:VEVENT
BEGIN:VEVENT
DTSTART;TZID=America/Edmonton:20251205T160000
DTEND;TZID=America/Edmonton:20251205T200000
DTSTAMP:20260424T113649
CREATED:20251027T225904Z
LAST-MODIFIED:20251126T021806Z
UID:10005951-1764950400-1764964800@communitycounsellingcentre.ca
SUMMARY:Ishmal
DESCRIPTION:
URL:https://communitycounsellingcentre.ca/event/ishmal-2-2/2025-12-05/
LOCATION:Room 3
CATEGORIES:Room 3
END:VEVENT
BEGIN:VEVENT
DTSTART;TZID=America/Edmonton:20251205T100000
DTEND;TZID=America/Edmonton:20251205T140000
DTSTAMP:20260424T113649
CREATED:20251021T165214Z
LAST-MODIFIED:20260317T235202Z
UID:10005969-1764928800-1764943200@communitycounsellingcentre.ca
SUMMARY:Claire
DESCRIPTION:
URL:https://communitycounsellingcentre.ca/event/claire-2/2025-12-05/
LOCATION:Room 3
CATEGORIES:Room 3
END:VEVENT
BEGIN:VEVENT
DTSTART;TZID=America/Edmonton:20251203T150000
DTEND;TZID=America/Edmonton:20251203T210000
DTSTAMP:20260424T113649
CREATED:20240903T201801Z
LAST-MODIFIED:20260307T163448Z
UID:10008106-1764774000-1764795600@communitycounsellingcentre.ca
SUMMARY:Bo
DESCRIPTION:
URL:https://communitycounsellingcentre.ca/event/bo-4-2/2025-12-03/
LOCATION:Room 3
CATEGORIES:Room 3
END:VEVENT
BEGIN:VEVENT
DTSTART;TZID=America/Edmonton:20251203T100000
DTEND;TZID=America/Edmonton:20251203T140000
DTSTAMP:20260424T113649
CREATED:20251021T165121Z
LAST-MODIFIED:20251021T165121Z
UID:10005813-1764756000-1764770400@communitycounsellingcentre.ca
SUMMARY:Claire
DESCRIPTION:
URL:https://communitycounsellingcentre.ca/event/claire/2025-12-03/
LOCATION:Room 3
CATEGORIES:Room 3
END:VEVENT
BEGIN:VEVENT
DTSTART;TZID=America/Edmonton:20251202T120000
DTEND;TZID=America/Edmonton:20251202T200000
DTSTAMP:20260424T113649
CREATED:20250320T170016Z
LAST-MODIFIED:20251126T022218Z
UID:10005418-1764676800-1764705600@communitycounsellingcentre.ca
SUMMARY:Sabrina
DESCRIPTION:
URL:https://communitycounsellingcentre.ca/event/sabrina-7/2025-12-02/
LOCATION:Room 3
CATEGORIES:Room 3
END:VEVENT
BEGIN:VEVENT
DTSTART;TZID=America/Edmonton:20251201T100000
DTEND;TZID=America/Edmonton:20251201T200000
DTSTAMP:20260424T113649
CREATED:20250815T163752Z
LAST-MODIFIED:20251126T022100Z
UID:10005622-1764583200-1764619200@communitycounsellingcentre.ca
SUMMARY:Steven
DESCRIPTION:
URL:https://communitycounsellingcentre.ca/event/steven-4/2025-12-01/
LOCATION:Room 3
CATEGORIES:Room 3
END:VEVENT
BEGIN:VEVENT
DTSTART;TZID=America/Edmonton:20251128T160000
DTEND;TZID=America/Edmonton:20251128T200000
DTSTAMP:20260424T113649
CREATED:20251027T225904Z
LAST-MODIFIED:20251126T021806Z
UID:10005950-1764345600-1764360000@communitycounsellingcentre.ca
SUMMARY:Ishmal
DESCRIPTION:
URL:https://communitycounsellingcentre.ca/event/ishmal-2-2/2025-11-28/
LOCATION:Room 3
CATEGORIES:Room 3
END:VEVENT
BEGIN:VEVENT
DTSTART;TZID=America/Edmonton:20251128T100000
DTEND;TZID=America/Edmonton:20251128T140000
DTSTAMP:20260424T113649
CREATED:20251021T165214Z
LAST-MODIFIED:20260317T235202Z
UID:10005968-1764324000-1764338400@communitycounsellingcentre.ca
SUMMARY:Claire
DESCRIPTION:
URL:https://communitycounsellingcentre.ca/event/claire-2/2025-11-28/
LOCATION:Room 3
CATEGORIES:Room 3
END:VEVENT
BEGIN:VEVENT
DTSTART;TZID=America/Edmonton:20251126T150000
DTEND;TZID=America/Edmonton:20251126T210000
DTSTAMP:20260424T113649
CREATED:20240903T201801Z
LAST-MODIFIED:20260307T163448Z
UID:10008105-1764169200-1764190800@communitycounsellingcentre.ca
SUMMARY:Bo
DESCRIPTION:
URL:https://communitycounsellingcentre.ca/event/bo-4-2/2025-11-26/
LOCATION:Room 3
CATEGORIES:Room 3
END:VEVENT
BEGIN:VEVENT
DTSTART;TZID=America/Edmonton:20251126T100000
DTEND;TZID=America/Edmonton:20251126T140000
DTSTAMP:20260424T113649
CREATED:20251021T165121Z
LAST-MODIFIED:20251021T165121Z
UID:10005812-1764151200-1764165600@communitycounsellingcentre.ca
SUMMARY:Claire
DESCRIPTION:
URL:https://communitycounsellingcentre.ca/event/claire/2025-11-26/
LOCATION:Room 3
CATEGORIES:Room 3
END:VEVENT
BEGIN:VEVENT
DTSTART;TZID=America/Edmonton:20251125T120000
DTEND;TZID=America/Edmonton:20251125T200000
DTSTAMP:20260424T113649
CREATED:20250320T170016Z
LAST-MODIFIED:20251126T022218Z
UID:10005417-1764072000-1764100800@communitycounsellingcentre.ca
SUMMARY:Sabrina
DESCRIPTION:
URL:https://communitycounsellingcentre.ca/event/sabrina-7/2025-11-25/
LOCATION:Room 3
CATEGORIES:Room 3
END:VEVENT
BEGIN:VEVENT
DTSTART;TZID=America/Edmonton:20251124T100000
DTEND;TZID=America/Edmonton:20251124T200000
DTSTAMP:20260424T113649
CREATED:20250815T163752Z
LAST-MODIFIED:20251126T022100Z
UID:10005621-1763978400-1764014400@communitycounsellingcentre.ca
SUMMARY:Steven
DESCRIPTION:
URL:https://communitycounsellingcentre.ca/event/steven-4/2025-11-24/
LOCATION:Room 3
CATEGORIES:Room 3
END:VEVENT
BEGIN:VEVENT
DTSTART;TZID=America/Edmonton:20251121T160000
DTEND;TZID=America/Edmonton:20251121T200000
DTSTAMP:20260424T113649
CREATED:20251027T225904Z
LAST-MODIFIED:20251126T021806Z
UID:10005949-1763740800-1763755200@communitycounsellingcentre.ca
SUMMARY:Ishmal
DESCRIPTION:
URL:https://communitycounsellingcentre.ca/event/ishmal-2-2/2025-11-21/
LOCATION:Room 3
CATEGORIES:Room 3
END:VEVENT
BEGIN:VEVENT
DTSTART;TZID=America/Edmonton:20251121T100000
DTEND;TZID=America/Edmonton:20251121T140000
DTSTAMP:20260424T113649
CREATED:20251021T165214Z
LAST-MODIFIED:20260317T235202Z
UID:10005967-1763719200-1763733600@communitycounsellingcentre.ca
SUMMARY:Claire
DESCRIPTION:
URL:https://communitycounsellingcentre.ca/event/claire-2/2025-11-21/
LOCATION:Room 3
CATEGORIES:Room 3
END:VEVENT
BEGIN:VEVENT
DTSTART;TZID=America/Edmonton:20251119T150000
DTEND;TZID=America/Edmonton:20251119T210000
DTSTAMP:20260424T113649
CREATED:20240903T201801Z
LAST-MODIFIED:20260307T163448Z
UID:10008104-1763564400-1763586000@communitycounsellingcentre.ca
SUMMARY:Bo
DESCRIPTION:
URL:https://communitycounsellingcentre.ca/event/bo-4-2/2025-11-19/
LOCATION:Room 3
CATEGORIES:Room 3
END:VEVENT
BEGIN:VEVENT
DTSTART;TZID=America/Edmonton:20251119T100000
DTEND;TZID=America/Edmonton:20251119T140000
DTSTAMP:20260424T113649
CREATED:20251021T165121Z
LAST-MODIFIED:20251021T165121Z
UID:10005811-1763546400-1763560800@communitycounsellingcentre.ca
SUMMARY:Claire
DESCRIPTION:
URL:https://communitycounsellingcentre.ca/event/claire/2025-11-19/
LOCATION:Room 3
CATEGORIES:Room 3
END:VEVENT
BEGIN:VEVENT
DTSTART;TZID=America/Edmonton:20251118T120000
DTEND;TZID=America/Edmonton:20251118T200000
DTSTAMP:20260424T113649
CREATED:20250320T170016Z
LAST-MODIFIED:20251126T022218Z
UID:10005416-1763467200-1763496000@communitycounsellingcentre.ca
SUMMARY:Sabrina
DESCRIPTION:
URL:https://communitycounsellingcentre.ca/event/sabrina-7/2025-11-18/
LOCATION:Room 3
CATEGORIES:Room 3
END:VEVENT
BEGIN:VEVENT
DTSTART;TZID=America/Edmonton:20251117T100000
DTEND;TZID=America/Edmonton:20251117T200000
DTSTAMP:20260424T113649
CREATED:20250815T163752Z
LAST-MODIFIED:20251126T022100Z
UID:10005620-1763373600-1763409600@communitycounsellingcentre.ca
SUMMARY:Steven
DESCRIPTION:
URL:https://communitycounsellingcentre.ca/event/steven-4/2025-11-17/
LOCATION:Room 3
CATEGORIES:Room 3
END:VEVENT
BEGIN:VEVENT
DTSTART;TZID=America/Edmonton:20251114T160000
DTEND;TZID=America/Edmonton:20251114T200000
DTSTAMP:20260424T113649
CREATED:20251027T225904Z
LAST-MODIFIED:20251126T021806Z
UID:10005948-1763136000-1763150400@communitycounsellingcentre.ca
SUMMARY:Ishmal
DESCRIPTION:
URL:https://communitycounsellingcentre.ca/event/ishmal-2-2/2025-11-14/
LOCATION:Room 3
CATEGORIES:Room 3
END:VEVENT
BEGIN:VEVENT
DTSTART;TZID=America/Edmonton:20251114T100000
DTEND;TZID=America/Edmonton:20251114T140000
DTSTAMP:20260424T113649
CREATED:20251021T165214Z
LAST-MODIFIED:20260317T235202Z
UID:10005966-1763114400-1763128800@communitycounsellingcentre.ca
SUMMARY:Claire
DESCRIPTION:
URL:https://communitycounsellingcentre.ca/event/claire-2/2025-11-14/
LOCATION:Room 3
CATEGORIES:Room 3
END:VEVENT
BEGIN:VEVENT
DTSTART;TZID=America/Edmonton:20251112T150000
DTEND;TZID=America/Edmonton:20251112T210000
DTSTAMP:20260424T113649
CREATED:20240903T201801Z
LAST-MODIFIED:20260307T163448Z
UID:10008103-1762959600-1762981200@communitycounsellingcentre.ca
SUMMARY:Bo
DESCRIPTION:
URL:https://communitycounsellingcentre.ca/event/bo-4-2/2025-11-12/
LOCATION:Room 3
CATEGORIES:Room 3
END:VEVENT
BEGIN:VEVENT
DTSTART;TZID=America/Edmonton:20251112T100000
DTEND;TZID=America/Edmonton:20251112T140000
DTSTAMP:20260424T113650
CREATED:20251021T165121Z
LAST-MODIFIED:20251021T165121Z
UID:10005810-1762941600-1762956000@communitycounsellingcentre.ca
SUMMARY:Claire
DESCRIPTION:
URL:https://communitycounsellingcentre.ca/event/claire/2025-11-12/
LOCATION:Room 3
CATEGORIES:Room 3
END:VEVENT
BEGIN:VEVENT
DTSTART;TZID=America/Edmonton:20251111T120000
DTEND;TZID=America/Edmonton:20251111T200000
DTSTAMP:20260424T113650
CREATED:20250320T170016Z
LAST-MODIFIED:20251126T022218Z
UID:10005415-1762862400-1762891200@communitycounsellingcentre.ca
SUMMARY:Sabrina
DESCRIPTION:
URL:https://communitycounsellingcentre.ca/event/sabrina-7/2025-11-11/
LOCATION:Room 3
CATEGORIES:Room 3
END:VEVENT
END:VCALENDAR