BEGIN:VCALENDAR
VERSION:2.0
PRODID:-//Community Counselling Centre - ECPv6.13.1//NONSGML v1.0//EN
CALSCALE:GREGORIAN
METHOD:PUBLISH
X-ORIGINAL-URL:https://communitycounsellingcentre.ca
X-WR-CALDESC:Events for Community Counselling Centre
REFRESH-INTERVAL;VALUE=DURATION:PT1H
X-Robots-Tag:noindex
X-PUBLISHED-TTL:PT1H
BEGIN:VTIMEZONE
TZID:America/Edmonton
BEGIN:DAYLIGHT
TZOFFSETFROM:-0700
TZOFFSETTO:-0600
TZNAME:MDT
DTSTART:20260308T090000
END:DAYLIGHT
BEGIN:STANDARD
TZOFFSETFROM:-0600
TZOFFSETTO:-0700
TZNAME:MST
DTSTART:20261101T080000
END:STANDARD
END:VTIMEZONE
BEGIN:VEVENT
DTSTART;TZID=America/Edmonton:20260923T150000
DTEND;TZID=America/Edmonton:20260923T210000
DTSTAMP:20260424T125521
CREATED:20240903T201801Z
LAST-MODIFIED:20260307T163448Z
UID:10008148-1790175600-1790197200@communitycounsellingcentre.ca
SUMMARY:Bo
DESCRIPTION:
URL:https://communitycounsellingcentre.ca/event/bo-4-2/2026-09-23/
LOCATION:Room 3
CATEGORIES:Room 3
END:VEVENT
BEGIN:VEVENT
DTSTART;TZID=America/Edmonton:20260924T140000
DTEND;TZID=America/Edmonton:20260924T200000
DTSTAMP:20260424T125521
CREATED:20260227T174239Z
LAST-MODIFIED:20260307T163310Z
UID:10007904-1790258400-1790280000@communitycounsellingcentre.ca
SUMMARY:Bo
DESCRIPTION:
URL:https://communitycounsellingcentre.ca/event/bo-12-2-2/2026-09-24/
LOCATION:Room 3
CATEGORIES:Room 3
END:VEVENT
BEGIN:VEVENT
DTSTART;TZID=America/Edmonton:20260925T160000
DTEND;TZID=America/Edmonton:20260925T200000
DTSTAMP:20260424T125521
CREATED:20251027T225904Z
LAST-MODIFIED:20251126T021806Z
UID:10006671-1790352000-1790366400@communitycounsellingcentre.ca
SUMMARY:Ishmal
DESCRIPTION:
URL:https://communitycounsellingcentre.ca/event/ishmal-2-2/2026-09-25/
LOCATION:Room 3
CATEGORIES:Room 3
END:VEVENT
BEGIN:VEVENT
DTSTART;TZID=America/Edmonton:20260928T100000
DTEND;TZID=America/Edmonton:20260928T200000
DTSTAMP:20260424T125521
CREATED:20250815T163752Z
LAST-MODIFIED:20251126T022100Z
UID:10006828-1790589600-1790625600@communitycounsellingcentre.ca
SUMMARY:Steven
DESCRIPTION:
URL:https://communitycounsellingcentre.ca/event/steven-4/2026-09-28/
LOCATION:Room 3
CATEGORIES:Room 3
END:VEVENT
BEGIN:VEVENT
DTSTART;TZID=America/Edmonton:20260929T120000
DTEND;TZID=America/Edmonton:20260929T200000
DTSTAMP:20260424T125521
CREATED:20250320T170016Z
LAST-MODIFIED:20251126T022218Z
UID:10006932-1790683200-1790712000@communitycounsellingcentre.ca
SUMMARY:Sabrina
DESCRIPTION:
URL:https://communitycounsellingcentre.ca/event/sabrina-7/2026-09-29/
LOCATION:Room 3
CATEGORIES:Room 3
END:VEVENT
BEGIN:VEVENT
DTSTART;TZID=America/Edmonton:20260930T100000
DTEND;TZID=America/Edmonton:20260930T140000
DTSTAMP:20260424T125521
CREATED:20251021T165121Z
LAST-MODIFIED:20251021T165121Z
UID:10005856-1790762400-1790776800@communitycounsellingcentre.ca
SUMMARY:Claire
DESCRIPTION:
URL:https://communitycounsellingcentre.ca/event/claire/2026-09-30/
LOCATION:Room 3
CATEGORIES:Room 3
END:VEVENT
BEGIN:VEVENT
DTSTART;TZID=America/Edmonton:20260930T150000
DTEND;TZID=America/Edmonton:20260930T210000
DTSTAMP:20260424T125521
CREATED:20240903T201801Z
LAST-MODIFIED:20260307T163448Z
UID:10008149-1790780400-1790802000@communitycounsellingcentre.ca
SUMMARY:Bo
DESCRIPTION:
URL:https://communitycounsellingcentre.ca/event/bo-4-2/2026-09-30/
LOCATION:Room 3
CATEGORIES:Room 3
END:VEVENT
BEGIN:VEVENT
DTSTART;TZID=America/Edmonton:20261001T140000
DTEND;TZID=America/Edmonton:20261001T200000
DTSTAMP:20260424T125521
CREATED:20260227T174239Z
LAST-MODIFIED:20260307T163310Z
UID:10007905-1790863200-1790884800@communitycounsellingcentre.ca
SUMMARY:Bo
DESCRIPTION:
URL:https://communitycounsellingcentre.ca/event/bo-12-2-2/2026-10-01/
LOCATION:Room 3
CATEGORIES:Room 3
END:VEVENT
BEGIN:VEVENT
DTSTART;TZID=America/Edmonton:20261002T160000
DTEND;TZID=America/Edmonton:20261002T200000
DTSTAMP:20260424T125521
CREATED:20251027T225904Z
LAST-MODIFIED:20251126T021806Z
UID:10006672-1790956800-1790971200@communitycounsellingcentre.ca
SUMMARY:Ishmal
DESCRIPTION:
URL:https://communitycounsellingcentre.ca/event/ishmal-2-2/2026-10-02/
LOCATION:Room 3
CATEGORIES:Room 3
END:VEVENT
BEGIN:VEVENT
DTSTART;TZID=America/Edmonton:20261005T100000
DTEND;TZID=America/Edmonton:20261005T200000
DTSTAMP:20260424T125521
CREATED:20250815T163752Z
LAST-MODIFIED:20251126T022100Z
UID:10006829-1791194400-1791230400@communitycounsellingcentre.ca
SUMMARY:Steven
DESCRIPTION:
URL:https://communitycounsellingcentre.ca/event/steven-4/2026-10-05/
LOCATION:Room 3
CATEGORIES:Room 3
END:VEVENT
BEGIN:VEVENT
DTSTART;TZID=America/Edmonton:20261006T120000
DTEND;TZID=America/Edmonton:20261006T200000
DTSTAMP:20260424T125521
CREATED:20250320T170016Z
LAST-MODIFIED:20251126T022218Z
UID:10006933-1791288000-1791316800@communitycounsellingcentre.ca
SUMMARY:Sabrina
DESCRIPTION:
URL:https://communitycounsellingcentre.ca/event/sabrina-7/2026-10-06/
LOCATION:Room 3
CATEGORIES:Room 3
END:VEVENT
BEGIN:VEVENT
DTSTART;TZID=America/Edmonton:20261007T100000
DTEND;TZID=America/Edmonton:20261007T140000
DTSTAMP:20260424T125521
CREATED:20251021T165121Z
LAST-MODIFIED:20251021T165121Z
UID:10005857-1791367200-1791381600@communitycounsellingcentre.ca
SUMMARY:Claire
DESCRIPTION:
URL:https://communitycounsellingcentre.ca/event/claire/2026-10-07/
LOCATION:Room 3
CATEGORIES:Room 3
END:VEVENT
BEGIN:VEVENT
DTSTART;TZID=America/Edmonton:20261007T150000
DTEND;TZID=America/Edmonton:20261007T210000
DTSTAMP:20260424T125521
CREATED:20240903T201801Z
LAST-MODIFIED:20260307T163448Z
UID:10008150-1791385200-1791406800@communitycounsellingcentre.ca
SUMMARY:Bo
DESCRIPTION:
URL:https://communitycounsellingcentre.ca/event/bo-4-2/2026-10-07/
LOCATION:Room 3
CATEGORIES:Room 3
END:VEVENT
BEGIN:VEVENT
DTSTART;TZID=America/Edmonton:20261008T140000
DTEND;TZID=America/Edmonton:20261008T200000
DTSTAMP:20260424T125521
CREATED:20260227T174239Z
LAST-MODIFIED:20260307T163310Z
UID:10007906-1791468000-1791489600@communitycounsellingcentre.ca
SUMMARY:Bo
DESCRIPTION:
URL:https://communitycounsellingcentre.ca/event/bo-12-2-2/2026-10-08/
LOCATION:Room 3
CATEGORIES:Room 3
END:VEVENT
BEGIN:VEVENT
DTSTART;TZID=America/Edmonton:20261009T160000
DTEND;TZID=America/Edmonton:20261009T200000
DTSTAMP:20260424T125521
CREATED:20251027T225904Z
LAST-MODIFIED:20251126T021806Z
UID:10006673-1791561600-1791576000@communitycounsellingcentre.ca
SUMMARY:Ishmal
DESCRIPTION:
URL:https://communitycounsellingcentre.ca/event/ishmal-2-2/2026-10-09/
LOCATION:Room 3
CATEGORIES:Room 3
END:VEVENT
BEGIN:VEVENT
DTSTART;TZID=America/Edmonton:20261012T100000
DTEND;TZID=America/Edmonton:20261012T200000
DTSTAMP:20260424T125521
CREATED:20250815T163752Z
LAST-MODIFIED:20251126T022100Z
UID:10006830-1791799200-1791835200@communitycounsellingcentre.ca
SUMMARY:Steven
DESCRIPTION:
URL:https://communitycounsellingcentre.ca/event/steven-4/2026-10-12/
LOCATION:Room 3
CATEGORIES:Room 3
END:VEVENT
BEGIN:VEVENT
DTSTART;TZID=America/Edmonton:20261013T120000
DTEND;TZID=America/Edmonton:20261013T200000
DTSTAMP:20260424T125521
CREATED:20250320T170016Z
LAST-MODIFIED:20251126T022218Z
UID:10006934-1791892800-1791921600@communitycounsellingcentre.ca
SUMMARY:Sabrina
DESCRIPTION:
URL:https://communitycounsellingcentre.ca/event/sabrina-7/2026-10-13/
LOCATION:Room 3
CATEGORIES:Room 3
END:VEVENT
BEGIN:VEVENT
DTSTART;TZID=America/Edmonton:20261014T100000
DTEND;TZID=America/Edmonton:20261014T140000
DTSTAMP:20260424T125522
CREATED:20251021T165121Z
LAST-MODIFIED:20251021T165121Z
UID:10005858-1791972000-1791986400@communitycounsellingcentre.ca
SUMMARY:Claire
DESCRIPTION:
URL:https://communitycounsellingcentre.ca/event/claire/2026-10-14/
LOCATION:Room 3
CATEGORIES:Room 3
END:VEVENT
BEGIN:VEVENT
DTSTART;TZID=America/Edmonton:20261014T150000
DTEND;TZID=America/Edmonton:20261014T210000
DTSTAMP:20260424T125522
CREATED:20240903T201801Z
LAST-MODIFIED:20260307T163448Z
UID:10008151-1791990000-1792011600@communitycounsellingcentre.ca
SUMMARY:Bo
DESCRIPTION:
URL:https://communitycounsellingcentre.ca/event/bo-4-2/2026-10-14/
LOCATION:Room 3
CATEGORIES:Room 3
END:VEVENT
BEGIN:VEVENT
DTSTART;TZID=America/Edmonton:20261015T140000
DTEND;TZID=America/Edmonton:20261015T200000
DTSTAMP:20260424T125522
CREATED:20260227T174239Z
LAST-MODIFIED:20260307T163310Z
UID:10007907-1792072800-1792094400@communitycounsellingcentre.ca
SUMMARY:Bo
DESCRIPTION:
URL:https://communitycounsellingcentre.ca/event/bo-12-2-2/2026-10-15/
LOCATION:Room 3
CATEGORIES:Room 3
END:VEVENT
BEGIN:VEVENT
DTSTART;TZID=America/Edmonton:20261016T160000
DTEND;TZID=America/Edmonton:20261016T200000
DTSTAMP:20260424T125522
CREATED:20251027T225904Z
LAST-MODIFIED:20251126T021806Z
UID:10006674-1792166400-1792180800@communitycounsellingcentre.ca
SUMMARY:Ishmal
DESCRIPTION:
URL:https://communitycounsellingcentre.ca/event/ishmal-2-2/2026-10-16/
LOCATION:Room 3
CATEGORIES:Room 3
END:VEVENT
BEGIN:VEVENT
DTSTART;TZID=America/Edmonton:20261019T100000
DTEND;TZID=America/Edmonton:20261019T200000
DTSTAMP:20260424T125522
CREATED:20250815T163752Z
LAST-MODIFIED:20251126T022100Z
UID:10006831-1792404000-1792440000@communitycounsellingcentre.ca
SUMMARY:Steven
DESCRIPTION:
URL:https://communitycounsellingcentre.ca/event/steven-4/2026-10-19/
LOCATION:Room 3
CATEGORIES:Room 3
END:VEVENT
BEGIN:VEVENT
DTSTART;TZID=America/Edmonton:20261020T120000
DTEND;TZID=America/Edmonton:20261020T200000
DTSTAMP:20260424T125522
CREATED:20250320T170016Z
LAST-MODIFIED:20251126T022218Z
UID:10006935-1792497600-1792526400@communitycounsellingcentre.ca
SUMMARY:Sabrina
DESCRIPTION:
URL:https://communitycounsellingcentre.ca/event/sabrina-7/2026-10-20/
LOCATION:Room 3
CATEGORIES:Room 3
END:VEVENT
BEGIN:VEVENT
DTSTART;TZID=America/Edmonton:20261021T100000
DTEND;TZID=America/Edmonton:20261021T140000
DTSTAMP:20260424T125522
CREATED:20251021T165121Z
LAST-MODIFIED:20251021T165121Z
UID:10005859-1792576800-1792591200@communitycounsellingcentre.ca
SUMMARY:Claire
DESCRIPTION:
URL:https://communitycounsellingcentre.ca/event/claire/2026-10-21/
LOCATION:Room 3
CATEGORIES:Room 3
END:VEVENT
BEGIN:VEVENT
DTSTART;TZID=America/Edmonton:20261021T150000
DTEND;TZID=America/Edmonton:20261021T210000
DTSTAMP:20260424T125522
CREATED:20240903T201801Z
LAST-MODIFIED:20260307T163448Z
UID:10008152-1792594800-1792616400@communitycounsellingcentre.ca
SUMMARY:Bo
DESCRIPTION:
URL:https://communitycounsellingcentre.ca/event/bo-4-2/2026-10-21/
LOCATION:Room 3
CATEGORIES:Room 3
END:VEVENT
BEGIN:VEVENT
DTSTART;TZID=America/Edmonton:20261022T140000
DTEND;TZID=America/Edmonton:20261022T200000
DTSTAMP:20260424T125522
CREATED:20260227T174239Z
LAST-MODIFIED:20260307T163310Z
UID:10007908-1792677600-1792699200@communitycounsellingcentre.ca
SUMMARY:Bo
DESCRIPTION:
URL:https://communitycounsellingcentre.ca/event/bo-12-2-2/2026-10-22/
LOCATION:Room 3
CATEGORIES:Room 3
END:VEVENT
BEGIN:VEVENT
DTSTART;TZID=America/Edmonton:20261023T160000
DTEND;TZID=America/Edmonton:20261023T200000
DTSTAMP:20260424T125522
CREATED:20251027T225904Z
LAST-MODIFIED:20251126T021806Z
UID:10006675-1792771200-1792785600@communitycounsellingcentre.ca
SUMMARY:Ishmal
DESCRIPTION:
URL:https://communitycounsellingcentre.ca/event/ishmal-2-2/2026-10-23/
LOCATION:Room 3
CATEGORIES:Room 3
END:VEVENT
BEGIN:VEVENT
DTSTART;TZID=America/Edmonton:20261026T100000
DTEND;TZID=America/Edmonton:20261026T200000
DTSTAMP:20260424T125522
CREATED:20250815T163752Z
LAST-MODIFIED:20251126T022100Z
UID:10006832-1793008800-1793044800@communitycounsellingcentre.ca
SUMMARY:Steven
DESCRIPTION:
URL:https://communitycounsellingcentre.ca/event/steven-4/2026-10-26/
LOCATION:Room 3
CATEGORIES:Room 3
END:VEVENT
BEGIN:VEVENT
DTSTART;TZID=America/Edmonton:20261027T120000
DTEND;TZID=America/Edmonton:20261027T200000
DTSTAMP:20260424T125522
CREATED:20250320T170016Z
LAST-MODIFIED:20251126T022218Z
UID:10006936-1793102400-1793131200@communitycounsellingcentre.ca
SUMMARY:Sabrina
DESCRIPTION:
URL:https://communitycounsellingcentre.ca/event/sabrina-7/2026-10-27/
LOCATION:Room 3
CATEGORIES:Room 3
END:VEVENT
BEGIN:VEVENT
DTSTART;TZID=America/Edmonton:20261028T100000
DTEND;TZID=America/Edmonton:20261028T140000
DTSTAMP:20260424T125522
CREATED:20251021T165121Z
LAST-MODIFIED:20251021T165121Z
UID:10005860-1793181600-1793196000@communitycounsellingcentre.ca
SUMMARY:Claire
DESCRIPTION:
URL:https://communitycounsellingcentre.ca/event/claire/2026-10-28/
LOCATION:Room 3
CATEGORIES:Room 3
END:VEVENT
END:VCALENDAR