BEGIN:VCALENDAR
VERSION:2.0
PRODID:-//Community Counselling Centre - ECPv6.13.1//NONSGML v1.0//EN
CALSCALE:GREGORIAN
METHOD:PUBLISH
X-WR-CALNAME:Community Counselling Centre
X-ORIGINAL-URL:https://communitycounsellingcentre.ca
X-WR-CALDESC:Events for Community Counselling Centre
REFRESH-INTERVAL;VALUE=DURATION:PT1H
X-Robots-Tag:noindex
X-PUBLISHED-TTL:PT1H
BEGIN:VTIMEZONE
TZID:America/Edmonton
BEGIN:DAYLIGHT
TZOFFSETFROM:-0700
TZOFFSETTO:-0600
TZNAME:MDT
DTSTART:20250309T090000
END:DAYLIGHT
BEGIN:STANDARD
TZOFFSETFROM:-0600
TZOFFSETTO:-0700
TZNAME:MST
DTSTART:20251102T080000
END:STANDARD
END:VTIMEZONE
BEGIN:VEVENT
DTSTART;TZID=America/Edmonton:20251008T150000
DTEND;TZID=America/Edmonton:20251008T210000
DTSTAMP:20260424T171438
CREATED:20240903T201801Z
LAST-MODIFIED:20260307T163448Z
UID:10008098-1759935600-1759957200@communitycounsellingcentre.ca
SUMMARY:Bo
DESCRIPTION:
URL:https://communitycounsellingcentre.ca/event/bo-4-2/2025-10-08/
LOCATION:Room 3
CATEGORIES:Room 3
END:VEVENT
BEGIN:VEVENT
DTSTART;TZID=America/Edmonton:20251007T120000
DTEND;TZID=America/Edmonton:20251007T200000
DTSTAMP:20260424T171438
CREATED:20250320T170016Z
LAST-MODIFIED:20251126T022218Z
UID:10005410-1759838400-1759867200@communitycounsellingcentre.ca
SUMMARY:Sabrina
DESCRIPTION:
URL:https://communitycounsellingcentre.ca/event/sabrina-7/2025-10-07/
LOCATION:Room 3
CATEGORIES:Room 3
END:VEVENT
BEGIN:VEVENT
DTSTART;TZID=America/Edmonton:20251006T100000
DTEND;TZID=America/Edmonton:20251006T200000
DTSTAMP:20260424T171438
CREATED:20250815T163752Z
LAST-MODIFIED:20251126T022100Z
UID:10005614-1759744800-1759780800@communitycounsellingcentre.ca
SUMMARY:Steven
DESCRIPTION:
URL:https://communitycounsellingcentre.ca/event/steven-4/2025-10-06/
LOCATION:Room 3
CATEGORIES:Room 3
END:VEVENT
BEGIN:VEVENT
DTSTART;TZID=America/Edmonton:20251001T150000
DTEND;TZID=America/Edmonton:20251001T210000
DTSTAMP:20260424T171438
CREATED:20240903T201801Z
LAST-MODIFIED:20260307T163448Z
UID:10008097-1759330800-1759352400@communitycounsellingcentre.ca
SUMMARY:Bo
DESCRIPTION:
URL:https://communitycounsellingcentre.ca/event/bo-4-2/2025-10-01/
LOCATION:Room 3
CATEGORIES:Room 3
END:VEVENT
BEGIN:VEVENT
DTSTART;TZID=America/Edmonton:20250930T120000
DTEND;TZID=America/Edmonton:20250930T200000
DTSTAMP:20260424T171438
CREATED:20250320T170016Z
LAST-MODIFIED:20251126T022218Z
UID:10005409-1759233600-1759262400@communitycounsellingcentre.ca
SUMMARY:Sabrina
DESCRIPTION:
URL:https://communitycounsellingcentre.ca/event/sabrina-7/2025-09-30/
LOCATION:Room 3
CATEGORIES:Room 3
END:VEVENT
BEGIN:VEVENT
DTSTART;TZID=America/Edmonton:20250929T100000
DTEND;TZID=America/Edmonton:20250929T200000
DTSTAMP:20260424T171438
CREATED:20250815T163752Z
LAST-MODIFIED:20251126T022100Z
UID:10005613-1759140000-1759176000@communitycounsellingcentre.ca
SUMMARY:Steven
DESCRIPTION:
URL:https://communitycounsellingcentre.ca/event/steven-4/2025-09-29/
LOCATION:Room 3
CATEGORIES:Room 3
END:VEVENT
BEGIN:VEVENT
DTSTART;TZID=America/Edmonton:20250924T150000
DTEND;TZID=America/Edmonton:20250924T210000
DTSTAMP:20260424T171438
CREATED:20240903T201801Z
LAST-MODIFIED:20260307T163448Z
UID:10008096-1758726000-1758747600@communitycounsellingcentre.ca
SUMMARY:Bo
DESCRIPTION:
URL:https://communitycounsellingcentre.ca/event/bo-4-2/2025-09-24/
LOCATION:Room 3
CATEGORIES:Room 3
END:VEVENT
BEGIN:VEVENT
DTSTART;TZID=America/Edmonton:20250923T120000
DTEND;TZID=America/Edmonton:20250923T200000
DTSTAMP:20260424T171438
CREATED:20250320T170016Z
LAST-MODIFIED:20251126T022218Z
UID:10005408-1758628800-1758657600@communitycounsellingcentre.ca
SUMMARY:Sabrina
DESCRIPTION:
URL:https://communitycounsellingcentre.ca/event/sabrina-7/2025-09-23/
LOCATION:Room 3
CATEGORIES:Room 3
END:VEVENT
BEGIN:VEVENT
DTSTART;TZID=America/Edmonton:20250922T100000
DTEND;TZID=America/Edmonton:20250922T200000
DTSTAMP:20260424T171438
CREATED:20250815T163752Z
LAST-MODIFIED:20251126T022100Z
UID:10005612-1758535200-1758571200@communitycounsellingcentre.ca
SUMMARY:Steven
DESCRIPTION:
URL:https://communitycounsellingcentre.ca/event/steven-4/2025-09-22/
LOCATION:Room 3
CATEGORIES:Room 3
END:VEVENT
BEGIN:VEVENT
DTSTART;TZID=America/Edmonton:20250917T150000
DTEND;TZID=America/Edmonton:20250917T210000
DTSTAMP:20260424T171438
CREATED:20240903T201801Z
LAST-MODIFIED:20260307T163448Z
UID:10008095-1758121200-1758142800@communitycounsellingcentre.ca
SUMMARY:Bo
DESCRIPTION:
URL:https://communitycounsellingcentre.ca/event/bo-4-2/2025-09-17/
LOCATION:Room 3
CATEGORIES:Room 3
END:VEVENT
BEGIN:VEVENT
DTSTART;TZID=America/Edmonton:20250916T120000
DTEND;TZID=America/Edmonton:20250916T200000
DTSTAMP:20260424T171438
CREATED:20250320T170016Z
LAST-MODIFIED:20251126T022218Z
UID:10005407-1758024000-1758052800@communitycounsellingcentre.ca
SUMMARY:Sabrina
DESCRIPTION:
URL:https://communitycounsellingcentre.ca/event/sabrina-7/2025-09-16/
LOCATION:Room 3
CATEGORIES:Room 3
END:VEVENT
BEGIN:VEVENT
DTSTART;TZID=America/Edmonton:20250915T100000
DTEND;TZID=America/Edmonton:20250915T200000
DTSTAMP:20260424T171438
CREATED:20250815T163752Z
LAST-MODIFIED:20251126T022100Z
UID:10005611-1757930400-1757966400@communitycounsellingcentre.ca
SUMMARY:Steven
DESCRIPTION:
URL:https://communitycounsellingcentre.ca/event/steven-4/2025-09-15/
LOCATION:Room 3
CATEGORIES:Room 3
END:VEVENT
BEGIN:VEVENT
DTSTART;TZID=America/Edmonton:20250910T150000
DTEND;TZID=America/Edmonton:20250910T210000
DTSTAMP:20260424T171438
CREATED:20240903T201801Z
LAST-MODIFIED:20260307T163448Z
UID:10008094-1757516400-1757538000@communitycounsellingcentre.ca
SUMMARY:Bo
DESCRIPTION:
URL:https://communitycounsellingcentre.ca/event/bo-4-2/2025-09-10/
LOCATION:Room 3
CATEGORIES:Room 3
END:VEVENT
BEGIN:VEVENT
DTSTART;TZID=America/Edmonton:20250909T120000
DTEND;TZID=America/Edmonton:20250909T200000
DTSTAMP:20260424T171438
CREATED:20250320T170016Z
LAST-MODIFIED:20251126T022218Z
UID:10005406-1757419200-1757448000@communitycounsellingcentre.ca
SUMMARY:Sabrina
DESCRIPTION:
URL:https://communitycounsellingcentre.ca/event/sabrina-7/2025-09-09/
LOCATION:Room 3
CATEGORIES:Room 3
END:VEVENT
BEGIN:VEVENT
DTSTART;TZID=America/Edmonton:20250908T100000
DTEND;TZID=America/Edmonton:20250908T200000
DTSTAMP:20260424T171438
CREATED:20250815T163752Z
LAST-MODIFIED:20251126T022100Z
UID:10005610-1757325600-1757361600@communitycounsellingcentre.ca
SUMMARY:Steven
DESCRIPTION:
URL:https://communitycounsellingcentre.ca/event/steven-4/2025-09-08/
LOCATION:Room 3
CATEGORIES:Room 3
END:VEVENT
BEGIN:VEVENT
DTSTART;TZID=America/Edmonton:20250903T150000
DTEND;TZID=America/Edmonton:20250903T210000
DTSTAMP:20260424T171438
CREATED:20240903T201801Z
LAST-MODIFIED:20260307T163448Z
UID:10008093-1756911600-1756933200@communitycounsellingcentre.ca
SUMMARY:Bo
DESCRIPTION:
URL:https://communitycounsellingcentre.ca/event/bo-4-2/2025-09-03/
LOCATION:Room 3
CATEGORIES:Room 3
END:VEVENT
BEGIN:VEVENT
DTSTART;TZID=America/Edmonton:20250902T120000
DTEND;TZID=America/Edmonton:20250902T200000
DTSTAMP:20260424T171438
CREATED:20250320T170016Z
LAST-MODIFIED:20251126T022218Z
UID:10005405-1756814400-1756843200@communitycounsellingcentre.ca
SUMMARY:Sabrina
DESCRIPTION:
URL:https://communitycounsellingcentre.ca/event/sabrina-7/2025-09-02/
LOCATION:Room 3
CATEGORIES:Room 3
END:VEVENT
BEGIN:VEVENT
DTSTART;TZID=America/Edmonton:20250901T100000
DTEND;TZID=America/Edmonton:20250901T200000
DTSTAMP:20260424T171438
CREATED:20250815T163752Z
LAST-MODIFIED:20251126T022100Z
UID:10005609-1756720800-1756756800@communitycounsellingcentre.ca
SUMMARY:Steven
DESCRIPTION:
URL:https://communitycounsellingcentre.ca/event/steven-4/2025-09-01/
LOCATION:Room 3
CATEGORIES:Room 3
END:VEVENT
BEGIN:VEVENT
DTSTART;TZID=America/Edmonton:20250827T150000
DTEND;TZID=America/Edmonton:20250827T210000
DTSTAMP:20260424T171438
CREATED:20240903T201801Z
LAST-MODIFIED:20260307T163448Z
UID:10008092-1756306800-1756328400@communitycounsellingcentre.ca
SUMMARY:Bo
DESCRIPTION:
URL:https://communitycounsellingcentre.ca/event/bo-4-2/2025-08-27/
LOCATION:Room 3
CATEGORIES:Room 3
END:VEVENT
BEGIN:VEVENT
DTSTART;TZID=America/Edmonton:20250826T120000
DTEND;TZID=America/Edmonton:20250826T200000
DTSTAMP:20260424T171438
CREATED:20250320T170016Z
LAST-MODIFIED:20251126T022218Z
UID:10005404-1756209600-1756238400@communitycounsellingcentre.ca
SUMMARY:Sabrina
DESCRIPTION:
URL:https://communitycounsellingcentre.ca/event/sabrina-7/2025-08-26/
LOCATION:Room 3
CATEGORIES:Room 3
END:VEVENT
BEGIN:VEVENT
DTSTART;TZID=America/Edmonton:20250820T150000
DTEND;TZID=America/Edmonton:20250820T210000
DTSTAMP:20260424T171438
CREATED:20240903T201801Z
LAST-MODIFIED:20260307T163448Z
UID:10008091-1755702000-1755723600@communitycounsellingcentre.ca
SUMMARY:Bo
DESCRIPTION:
URL:https://communitycounsellingcentre.ca/event/bo-4-2/2025-08-20/
LOCATION:Room 3
CATEGORIES:Room 3
END:VEVENT
BEGIN:VEVENT
DTSTART;TZID=America/Edmonton:20250819T120000
DTEND;TZID=America/Edmonton:20250819T200000
DTSTAMP:20260424T171438
CREATED:20250320T170016Z
LAST-MODIFIED:20251126T022218Z
UID:10005403-1755604800-1755633600@communitycounsellingcentre.ca
SUMMARY:Sabrina
DESCRIPTION:
URL:https://communitycounsellingcentre.ca/event/sabrina-7/2025-08-19/
LOCATION:Room 3
CATEGORIES:Room 3
END:VEVENT
BEGIN:VEVENT
DTSTART;TZID=America/Edmonton:20250813T150000
DTEND;TZID=America/Edmonton:20250813T210000
DTSTAMP:20260424T171438
CREATED:20240903T201801Z
LAST-MODIFIED:20260307T163448Z
UID:10008090-1755097200-1755118800@communitycounsellingcentre.ca
SUMMARY:Bo
DESCRIPTION:
URL:https://communitycounsellingcentre.ca/event/bo-4-2/2025-08-13/
LOCATION:Room 3
CATEGORIES:Room 3
END:VEVENT
BEGIN:VEVENT
DTSTART;TZID=America/Edmonton:20250812T120000
DTEND;TZID=America/Edmonton:20250812T200000
DTSTAMP:20260424T171438
CREATED:20250320T170016Z
LAST-MODIFIED:20251126T022218Z
UID:10005402-1755000000-1755028800@communitycounsellingcentre.ca
SUMMARY:Sabrina
DESCRIPTION:
URL:https://communitycounsellingcentre.ca/event/sabrina-7/2025-08-12/
LOCATION:Room 3
CATEGORIES:Room 3
END:VEVENT
BEGIN:VEVENT
DTSTART;TZID=America/Edmonton:20250806T150000
DTEND;TZID=America/Edmonton:20250806T210000
DTSTAMP:20260424T171438
CREATED:20240903T201801Z
LAST-MODIFIED:20260307T163448Z
UID:10008089-1754492400-1754514000@communitycounsellingcentre.ca
SUMMARY:Bo
DESCRIPTION:
URL:https://communitycounsellingcentre.ca/event/bo-4-2/2025-08-06/
LOCATION:Room 3
CATEGORIES:Room 3
END:VEVENT
BEGIN:VEVENT
DTSTART;TZID=America/Edmonton:20250805T120000
DTEND;TZID=America/Edmonton:20250805T200000
DTSTAMP:20260424T171438
CREATED:20250320T170016Z
LAST-MODIFIED:20251126T022218Z
UID:10005401-1754395200-1754424000@communitycounsellingcentre.ca
SUMMARY:Sabrina
DESCRIPTION:
URL:https://communitycounsellingcentre.ca/event/sabrina-7/2025-08-05/
LOCATION:Room 3
CATEGORIES:Room 3
END:VEVENT
BEGIN:VEVENT
DTSTART;TZID=America/Edmonton:20250730T150000
DTEND;TZID=America/Edmonton:20250730T210000
DTSTAMP:20260424T171438
CREATED:20240903T201801Z
LAST-MODIFIED:20260307T163448Z
UID:10008088-1753887600-1753909200@communitycounsellingcentre.ca
SUMMARY:Bo
DESCRIPTION:
URL:https://communitycounsellingcentre.ca/event/bo-4-2/2025-07-30/
LOCATION:Room 3
CATEGORIES:Room 3
END:VEVENT
BEGIN:VEVENT
DTSTART;TZID=America/Edmonton:20250729T120000
DTEND;TZID=America/Edmonton:20250729T200000
DTSTAMP:20260424T171438
CREATED:20250320T170016Z
LAST-MODIFIED:20251126T022218Z
UID:10005400-1753790400-1753819200@communitycounsellingcentre.ca
SUMMARY:Sabrina
DESCRIPTION:
URL:https://communitycounsellingcentre.ca/event/sabrina-7/2025-07-29/
LOCATION:Room 3
CATEGORIES:Room 3
END:VEVENT
BEGIN:VEVENT
DTSTART;TZID=America/Edmonton:20250723T150000
DTEND;TZID=America/Edmonton:20250723T210000
DTSTAMP:20260424T171438
CREATED:20240903T201801Z
LAST-MODIFIED:20260307T163448Z
UID:10008087-1753282800-1753304400@communitycounsellingcentre.ca
SUMMARY:Bo
DESCRIPTION:
URL:https://communitycounsellingcentre.ca/event/bo-4-2/2025-07-23/
LOCATION:Room 3
CATEGORIES:Room 3
END:VEVENT
BEGIN:VEVENT
DTSTART;TZID=America/Edmonton:20250722T120000
DTEND;TZID=America/Edmonton:20250722T200000
DTSTAMP:20260424T171438
CREATED:20250320T170016Z
LAST-MODIFIED:20251126T022218Z
UID:10005399-1753185600-1753214400@communitycounsellingcentre.ca
SUMMARY:Sabrina
DESCRIPTION:
URL:https://communitycounsellingcentre.ca/event/sabrina-7/2025-07-22/
LOCATION:Room 3
CATEGORIES:Room 3
END:VEVENT
END:VCALENDAR