BEGIN:VCALENDAR
VERSION:2.0
PRODID:-//Community Counselling Centre - ECPv6.13.1//NONSGML v1.0//EN
CALSCALE:GREGORIAN
METHOD:PUBLISH
X-ORIGINAL-URL:https://communitycounsellingcentre.ca
X-WR-CALDESC:Events for Community Counselling Centre
REFRESH-INTERVAL;VALUE=DURATION:PT1H
X-Robots-Tag:noindex
X-PUBLISHED-TTL:PT1H
BEGIN:VTIMEZONE
TZID:America/Edmonton
BEGIN:DAYLIGHT
TZOFFSETFROM:-0700
TZOFFSETTO:-0600
TZNAME:MDT
DTSTART:20250309T090000
END:DAYLIGHT
BEGIN:STANDARD
TZOFFSETFROM:-0600
TZOFFSETTO:-0700
TZNAME:MST
DTSTART:20251102T080000
END:STANDARD
END:VTIMEZONE
BEGIN:VEVENT
DTSTART;TZID=America/Edmonton:20250806T150000
DTEND;TZID=America/Edmonton:20250806T210000
DTSTAMP:20260424T195547
CREATED:20240903T201801Z
LAST-MODIFIED:20260307T163448Z
UID:10008089-1754492400-1754514000@communitycounsellingcentre.ca
SUMMARY:Bo
DESCRIPTION:
URL:https://communitycounsellingcentre.ca/event/bo-4-2/2025-08-06/
LOCATION:Room 3
CATEGORIES:Room 3
END:VEVENT
BEGIN:VEVENT
DTSTART;TZID=America/Edmonton:20250805T120000
DTEND;TZID=America/Edmonton:20250805T200000
DTSTAMP:20260424T195547
CREATED:20250320T170016Z
LAST-MODIFIED:20251126T022218Z
UID:10005401-1754395200-1754424000@communitycounsellingcentre.ca
SUMMARY:Sabrina
DESCRIPTION:
URL:https://communitycounsellingcentre.ca/event/sabrina-7/2025-08-05/
LOCATION:Room 3
CATEGORIES:Room 3
END:VEVENT
BEGIN:VEVENT
DTSTART;TZID=America/Edmonton:20250730T150000
DTEND;TZID=America/Edmonton:20250730T210000
DTSTAMP:20260424T195547
CREATED:20240903T201801Z
LAST-MODIFIED:20260307T163448Z
UID:10008088-1753887600-1753909200@communitycounsellingcentre.ca
SUMMARY:Bo
DESCRIPTION:
URL:https://communitycounsellingcentre.ca/event/bo-4-2/2025-07-30/
LOCATION:Room 3
CATEGORIES:Room 3
END:VEVENT
BEGIN:VEVENT
DTSTART;TZID=America/Edmonton:20250729T120000
DTEND;TZID=America/Edmonton:20250729T200000
DTSTAMP:20260424T195547
CREATED:20250320T170016Z
LAST-MODIFIED:20251126T022218Z
UID:10005400-1753790400-1753819200@communitycounsellingcentre.ca
SUMMARY:Sabrina
DESCRIPTION:
URL:https://communitycounsellingcentre.ca/event/sabrina-7/2025-07-29/
LOCATION:Room 3
CATEGORIES:Room 3
END:VEVENT
BEGIN:VEVENT
DTSTART;TZID=America/Edmonton:20250723T150000
DTEND;TZID=America/Edmonton:20250723T210000
DTSTAMP:20260424T195547
CREATED:20240903T201801Z
LAST-MODIFIED:20260307T163448Z
UID:10008087-1753282800-1753304400@communitycounsellingcentre.ca
SUMMARY:Bo
DESCRIPTION:
URL:https://communitycounsellingcentre.ca/event/bo-4-2/2025-07-23/
LOCATION:Room 3
CATEGORIES:Room 3
END:VEVENT
BEGIN:VEVENT
DTSTART;TZID=America/Edmonton:20250722T120000
DTEND;TZID=America/Edmonton:20250722T200000
DTSTAMP:20260424T195547
CREATED:20250320T170016Z
LAST-MODIFIED:20251126T022218Z
UID:10005399-1753185600-1753214400@communitycounsellingcentre.ca
SUMMARY:Sabrina
DESCRIPTION:
URL:https://communitycounsellingcentre.ca/event/sabrina-7/2025-07-22/
LOCATION:Room 3
CATEGORIES:Room 3
END:VEVENT
BEGIN:VEVENT
DTSTART;TZID=America/Edmonton:20250716T150000
DTEND;TZID=America/Edmonton:20250716T210000
DTSTAMP:20260424T195547
CREATED:20240903T201801Z
LAST-MODIFIED:20260307T163448Z
UID:10008086-1752678000-1752699600@communitycounsellingcentre.ca
SUMMARY:Bo
DESCRIPTION:
URL:https://communitycounsellingcentre.ca/event/bo-4-2/2025-07-16/
LOCATION:Room 3
CATEGORIES:Room 3
END:VEVENT
BEGIN:VEVENT
DTSTART;TZID=America/Edmonton:20250715T120000
DTEND;TZID=America/Edmonton:20250715T200000
DTSTAMP:20260424T195547
CREATED:20250320T170016Z
LAST-MODIFIED:20251126T022218Z
UID:10005398-1752580800-1752609600@communitycounsellingcentre.ca
SUMMARY:Sabrina
DESCRIPTION:
URL:https://communitycounsellingcentre.ca/event/sabrina-7/2025-07-15/
LOCATION:Room 3
CATEGORIES:Room 3
END:VEVENT
BEGIN:VEVENT
DTSTART;TZID=America/Edmonton:20250709T150000
DTEND;TZID=America/Edmonton:20250709T210000
DTSTAMP:20260424T195547
CREATED:20240903T201801Z
LAST-MODIFIED:20260307T163448Z
UID:10008085-1752073200-1752094800@communitycounsellingcentre.ca
SUMMARY:Bo
DESCRIPTION:
URL:https://communitycounsellingcentre.ca/event/bo-4-2/2025-07-09/
LOCATION:Room 3
CATEGORIES:Room 3
END:VEVENT
BEGIN:VEVENT
DTSTART;TZID=America/Edmonton:20250708T120000
DTEND;TZID=America/Edmonton:20250708T200000
DTSTAMP:20260424T195547
CREATED:20250320T170016Z
LAST-MODIFIED:20251126T022218Z
UID:10005397-1751976000-1752004800@communitycounsellingcentre.ca
SUMMARY:Sabrina
DESCRIPTION:
URL:https://communitycounsellingcentre.ca/event/sabrina-7/2025-07-08/
LOCATION:Room 3
CATEGORIES:Room 3
END:VEVENT
BEGIN:VEVENT
DTSTART;TZID=America/Edmonton:20250702T150000
DTEND;TZID=America/Edmonton:20250702T210000
DTSTAMP:20260424T195547
CREATED:20240903T201801Z
LAST-MODIFIED:20260307T163448Z
UID:10008084-1751468400-1751490000@communitycounsellingcentre.ca
SUMMARY:Bo
DESCRIPTION:
URL:https://communitycounsellingcentre.ca/event/bo-4-2/2025-07-02/
LOCATION:Room 3
CATEGORIES:Room 3
END:VEVENT
BEGIN:VEVENT
DTSTART;TZID=America/Edmonton:20250701T120000
DTEND;TZID=America/Edmonton:20250701T200000
DTSTAMP:20260424T195547
CREATED:20250320T170016Z
LAST-MODIFIED:20251126T022218Z
UID:10005396-1751371200-1751400000@communitycounsellingcentre.ca
SUMMARY:Sabrina
DESCRIPTION:
URL:https://communitycounsellingcentre.ca/event/sabrina-7/2025-07-01/
LOCATION:Room 3
CATEGORIES:Room 3
END:VEVENT
BEGIN:VEVENT
DTSTART;TZID=America/Edmonton:20250625T150000
DTEND;TZID=America/Edmonton:20250625T210000
DTSTAMP:20260424T195547
CREATED:20240903T201801Z
LAST-MODIFIED:20260307T163448Z
UID:10008083-1750863600-1750885200@communitycounsellingcentre.ca
SUMMARY:Bo
DESCRIPTION:
URL:https://communitycounsellingcentre.ca/event/bo-4-2/2025-06-25/
LOCATION:Room 3
CATEGORIES:Room 3
END:VEVENT
BEGIN:VEVENT
DTSTART;TZID=America/Edmonton:20250624T120000
DTEND;TZID=America/Edmonton:20250624T200000
DTSTAMP:20260424T195547
CREATED:20250320T170016Z
LAST-MODIFIED:20251126T022218Z
UID:10005395-1750766400-1750795200@communitycounsellingcentre.ca
SUMMARY:Sabrina
DESCRIPTION:
URL:https://communitycounsellingcentre.ca/event/sabrina-7/2025-06-24/
LOCATION:Room 3
CATEGORIES:Room 3
END:VEVENT
BEGIN:VEVENT
DTSTART;TZID=America/Edmonton:20250618T150000
DTEND;TZID=America/Edmonton:20250618T210000
DTSTAMP:20260424T195547
CREATED:20240903T201801Z
LAST-MODIFIED:20260307T163448Z
UID:10008082-1750258800-1750280400@communitycounsellingcentre.ca
SUMMARY:Bo
DESCRIPTION:
URL:https://communitycounsellingcentre.ca/event/bo-4-2/2025-06-18/
LOCATION:Room 3
CATEGORIES:Room 3
END:VEVENT
BEGIN:VEVENT
DTSTART;TZID=America/Edmonton:20250617T120000
DTEND;TZID=America/Edmonton:20250617T200000
DTSTAMP:20260424T195547
CREATED:20250320T170016Z
LAST-MODIFIED:20251126T022218Z
UID:10005394-1750161600-1750190400@communitycounsellingcentre.ca
SUMMARY:Sabrina
DESCRIPTION:
URL:https://communitycounsellingcentre.ca/event/sabrina-7/2025-06-17/
LOCATION:Room 3
CATEGORIES:Room 3
END:VEVENT
BEGIN:VEVENT
DTSTART;TZID=America/Edmonton:20250611T150000
DTEND;TZID=America/Edmonton:20250611T210000
DTSTAMP:20260424T195547
CREATED:20240903T201801Z
LAST-MODIFIED:20260307T163448Z
UID:10008081-1749654000-1749675600@communitycounsellingcentre.ca
SUMMARY:Bo
DESCRIPTION:
URL:https://communitycounsellingcentre.ca/event/bo-4-2/2025-06-11/
LOCATION:Room 3
CATEGORIES:Room 3
END:VEVENT
BEGIN:VEVENT
DTSTART;TZID=America/Edmonton:20250610T120000
DTEND;TZID=America/Edmonton:20250610T200000
DTSTAMP:20260424T195547
CREATED:20250320T170016Z
LAST-MODIFIED:20251126T022218Z
UID:10005393-1749556800-1749585600@communitycounsellingcentre.ca
SUMMARY:Sabrina
DESCRIPTION:
URL:https://communitycounsellingcentre.ca/event/sabrina-7/2025-06-10/
LOCATION:Room 3
CATEGORIES:Room 3
END:VEVENT
BEGIN:VEVENT
DTSTART;TZID=America/Edmonton:20250604T150000
DTEND;TZID=America/Edmonton:20250604T210000
DTSTAMP:20260424T195547
CREATED:20240903T201801Z
LAST-MODIFIED:20260307T163448Z
UID:10008080-1749049200-1749070800@communitycounsellingcentre.ca
SUMMARY:Bo
DESCRIPTION:
URL:https://communitycounsellingcentre.ca/event/bo-4-2/2025-06-04/
LOCATION:Room 3
CATEGORIES:Room 3
END:VEVENT
BEGIN:VEVENT
DTSTART;TZID=America/Edmonton:20250603T120000
DTEND;TZID=America/Edmonton:20250603T200000
DTSTAMP:20260424T195547
CREATED:20250320T170016Z
LAST-MODIFIED:20251126T022218Z
UID:10005392-1748952000-1748980800@communitycounsellingcentre.ca
SUMMARY:Sabrina
DESCRIPTION:
URL:https://communitycounsellingcentre.ca/event/sabrina-7/2025-06-03/
LOCATION:Room 3
CATEGORIES:Room 3
END:VEVENT
BEGIN:VEVENT
DTSTART;TZID=America/Edmonton:20250528T150000
DTEND;TZID=America/Edmonton:20250528T210000
DTSTAMP:20260424T195547
CREATED:20240903T201801Z
LAST-MODIFIED:20260307T163448Z
UID:10008079-1748444400-1748466000@communitycounsellingcentre.ca
SUMMARY:Bo
DESCRIPTION:
URL:https://communitycounsellingcentre.ca/event/bo-4-2/2025-05-28/
LOCATION:Room 3
CATEGORIES:Room 3
END:VEVENT
BEGIN:VEVENT
DTSTART;TZID=America/Edmonton:20250527T120000
DTEND;TZID=America/Edmonton:20250527T200000
DTSTAMP:20260424T195547
CREATED:20250320T170016Z
LAST-MODIFIED:20251126T022218Z
UID:10005391-1748347200-1748376000@communitycounsellingcentre.ca
SUMMARY:Sabrina
DESCRIPTION:
URL:https://communitycounsellingcentre.ca/event/sabrina-7/2025-05-27/
LOCATION:Room 3
CATEGORIES:Room 3
END:VEVENT
BEGIN:VEVENT
DTSTART;TZID=America/Edmonton:20250521T150000
DTEND;TZID=America/Edmonton:20250521T210000
DTSTAMP:20260424T195547
CREATED:20240903T201801Z
LAST-MODIFIED:20260307T163448Z
UID:10008078-1747839600-1747861200@communitycounsellingcentre.ca
SUMMARY:Bo
DESCRIPTION:
URL:https://communitycounsellingcentre.ca/event/bo-4-2/2025-05-21/
LOCATION:Room 3
CATEGORIES:Room 3
END:VEVENT
BEGIN:VEVENT
DTSTART;TZID=America/Edmonton:20250520T120000
DTEND;TZID=America/Edmonton:20250520T200000
DTSTAMP:20260424T195547
CREATED:20250320T170016Z
LAST-MODIFIED:20251126T022218Z
UID:10005390-1747742400-1747771200@communitycounsellingcentre.ca
SUMMARY:Sabrina
DESCRIPTION:
URL:https://communitycounsellingcentre.ca/event/sabrina-7/2025-05-20/
LOCATION:Room 3
CATEGORIES:Room 3
END:VEVENT
BEGIN:VEVENT
DTSTART;TZID=America/Edmonton:20250514T150000
DTEND;TZID=America/Edmonton:20250514T210000
DTSTAMP:20260424T195547
CREATED:20240903T201801Z
LAST-MODIFIED:20260307T163448Z
UID:10008077-1747234800-1747256400@communitycounsellingcentre.ca
SUMMARY:Bo
DESCRIPTION:
URL:https://communitycounsellingcentre.ca/event/bo-4-2/2025-05-14/
LOCATION:Room 3
CATEGORIES:Room 3
END:VEVENT
BEGIN:VEVENT
DTSTART;TZID=America/Edmonton:20250513T120000
DTEND;TZID=America/Edmonton:20250513T200000
DTSTAMP:20260424T195547
CREATED:20250320T170016Z
LAST-MODIFIED:20251126T022218Z
UID:10005389-1747137600-1747166400@communitycounsellingcentre.ca
SUMMARY:Sabrina
DESCRIPTION:
URL:https://communitycounsellingcentre.ca/event/sabrina-7/2025-05-13/
LOCATION:Room 3
CATEGORIES:Room 3
END:VEVENT
BEGIN:VEVENT
DTSTART;TZID=America/Edmonton:20250507T150000
DTEND;TZID=America/Edmonton:20250507T210000
DTSTAMP:20260424T195547
CREATED:20240903T201801Z
LAST-MODIFIED:20260307T163448Z
UID:10008076-1746630000-1746651600@communitycounsellingcentre.ca
SUMMARY:Bo
DESCRIPTION:
URL:https://communitycounsellingcentre.ca/event/bo-4-2/2025-05-07/
LOCATION:Room 3
CATEGORIES:Room 3
END:VEVENT
BEGIN:VEVENT
DTSTART;TZID=America/Edmonton:20250506T120000
DTEND;TZID=America/Edmonton:20250506T200000
DTSTAMP:20260424T195547
CREATED:20250320T170016Z
LAST-MODIFIED:20251126T022218Z
UID:10005388-1746532800-1746561600@communitycounsellingcentre.ca
SUMMARY:Sabrina
DESCRIPTION:
URL:https://communitycounsellingcentre.ca/event/sabrina-7/2025-05-06/
LOCATION:Room 3
CATEGORIES:Room 3
END:VEVENT
BEGIN:VEVENT
DTSTART;TZID=America/Edmonton:20250430T150000
DTEND;TZID=America/Edmonton:20250430T210000
DTSTAMP:20260424T195547
CREATED:20240903T201801Z
LAST-MODIFIED:20260307T163448Z
UID:10008075-1746025200-1746046800@communitycounsellingcentre.ca
SUMMARY:Bo
DESCRIPTION:
URL:https://communitycounsellingcentre.ca/event/bo-4-2/2025-04-30/
LOCATION:Room 3
CATEGORIES:Room 3
END:VEVENT
BEGIN:VEVENT
DTSTART;TZID=America/Edmonton:20250423T150000
DTEND;TZID=America/Edmonton:20250423T210000
DTSTAMP:20260424T195547
CREATED:20240903T201801Z
LAST-MODIFIED:20260307T163448Z
UID:10008074-1745420400-1745442000@communitycounsellingcentre.ca
SUMMARY:Bo
DESCRIPTION:
URL:https://communitycounsellingcentre.ca/event/bo-4-2/2025-04-23/
LOCATION:Room 3
CATEGORIES:Room 3
END:VEVENT
END:VCALENDAR