BEGIN:VCALENDAR
VERSION:2.0
PRODID:-//Community Counselling Centre - ECPv6.13.1//NONSGML v1.0//EN
CALSCALE:GREGORIAN
METHOD:PUBLISH
X-ORIGINAL-URL:https://communitycounsellingcentre.ca
X-WR-CALDESC:Events for Community Counselling Centre
REFRESH-INTERVAL;VALUE=DURATION:PT1H
X-Robots-Tag:noindex
X-PUBLISHED-TTL:PT1H
BEGIN:VTIMEZONE
TZID:America/Edmonton
BEGIN:DAYLIGHT
TZOFFSETFROM:-0700
TZOFFSETTO:-0600
TZNAME:MDT
DTSTART:20260308T090000
END:DAYLIGHT
BEGIN:STANDARD
TZOFFSETFROM:-0600
TZOFFSETTO:-0700
TZNAME:MST
DTSTART:20261101T080000
END:STANDARD
END:VTIMEZONE
BEGIN:VEVENT
DTSTART;TZID=America/Edmonton:20261203T140000
DTEND;TZID=America/Edmonton:20261203T200000
DTSTAMP:20260424T192953
CREATED:20260227T174239Z
LAST-MODIFIED:20260307T163310Z
UID:10007914-1796306400-1796328000@communitycounsellingcentre.ca
SUMMARY:Bo
DESCRIPTION:
URL:https://communitycounsellingcentre.ca/event/bo-12-2-2/2026-12-03/
LOCATION:Room 3
CATEGORIES:Room 3
END:VEVENT
BEGIN:VEVENT
DTSTART;TZID=America/Edmonton:20261204T160000
DTEND;TZID=America/Edmonton:20261204T200000
DTSTAMP:20260424T192953
CREATED:20251027T225904Z
LAST-MODIFIED:20251126T021806Z
UID:10006681-1796400000-1796414400@communitycounsellingcentre.ca
SUMMARY:Ishmal
DESCRIPTION:
URL:https://communitycounsellingcentre.ca/event/ishmal-2-2/2026-12-04/
LOCATION:Room 3
CATEGORIES:Room 3
END:VEVENT
BEGIN:VEVENT
DTSTART;TZID=America/Edmonton:20261207T100000
DTEND;TZID=America/Edmonton:20261207T200000
DTSTAMP:20260424T192953
CREATED:20250815T163752Z
LAST-MODIFIED:20251126T022100Z
UID:10006838-1796637600-1796673600@communitycounsellingcentre.ca
SUMMARY:Steven
DESCRIPTION:
URL:https://communitycounsellingcentre.ca/event/steven-4/2026-12-07/
LOCATION:Room 3
CATEGORIES:Room 3
END:VEVENT
BEGIN:VEVENT
DTSTART;TZID=America/Edmonton:20261208T120000
DTEND;TZID=America/Edmonton:20261208T200000
DTSTAMP:20260424T192953
CREATED:20250320T170016Z
LAST-MODIFIED:20251126T022218Z
UID:10006942-1796731200-1796760000@communitycounsellingcentre.ca
SUMMARY:Sabrina
DESCRIPTION:
URL:https://communitycounsellingcentre.ca/event/sabrina-7/2026-12-08/
LOCATION:Room 3
CATEGORIES:Room 3
END:VEVENT
BEGIN:VEVENT
DTSTART;TZID=America/Edmonton:20261209T100000
DTEND;TZID=America/Edmonton:20261209T140000
DTSTAMP:20260424T192953
CREATED:20251021T165121Z
LAST-MODIFIED:20251021T165121Z
UID:10005866-1796810400-1796824800@communitycounsellingcentre.ca
SUMMARY:Claire
DESCRIPTION:
URL:https://communitycounsellingcentre.ca/event/claire/2026-12-09/
LOCATION:Room 3
CATEGORIES:Room 3
END:VEVENT
BEGIN:VEVENT
DTSTART;TZID=America/Edmonton:20261209T150000
DTEND;TZID=America/Edmonton:20261209T210000
DTSTAMP:20260424T192953
CREATED:20240903T201801Z
LAST-MODIFIED:20260307T163448Z
UID:10008159-1796828400-1796850000@communitycounsellingcentre.ca
SUMMARY:Bo
DESCRIPTION:
URL:https://communitycounsellingcentre.ca/event/bo-4-2/2026-12-09/
LOCATION:Room 3
CATEGORIES:Room 3
END:VEVENT
BEGIN:VEVENT
DTSTART;TZID=America/Edmonton:20261210T140000
DTEND;TZID=America/Edmonton:20261210T200000
DTSTAMP:20260424T192953
CREATED:20260227T174239Z
LAST-MODIFIED:20260307T163310Z
UID:10007915-1796911200-1796932800@communitycounsellingcentre.ca
SUMMARY:Bo
DESCRIPTION:
URL:https://communitycounsellingcentre.ca/event/bo-12-2-2/2026-12-10/
LOCATION:Room 3
CATEGORIES:Room 3
END:VEVENT
BEGIN:VEVENT
DTSTART;TZID=America/Edmonton:20261211T160000
DTEND;TZID=America/Edmonton:20261211T200000
DTSTAMP:20260424T192953
CREATED:20251027T225904Z
LAST-MODIFIED:20251126T021806Z
UID:10006682-1797004800-1797019200@communitycounsellingcentre.ca
SUMMARY:Ishmal
DESCRIPTION:
URL:https://communitycounsellingcentre.ca/event/ishmal-2-2/2026-12-11/
LOCATION:Room 3
CATEGORIES:Room 3
END:VEVENT
BEGIN:VEVENT
DTSTART;TZID=America/Edmonton:20261214T100000
DTEND;TZID=America/Edmonton:20261214T200000
DTSTAMP:20260424T192953
CREATED:20250815T163752Z
LAST-MODIFIED:20251126T022100Z
UID:10006839-1797242400-1797278400@communitycounsellingcentre.ca
SUMMARY:Steven
DESCRIPTION:
URL:https://communitycounsellingcentre.ca/event/steven-4/2026-12-14/
LOCATION:Room 3
CATEGORIES:Room 3
END:VEVENT
BEGIN:VEVENT
DTSTART;TZID=America/Edmonton:20261215T120000
DTEND;TZID=America/Edmonton:20261215T200000
DTSTAMP:20260424T192953
CREATED:20250320T170016Z
LAST-MODIFIED:20251126T022218Z
UID:10006943-1797336000-1797364800@communitycounsellingcentre.ca
SUMMARY:Sabrina
DESCRIPTION:
URL:https://communitycounsellingcentre.ca/event/sabrina-7/2026-12-15/
LOCATION:Room 3
CATEGORIES:Room 3
END:VEVENT
BEGIN:VEVENT
DTSTART;TZID=America/Edmonton:20261216T100000
DTEND;TZID=America/Edmonton:20261216T140000
DTSTAMP:20260424T192953
CREATED:20251021T165121Z
LAST-MODIFIED:20251021T165121Z
UID:10005867-1797415200-1797429600@communitycounsellingcentre.ca
SUMMARY:Claire
DESCRIPTION:
URL:https://communitycounsellingcentre.ca/event/claire/2026-12-16/
LOCATION:Room 3
CATEGORIES:Room 3
END:VEVENT
BEGIN:VEVENT
DTSTART;TZID=America/Edmonton:20261216T150000
DTEND;TZID=America/Edmonton:20261216T210000
DTSTAMP:20260424T192953
CREATED:20240903T201801Z
LAST-MODIFIED:20260307T163448Z
UID:10008160-1797433200-1797454800@communitycounsellingcentre.ca
SUMMARY:Bo
DESCRIPTION:
URL:https://communitycounsellingcentre.ca/event/bo-4-2/2026-12-16/
LOCATION:Room 3
CATEGORIES:Room 3
END:VEVENT
BEGIN:VEVENT
DTSTART;TZID=America/Edmonton:20261217T140000
DTEND;TZID=America/Edmonton:20261217T200000
DTSTAMP:20260424T192953
CREATED:20260227T174239Z
LAST-MODIFIED:20260307T163310Z
UID:10007916-1797516000-1797537600@communitycounsellingcentre.ca
SUMMARY:Bo
DESCRIPTION:
URL:https://communitycounsellingcentre.ca/event/bo-12-2-2/2026-12-17/
LOCATION:Room 3
CATEGORIES:Room 3
END:VEVENT
BEGIN:VEVENT
DTSTART;TZID=America/Edmonton:20261218T160000
DTEND;TZID=America/Edmonton:20261218T200000
DTSTAMP:20260424T192953
CREATED:20251027T225904Z
LAST-MODIFIED:20251126T021806Z
UID:10006683-1797609600-1797624000@communitycounsellingcentre.ca
SUMMARY:Ishmal
DESCRIPTION:
URL:https://communitycounsellingcentre.ca/event/ishmal-2-2/2026-12-18/
LOCATION:Room 3
CATEGORIES:Room 3
END:VEVENT
BEGIN:VEVENT
DTSTART;TZID=America/Edmonton:20261221T100000
DTEND;TZID=America/Edmonton:20261221T200000
DTSTAMP:20260424T192953
CREATED:20250815T163752Z
LAST-MODIFIED:20251126T022100Z
UID:10006840-1797847200-1797883200@communitycounsellingcentre.ca
SUMMARY:Steven
DESCRIPTION:
URL:https://communitycounsellingcentre.ca/event/steven-4/2026-12-21/
LOCATION:Room 3
CATEGORIES:Room 3
END:VEVENT
BEGIN:VEVENT
DTSTART;TZID=America/Edmonton:20261222T120000
DTEND;TZID=America/Edmonton:20261222T200000
DTSTAMP:20260424T192953
CREATED:20250320T170016Z
LAST-MODIFIED:20251126T022218Z
UID:10006944-1797940800-1797969600@communitycounsellingcentre.ca
SUMMARY:Sabrina
DESCRIPTION:
URL:https://communitycounsellingcentre.ca/event/sabrina-7/2026-12-22/
LOCATION:Room 3
CATEGORIES:Room 3
END:VEVENT
BEGIN:VEVENT
DTSTART;TZID=America/Edmonton:20261223T100000
DTEND;TZID=America/Edmonton:20261223T140000
DTSTAMP:20260424T192953
CREATED:20251021T165121Z
LAST-MODIFIED:20251021T165121Z
UID:10005868-1798020000-1798034400@communitycounsellingcentre.ca
SUMMARY:Claire
DESCRIPTION:
URL:https://communitycounsellingcentre.ca/event/claire/2026-12-23/
LOCATION:Room 3
CATEGORIES:Room 3
END:VEVENT
BEGIN:VEVENT
DTSTART;TZID=America/Edmonton:20261223T150000
DTEND;TZID=America/Edmonton:20261223T210000
DTSTAMP:20260424T192953
CREATED:20240903T201801Z
LAST-MODIFIED:20260307T163448Z
UID:10008161-1798038000-1798059600@communitycounsellingcentre.ca
SUMMARY:Bo
DESCRIPTION:
URL:https://communitycounsellingcentre.ca/event/bo-4-2/2026-12-23/
LOCATION:Room 3
CATEGORIES:Room 3
END:VEVENT
BEGIN:VEVENT
DTSTART;TZID=America/Edmonton:20261224T140000
DTEND;TZID=America/Edmonton:20261224T200000
DTSTAMP:20260424T192953
CREATED:20260227T174239Z
LAST-MODIFIED:20260307T163310Z
UID:10007917-1798120800-1798142400@communitycounsellingcentre.ca
SUMMARY:Bo
DESCRIPTION:
URL:https://communitycounsellingcentre.ca/event/bo-12-2-2/2026-12-24/
LOCATION:Room 3
CATEGORIES:Room 3
END:VEVENT
BEGIN:VEVENT
DTSTART;TZID=America/Edmonton:20261225T160000
DTEND;TZID=America/Edmonton:20261225T200000
DTSTAMP:20260424T192953
CREATED:20251027T225904Z
LAST-MODIFIED:20251126T021806Z
UID:10006684-1798214400-1798228800@communitycounsellingcentre.ca
SUMMARY:Ishmal
DESCRIPTION:
URL:https://communitycounsellingcentre.ca/event/ishmal-2-2/2026-12-25/
LOCATION:Room 3
CATEGORIES:Room 3
END:VEVENT
BEGIN:VEVENT
DTSTART;TZID=America/Edmonton:20261228T100000
DTEND;TZID=America/Edmonton:20261228T200000
DTSTAMP:20260424T192953
CREATED:20250815T163752Z
LAST-MODIFIED:20251126T022100Z
UID:10006841-1798452000-1798488000@communitycounsellingcentre.ca
SUMMARY:Steven
DESCRIPTION:
URL:https://communitycounsellingcentre.ca/event/steven-4/2026-12-28/
LOCATION:Room 3
CATEGORIES:Room 3
END:VEVENT
BEGIN:VEVENT
DTSTART;TZID=America/Edmonton:20261229T120000
DTEND;TZID=America/Edmonton:20261229T200000
DTSTAMP:20260424T192953
CREATED:20250320T170016Z
LAST-MODIFIED:20251126T022218Z
UID:10006945-1798545600-1798574400@communitycounsellingcentre.ca
SUMMARY:Sabrina
DESCRIPTION:
URL:https://communitycounsellingcentre.ca/event/sabrina-7/2026-12-29/
LOCATION:Room 3
CATEGORIES:Room 3
END:VEVENT
BEGIN:VEVENT
DTSTART;TZID=America/Edmonton:20261230T100000
DTEND;TZID=America/Edmonton:20261230T140000
DTSTAMP:20260424T192953
CREATED:20251021T165121Z
LAST-MODIFIED:20251021T165121Z
UID:10005869-1798624800-1798639200@communitycounsellingcentre.ca
SUMMARY:Claire
DESCRIPTION:
URL:https://communitycounsellingcentre.ca/event/claire/2026-12-30/
LOCATION:Room 3
CATEGORIES:Room 3
END:VEVENT
BEGIN:VEVENT
DTSTART;TZID=America/Edmonton:20261230T150000
DTEND;TZID=America/Edmonton:20261230T210000
DTSTAMP:20260424T192953
CREATED:20240903T201801Z
LAST-MODIFIED:20260307T163448Z
UID:10008162-1798642800-1798664400@communitycounsellingcentre.ca
SUMMARY:Bo
DESCRIPTION:
URL:https://communitycounsellingcentre.ca/event/bo-4-2/2026-12-30/
LOCATION:Room 3
CATEGORIES:Room 3
END:VEVENT
BEGIN:VEVENT
DTSTART;TZID=America/Edmonton:20261231T140000
DTEND;TZID=America/Edmonton:20261231T200000
DTSTAMP:20260424T192953
CREATED:20260227T174239Z
LAST-MODIFIED:20260307T163310Z
UID:10007918-1798725600-1798747200@communitycounsellingcentre.ca
SUMMARY:Bo
DESCRIPTION:
URL:https://communitycounsellingcentre.ca/event/bo-12-2-2/2026-12-31/
LOCATION:Room 3
CATEGORIES:Room 3
END:VEVENT
END:VCALENDAR