BEGIN:VCALENDAR
VERSION:2.0
PRODID:-//Community Counselling Centre - ECPv6.13.1//NONSGML v1.0//EN
CALSCALE:GREGORIAN
METHOD:PUBLISH
X-WR-CALNAME:Community Counselling Centre
X-ORIGINAL-URL:https://communitycounsellingcentre.ca
X-WR-CALDESC:Events for Community Counselling Centre
REFRESH-INTERVAL;VALUE=DURATION:PT1H
X-Robots-Tag:noindex
X-PUBLISHED-TTL:PT1H
BEGIN:VTIMEZONE
TZID:America/Edmonton
BEGIN:DAYLIGHT
TZOFFSETFROM:-0700
TZOFFSETTO:-0600
TZNAME:MDT
DTSTART:20260308T090000
END:DAYLIGHT
BEGIN:STANDARD
TZOFFSETFROM:-0600
TZOFFSETTO:-0700
TZNAME:MST
DTSTART:20261101T080000
END:STANDARD
END:VTIMEZONE
BEGIN:VEVENT
DTSTART;TZID=America/Edmonton:20260520T100000
DTEND;TZID=America/Edmonton:20260520T140000
DTSTAMP:20260423T191303
CREATED:20251021T165121Z
LAST-MODIFIED:20251021T165121Z
UID:10005837-1779271200-1779285600@communitycounsellingcentre.ca
SUMMARY:Claire
DESCRIPTION:
URL:https://communitycounsellingcentre.ca/event/claire/2026-05-20/
LOCATION:Room 3
CATEGORIES:Room 3
END:VEVENT
BEGIN:VEVENT
DTSTART;TZID=America/Edmonton:20260520T150000
DTEND;TZID=America/Edmonton:20260520T210000
DTSTAMP:20260423T191303
CREATED:20240903T201801Z
LAST-MODIFIED:20260307T163448Z
UID:10008130-1779289200-1779310800@communitycounsellingcentre.ca
SUMMARY:Bo
DESCRIPTION:
URL:https://communitycounsellingcentre.ca/event/bo-4-2/2026-05-20/
LOCATION:Room 3
CATEGORIES:Room 3
END:VEVENT
BEGIN:VEVENT
DTSTART;TZID=America/Edmonton:20260521T140000
DTEND;TZID=America/Edmonton:20260521T200000
DTSTAMP:20260423T191303
CREATED:20260227T174239Z
LAST-MODIFIED:20260307T163310Z
UID:10007886-1779372000-1779393600@communitycounsellingcentre.ca
SUMMARY:Bo
DESCRIPTION:
URL:https://communitycounsellingcentre.ca/event/bo-12-2-2/2026-05-21/
LOCATION:Room 3
CATEGORIES:Room 3
END:VEVENT
BEGIN:VEVENT
DTSTART;TZID=America/Edmonton:20260522T160000
DTEND;TZID=America/Edmonton:20260522T200000
DTSTAMP:20260423T191303
CREATED:20251027T225904Z
LAST-MODIFIED:20251126T021806Z
UID:10006653-1779465600-1779480000@communitycounsellingcentre.ca
SUMMARY:Ishmal
DESCRIPTION:
URL:https://communitycounsellingcentre.ca/event/ishmal-2-2/2026-05-22/
LOCATION:Room 3
CATEGORIES:Room 3
END:VEVENT
BEGIN:VEVENT
DTSTART;TZID=America/Edmonton:20260525T100000
DTEND;TZID=America/Edmonton:20260525T200000
DTSTAMP:20260423T191303
CREATED:20250815T163752Z
LAST-MODIFIED:20251126T022100Z
UID:10006810-1779703200-1779739200@communitycounsellingcentre.ca
SUMMARY:Steven
DESCRIPTION:
URL:https://communitycounsellingcentre.ca/event/steven-4/2026-05-25/
LOCATION:Room 3
CATEGORIES:Room 3
END:VEVENT
BEGIN:VEVENT
DTSTART;TZID=America/Edmonton:20260526T120000
DTEND;TZID=America/Edmonton:20260526T200000
DTSTAMP:20260423T191303
CREATED:20250320T170016Z
LAST-MODIFIED:20251126T022218Z
UID:10006914-1779796800-1779825600@communitycounsellingcentre.ca
SUMMARY:Sabrina
DESCRIPTION:
URL:https://communitycounsellingcentre.ca/event/sabrina-7/2026-05-26/
LOCATION:Room 3
CATEGORIES:Room 3
END:VEVENT
BEGIN:VEVENT
DTSTART;TZID=America/Edmonton:20260527T100000
DTEND;TZID=America/Edmonton:20260527T140000
DTSTAMP:20260423T191304
CREATED:20251021T165121Z
LAST-MODIFIED:20251021T165121Z
UID:10005838-1779876000-1779890400@communitycounsellingcentre.ca
SUMMARY:Claire
DESCRIPTION:
URL:https://communitycounsellingcentre.ca/event/claire/2026-05-27/
LOCATION:Room 3
CATEGORIES:Room 3
END:VEVENT
BEGIN:VEVENT
DTSTART;TZID=America/Edmonton:20260527T150000
DTEND;TZID=America/Edmonton:20260527T210000
DTSTAMP:20260423T191304
CREATED:20240903T201801Z
LAST-MODIFIED:20260307T163448Z
UID:10008131-1779894000-1779915600@communitycounsellingcentre.ca
SUMMARY:Bo
DESCRIPTION:
URL:https://communitycounsellingcentre.ca/event/bo-4-2/2026-05-27/
LOCATION:Room 3
CATEGORIES:Room 3
END:VEVENT
BEGIN:VEVENT
DTSTART;TZID=America/Edmonton:20260528T140000
DTEND;TZID=America/Edmonton:20260528T200000
DTSTAMP:20260423T191304
CREATED:20260227T174239Z
LAST-MODIFIED:20260307T163310Z
UID:10007887-1779976800-1779998400@communitycounsellingcentre.ca
SUMMARY:Bo
DESCRIPTION:
URL:https://communitycounsellingcentre.ca/event/bo-12-2-2/2026-05-28/
LOCATION:Room 3
CATEGORIES:Room 3
END:VEVENT
BEGIN:VEVENT
DTSTART;TZID=America/Edmonton:20260529T160000
DTEND;TZID=America/Edmonton:20260529T200000
DTSTAMP:20260423T191304
CREATED:20251027T225904Z
LAST-MODIFIED:20251126T021806Z
UID:10006654-1780070400-1780084800@communitycounsellingcentre.ca
SUMMARY:Ishmal
DESCRIPTION:
URL:https://communitycounsellingcentre.ca/event/ishmal-2-2/2026-05-29/
LOCATION:Room 3
CATEGORIES:Room 3
END:VEVENT
BEGIN:VEVENT
DTSTART;TZID=America/Edmonton:20260601T100000
DTEND;TZID=America/Edmonton:20260601T200000
DTSTAMP:20260423T191304
CREATED:20250815T163752Z
LAST-MODIFIED:20251126T022100Z
UID:10006811-1780308000-1780344000@communitycounsellingcentre.ca
SUMMARY:Steven
DESCRIPTION:
URL:https://communitycounsellingcentre.ca/event/steven-4/2026-06-01/
LOCATION:Room 3
CATEGORIES:Room 3
END:VEVENT
BEGIN:VEVENT
DTSTART;TZID=America/Edmonton:20260602T120000
DTEND;TZID=America/Edmonton:20260602T200000
DTSTAMP:20260423T191304
CREATED:20250320T170016Z
LAST-MODIFIED:20251126T022218Z
UID:10006915-1780401600-1780430400@communitycounsellingcentre.ca
SUMMARY:Sabrina
DESCRIPTION:
URL:https://communitycounsellingcentre.ca/event/sabrina-7/2026-06-02/
LOCATION:Room 3
CATEGORIES:Room 3
END:VEVENT
BEGIN:VEVENT
DTSTART;TZID=America/Edmonton:20260603T100000
DTEND;TZID=America/Edmonton:20260603T140000
DTSTAMP:20260423T191304
CREATED:20251021T165121Z
LAST-MODIFIED:20251021T165121Z
UID:10005839-1780480800-1780495200@communitycounsellingcentre.ca
SUMMARY:Claire
DESCRIPTION:
URL:https://communitycounsellingcentre.ca/event/claire/2026-06-03/
LOCATION:Room 3
CATEGORIES:Room 3
END:VEVENT
BEGIN:VEVENT
DTSTART;TZID=America/Edmonton:20260603T150000
DTEND;TZID=America/Edmonton:20260603T210000
DTSTAMP:20260423T191304
CREATED:20240903T201801Z
LAST-MODIFIED:20260307T163448Z
UID:10008132-1780498800-1780520400@communitycounsellingcentre.ca
SUMMARY:Bo
DESCRIPTION:
URL:https://communitycounsellingcentre.ca/event/bo-4-2/2026-06-03/
LOCATION:Room 3
CATEGORIES:Room 3
END:VEVENT
BEGIN:VEVENT
DTSTART;TZID=America/Edmonton:20260604T140000
DTEND;TZID=America/Edmonton:20260604T200000
DTSTAMP:20260423T191304
CREATED:20260227T174239Z
LAST-MODIFIED:20260307T163310Z
UID:10007888-1780581600-1780603200@communitycounsellingcentre.ca
SUMMARY:Bo
DESCRIPTION:
URL:https://communitycounsellingcentre.ca/event/bo-12-2-2/2026-06-04/
LOCATION:Room 3
CATEGORIES:Room 3
END:VEVENT
BEGIN:VEVENT
DTSTART;TZID=America/Edmonton:20260605T160000
DTEND;TZID=America/Edmonton:20260605T200000
DTSTAMP:20260423T191304
CREATED:20251027T225904Z
LAST-MODIFIED:20251126T021806Z
UID:10006655-1780675200-1780689600@communitycounsellingcentre.ca
SUMMARY:Ishmal
DESCRIPTION:
URL:https://communitycounsellingcentre.ca/event/ishmal-2-2/2026-06-05/
LOCATION:Room 3
CATEGORIES:Room 3
END:VEVENT
BEGIN:VEVENT
DTSTART;TZID=America/Edmonton:20260608T100000
DTEND;TZID=America/Edmonton:20260608T200000
DTSTAMP:20260423T191304
CREATED:20250815T163752Z
LAST-MODIFIED:20251126T022100Z
UID:10006812-1780912800-1780948800@communitycounsellingcentre.ca
SUMMARY:Steven
DESCRIPTION:
URL:https://communitycounsellingcentre.ca/event/steven-4/2026-06-08/
LOCATION:Room 3
CATEGORIES:Room 3
END:VEVENT
BEGIN:VEVENT
DTSTART;TZID=America/Edmonton:20260609T120000
DTEND;TZID=America/Edmonton:20260609T200000
DTSTAMP:20260423T191304
CREATED:20250320T170016Z
LAST-MODIFIED:20251126T022218Z
UID:10006916-1781006400-1781035200@communitycounsellingcentre.ca
SUMMARY:Sabrina
DESCRIPTION:
URL:https://communitycounsellingcentre.ca/event/sabrina-7/2026-06-09/
LOCATION:Room 3
CATEGORIES:Room 3
END:VEVENT
BEGIN:VEVENT
DTSTART;TZID=America/Edmonton:20260610T100000
DTEND;TZID=America/Edmonton:20260610T140000
DTSTAMP:20260423T191304
CREATED:20251021T165121Z
LAST-MODIFIED:20251021T165121Z
UID:10005840-1781085600-1781100000@communitycounsellingcentre.ca
SUMMARY:Claire
DESCRIPTION:
URL:https://communitycounsellingcentre.ca/event/claire/2026-06-10/
LOCATION:Room 3
CATEGORIES:Room 3
END:VEVENT
BEGIN:VEVENT
DTSTART;TZID=America/Edmonton:20260610T150000
DTEND;TZID=America/Edmonton:20260610T210000
DTSTAMP:20260423T191304
CREATED:20240903T201801Z
LAST-MODIFIED:20260307T163448Z
UID:10008133-1781103600-1781125200@communitycounsellingcentre.ca
SUMMARY:Bo
DESCRIPTION:
URL:https://communitycounsellingcentre.ca/event/bo-4-2/2026-06-10/
LOCATION:Room 3
CATEGORIES:Room 3
END:VEVENT
BEGIN:VEVENT
DTSTART;TZID=America/Edmonton:20260611T140000
DTEND;TZID=America/Edmonton:20260611T200000
DTSTAMP:20260423T191304
CREATED:20260227T174239Z
LAST-MODIFIED:20260307T163310Z
UID:10007889-1781186400-1781208000@communitycounsellingcentre.ca
SUMMARY:Bo
DESCRIPTION:
URL:https://communitycounsellingcentre.ca/event/bo-12-2-2/2026-06-11/
LOCATION:Room 3
CATEGORIES:Room 3
END:VEVENT
BEGIN:VEVENT
DTSTART;TZID=America/Edmonton:20260612T160000
DTEND;TZID=America/Edmonton:20260612T200000
DTSTAMP:20260423T191304
CREATED:20251027T225904Z
LAST-MODIFIED:20251126T021806Z
UID:10006656-1781280000-1781294400@communitycounsellingcentre.ca
SUMMARY:Ishmal
DESCRIPTION:
URL:https://communitycounsellingcentre.ca/event/ishmal-2-2/2026-06-12/
LOCATION:Room 3
CATEGORIES:Room 3
END:VEVENT
BEGIN:VEVENT
DTSTART;TZID=America/Edmonton:20260615T100000
DTEND;TZID=America/Edmonton:20260615T200000
DTSTAMP:20260423T191304
CREATED:20250815T163752Z
LAST-MODIFIED:20251126T022100Z
UID:10006813-1781517600-1781553600@communitycounsellingcentre.ca
SUMMARY:Steven
DESCRIPTION:
URL:https://communitycounsellingcentre.ca/event/steven-4/2026-06-15/
LOCATION:Room 3
CATEGORIES:Room 3
END:VEVENT
BEGIN:VEVENT
DTSTART;TZID=America/Edmonton:20260616T120000
DTEND;TZID=America/Edmonton:20260616T200000
DTSTAMP:20260423T191304
CREATED:20250320T170016Z
LAST-MODIFIED:20251126T022218Z
UID:10006917-1781611200-1781640000@communitycounsellingcentre.ca
SUMMARY:Sabrina
DESCRIPTION:
URL:https://communitycounsellingcentre.ca/event/sabrina-7/2026-06-16/
LOCATION:Room 3
CATEGORIES:Room 3
END:VEVENT
BEGIN:VEVENT
DTSTART;TZID=America/Edmonton:20260617T100000
DTEND;TZID=America/Edmonton:20260617T140000
DTSTAMP:20260423T191304
CREATED:20251021T165121Z
LAST-MODIFIED:20251021T165121Z
UID:10005841-1781690400-1781704800@communitycounsellingcentre.ca
SUMMARY:Claire
DESCRIPTION:
URL:https://communitycounsellingcentre.ca/event/claire/2026-06-17/
LOCATION:Room 3
CATEGORIES:Room 3
END:VEVENT
BEGIN:VEVENT
DTSTART;TZID=America/Edmonton:20260617T150000
DTEND;TZID=America/Edmonton:20260617T210000
DTSTAMP:20260423T191304
CREATED:20240903T201801Z
LAST-MODIFIED:20260307T163448Z
UID:10008134-1781708400-1781730000@communitycounsellingcentre.ca
SUMMARY:Bo
DESCRIPTION:
URL:https://communitycounsellingcentre.ca/event/bo-4-2/2026-06-17/
LOCATION:Room 3
CATEGORIES:Room 3
END:VEVENT
BEGIN:VEVENT
DTSTART;TZID=America/Edmonton:20260618T140000
DTEND;TZID=America/Edmonton:20260618T200000
DTSTAMP:20260423T191304
CREATED:20260227T174239Z
LAST-MODIFIED:20260307T163310Z
UID:10007890-1781791200-1781812800@communitycounsellingcentre.ca
SUMMARY:Bo
DESCRIPTION:
URL:https://communitycounsellingcentre.ca/event/bo-12-2-2/2026-06-18/
LOCATION:Room 3
CATEGORIES:Room 3
END:VEVENT
BEGIN:VEVENT
DTSTART;TZID=America/Edmonton:20260619T160000
DTEND;TZID=America/Edmonton:20260619T200000
DTSTAMP:20260423T191304
CREATED:20251027T225904Z
LAST-MODIFIED:20251126T021806Z
UID:10006657-1781884800-1781899200@communitycounsellingcentre.ca
SUMMARY:Ishmal
DESCRIPTION:
URL:https://communitycounsellingcentre.ca/event/ishmal-2-2/2026-06-19/
LOCATION:Room 3
CATEGORIES:Room 3
END:VEVENT
BEGIN:VEVENT
DTSTART;TZID=America/Edmonton:20260622T100000
DTEND;TZID=America/Edmonton:20260622T200000
DTSTAMP:20260423T191304
CREATED:20250815T163752Z
LAST-MODIFIED:20251126T022100Z
UID:10006814-1782122400-1782158400@communitycounsellingcentre.ca
SUMMARY:Steven
DESCRIPTION:
URL:https://communitycounsellingcentre.ca/event/steven-4/2026-06-22/
LOCATION:Room 3
CATEGORIES:Room 3
END:VEVENT
BEGIN:VEVENT
DTSTART;TZID=America/Edmonton:20260623T120000
DTEND;TZID=America/Edmonton:20260623T200000
DTSTAMP:20260423T191304
CREATED:20250320T170016Z
LAST-MODIFIED:20251126T022218Z
UID:10006918-1782216000-1782244800@communitycounsellingcentre.ca
SUMMARY:Sabrina
DESCRIPTION:
URL:https://communitycounsellingcentre.ca/event/sabrina-7/2026-06-23/
LOCATION:Room 3
CATEGORIES:Room 3
END:VEVENT
END:VCALENDAR