BEGIN:VCALENDAR
VERSION:2.0
PRODID:-//Community Counselling Centre - ECPv6.13.1//NONSGML v1.0//EN
CALSCALE:GREGORIAN
METHOD:PUBLISH
X-WR-CALNAME:Community Counselling Centre
X-ORIGINAL-URL:https://communitycounsellingcentre.ca
X-WR-CALDESC:Events for Community Counselling Centre
REFRESH-INTERVAL;VALUE=DURATION:PT1H
X-Robots-Tag:noindex
X-PUBLISHED-TTL:PT1H
BEGIN:VTIMEZONE
TZID:America/Edmonton
BEGIN:DAYLIGHT
TZOFFSETFROM:-0700
TZOFFSETTO:-0600
TZNAME:MDT
DTSTART:20260308T090000
END:DAYLIGHT
BEGIN:STANDARD
TZOFFSETFROM:-0600
TZOFFSETTO:-0700
TZNAME:MST
DTSTART:20261101T080000
END:STANDARD
END:VTIMEZONE
BEGIN:VEVENT
DTSTART;TZID=America/Edmonton:20260319T140000
DTEND;TZID=America/Edmonton:20260319T200000
DTSTAMP:20260423T221358
CREATED:20260227T174239Z
LAST-MODIFIED:20260307T163310Z
UID:10007877-1773928800-1773950400@communitycounsellingcentre.ca
SUMMARY:Bo
DESCRIPTION:
URL:https://communitycounsellingcentre.ca/event/bo-12-2-2/2026-03-19/
LOCATION:Room 3
CATEGORIES:Room 3
END:VEVENT
BEGIN:VEVENT
DTSTART;TZID=America/Edmonton:20260318T150000
DTEND;TZID=America/Edmonton:20260318T210000
DTSTAMP:20260423T221358
CREATED:20240903T201801Z
LAST-MODIFIED:20260307T163448Z
UID:10008121-1773846000-1773867600@communitycounsellingcentre.ca
SUMMARY:Bo
DESCRIPTION:
URL:https://communitycounsellingcentre.ca/event/bo-4-2/2026-03-18/
LOCATION:Room 3
CATEGORIES:Room 3
END:VEVENT
BEGIN:VEVENT
DTSTART;TZID=America/Edmonton:20260318T100000
DTEND;TZID=America/Edmonton:20260318T140000
DTSTAMP:20260423T221358
CREATED:20251021T165121Z
LAST-MODIFIED:20251021T165121Z
UID:10005828-1773828000-1773842400@communitycounsellingcentre.ca
SUMMARY:Claire
DESCRIPTION:
URL:https://communitycounsellingcentre.ca/event/claire/2026-03-18/
LOCATION:Room 3
CATEGORIES:Room 3
END:VEVENT
BEGIN:VEVENT
DTSTART;TZID=America/Edmonton:20260317T120000
DTEND;TZID=America/Edmonton:20260317T200000
DTSTAMP:20260423T221358
CREATED:20250320T170016Z
LAST-MODIFIED:20251126T022218Z
UID:10006904-1773748800-1773777600@communitycounsellingcentre.ca
SUMMARY:Sabrina
DESCRIPTION:
URL:https://communitycounsellingcentre.ca/event/sabrina-7/2026-03-17/
LOCATION:Room 3
CATEGORIES:Room 3
END:VEVENT
BEGIN:VEVENT
DTSTART;TZID=America/Edmonton:20260316T100000
DTEND;TZID=America/Edmonton:20260316T200000
DTSTAMP:20260423T221358
CREATED:20250815T163752Z
LAST-MODIFIED:20251126T022100Z
UID:10006800-1773655200-1773691200@communitycounsellingcentre.ca
SUMMARY:Steven
DESCRIPTION:
URL:https://communitycounsellingcentre.ca/event/steven-4/2026-03-16/
LOCATION:Room 3
CATEGORIES:Room 3
END:VEVENT
BEGIN:VEVENT
DTSTART;TZID=America/Edmonton:20260313T160000
DTEND;TZID=America/Edmonton:20260313T200000
DTSTAMP:20260423T221358
CREATED:20251027T225904Z
LAST-MODIFIED:20251126T021806Z
UID:10006643-1773417600-1773432000@communitycounsellingcentre.ca
SUMMARY:Ishmal
DESCRIPTION:
URL:https://communitycounsellingcentre.ca/event/ishmal-2-2/2026-03-13/
LOCATION:Room 3
CATEGORIES:Room 3
END:VEVENT
BEGIN:VEVENT
DTSTART;TZID=America/Edmonton:20260313T100000
DTEND;TZID=America/Edmonton:20260313T140000
DTSTAMP:20260423T221358
CREATED:20251021T165214Z
LAST-MODIFIED:20260317T235202Z
UID:10005983-1773396000-1773410400@communitycounsellingcentre.ca
SUMMARY:Claire
DESCRIPTION:
URL:https://communitycounsellingcentre.ca/event/claire-2/2026-03-13/
LOCATION:Room 3
CATEGORIES:Room 3
END:VEVENT
BEGIN:VEVENT
DTSTART;TZID=America/Edmonton:20260312T140000
DTEND;TZID=America/Edmonton:20260312T200000
DTSTAMP:20260423T221358
CREATED:20260227T174239Z
LAST-MODIFIED:20260307T163310Z
UID:10007876-1773324000-1773345600@communitycounsellingcentre.ca
SUMMARY:Bo
DESCRIPTION:
URL:https://communitycounsellingcentre.ca/event/bo-12-2-2/2026-03-12/
LOCATION:Room 3
CATEGORIES:Room 3
END:VEVENT
BEGIN:VEVENT
DTSTART;TZID=America/Edmonton:20260311T150000
DTEND;TZID=America/Edmonton:20260311T210000
DTSTAMP:20260423T221358
CREATED:20240903T201801Z
LAST-MODIFIED:20260307T163448Z
UID:10008120-1773241200-1773262800@communitycounsellingcentre.ca
SUMMARY:Bo
DESCRIPTION:
URL:https://communitycounsellingcentre.ca/event/bo-4-2/2026-03-11/
LOCATION:Room 3
CATEGORIES:Room 3
END:VEVENT
BEGIN:VEVENT
DTSTART;TZID=America/Edmonton:20260311T100000
DTEND;TZID=America/Edmonton:20260311T140000
DTSTAMP:20260423T221358
CREATED:20251021T165121Z
LAST-MODIFIED:20251021T165121Z
UID:10005827-1773223200-1773237600@communitycounsellingcentre.ca
SUMMARY:Claire
DESCRIPTION:
URL:https://communitycounsellingcentre.ca/event/claire/2026-03-11/
LOCATION:Room 3
CATEGORIES:Room 3
END:VEVENT
BEGIN:VEVENT
DTSTART;TZID=America/Edmonton:20260310T120000
DTEND;TZID=America/Edmonton:20260310T200000
DTSTAMP:20260423T221358
CREATED:20250320T170016Z
LAST-MODIFIED:20251126T022218Z
UID:10006903-1773144000-1773172800@communitycounsellingcentre.ca
SUMMARY:Sabrina
DESCRIPTION:
URL:https://communitycounsellingcentre.ca/event/sabrina-7/2026-03-10/
LOCATION:Room 3
CATEGORIES:Room 3
END:VEVENT
BEGIN:VEVENT
DTSTART;TZID=America/Edmonton:20260309T100000
DTEND;TZID=America/Edmonton:20260309T200000
DTSTAMP:20260423T221358
CREATED:20250815T163752Z
LAST-MODIFIED:20251126T022100Z
UID:10006799-1773050400-1773086400@communitycounsellingcentre.ca
SUMMARY:Steven
DESCRIPTION:
URL:https://communitycounsellingcentre.ca/event/steven-4/2026-03-09/
LOCATION:Room 3
CATEGORIES:Room 3
END:VEVENT
BEGIN:VEVENT
DTSTART;TZID=America/Edmonton:20260306T160000
DTEND;TZID=America/Edmonton:20260306T200000
DTSTAMP:20260423T221358
CREATED:20251027T225904Z
LAST-MODIFIED:20251126T021806Z
UID:10006642-1772812800-1772827200@communitycounsellingcentre.ca
SUMMARY:Ishmal
DESCRIPTION:
URL:https://communitycounsellingcentre.ca/event/ishmal-2-2/2026-03-06/
LOCATION:Room 3
CATEGORIES:Room 3
END:VEVENT
BEGIN:VEVENT
DTSTART;TZID=America/Edmonton:20260306T100000
DTEND;TZID=America/Edmonton:20260306T140000
DTSTAMP:20260423T221358
CREATED:20251021T165214Z
LAST-MODIFIED:20260317T235202Z
UID:10005982-1772791200-1772805600@communitycounsellingcentre.ca
SUMMARY:Claire
DESCRIPTION:
URL:https://communitycounsellingcentre.ca/event/claire-2/2026-03-06/
LOCATION:Room 3
CATEGORIES:Room 3
END:VEVENT
BEGIN:VEVENT
DTSTART;TZID=America/Edmonton:20260305T140000
DTEND;TZID=America/Edmonton:20260305T200000
DTSTAMP:20260423T221358
CREATED:20260227T174239Z
LAST-MODIFIED:20260307T163310Z
UID:10007875-1772719200-1772740800@communitycounsellingcentre.ca
SUMMARY:Bo
DESCRIPTION:
URL:https://communitycounsellingcentre.ca/event/bo-12-2-2/2026-03-05/
LOCATION:Room 3
CATEGORIES:Room 3
END:VEVENT
BEGIN:VEVENT
DTSTART;TZID=America/Edmonton:20260304T150000
DTEND;TZID=America/Edmonton:20260304T210000
DTSTAMP:20260423T221358
CREATED:20240903T201801Z
LAST-MODIFIED:20260307T163448Z
UID:10008119-1772636400-1772658000@communitycounsellingcentre.ca
SUMMARY:Bo
DESCRIPTION:
URL:https://communitycounsellingcentre.ca/event/bo-4-2/2026-03-04/
LOCATION:Room 3
CATEGORIES:Room 3
END:VEVENT
BEGIN:VEVENT
DTSTART;TZID=America/Edmonton:20260304T100000
DTEND;TZID=America/Edmonton:20260304T140000
DTSTAMP:20260423T221358
CREATED:20251021T165121Z
LAST-MODIFIED:20251021T165121Z
UID:10005826-1772618400-1772632800@communitycounsellingcentre.ca
SUMMARY:Claire
DESCRIPTION:
URL:https://communitycounsellingcentre.ca/event/claire/2026-03-04/
LOCATION:Room 3
CATEGORIES:Room 3
END:VEVENT
BEGIN:VEVENT
DTSTART;TZID=America/Edmonton:20260303T120000
DTEND;TZID=America/Edmonton:20260303T200000
DTSTAMP:20260423T221358
CREATED:20250320T170016Z
LAST-MODIFIED:20251126T022218Z
UID:10006902-1772539200-1772568000@communitycounsellingcentre.ca
SUMMARY:Sabrina
DESCRIPTION:
URL:https://communitycounsellingcentre.ca/event/sabrina-7/2026-03-03/
LOCATION:Room 3
CATEGORIES:Room 3
END:VEVENT
BEGIN:VEVENT
DTSTART;TZID=America/Edmonton:20260302T100000
DTEND;TZID=America/Edmonton:20260302T200000
DTSTAMP:20260423T221358
CREATED:20250815T163752Z
LAST-MODIFIED:20251126T022100Z
UID:10006798-1772445600-1772481600@communitycounsellingcentre.ca
SUMMARY:Steven
DESCRIPTION:
URL:https://communitycounsellingcentre.ca/event/steven-4/2026-03-02/
LOCATION:Room 3
CATEGORIES:Room 3
END:VEVENT
BEGIN:VEVENT
DTSTART;TZID=America/Edmonton:20260227T160000
DTEND;TZID=America/Edmonton:20260227T200000
DTSTAMP:20260423T221358
CREATED:20251027T225904Z
LAST-MODIFIED:20251126T021806Z
UID:10006641-1772208000-1772222400@communitycounsellingcentre.ca
SUMMARY:Ishmal
DESCRIPTION:
URL:https://communitycounsellingcentre.ca/event/ishmal-2-2/2026-02-27/
LOCATION:Room 3
CATEGORIES:Room 3
END:VEVENT
BEGIN:VEVENT
DTSTART;TZID=America/Edmonton:20260227T100000
DTEND;TZID=America/Edmonton:20260227T140000
DTSTAMP:20260423T221358
CREATED:20251021T165214Z
LAST-MODIFIED:20260317T235202Z
UID:10005981-1772186400-1772200800@communitycounsellingcentre.ca
SUMMARY:Claire
DESCRIPTION:
URL:https://communitycounsellingcentre.ca/event/claire-2/2026-02-27/
LOCATION:Room 3
CATEGORIES:Room 3
END:VEVENT
BEGIN:VEVENT
DTSTART;TZID=America/Edmonton:20260225T150000
DTEND;TZID=America/Edmonton:20260225T210000
DTSTAMP:20260423T221358
CREATED:20240903T201801Z
LAST-MODIFIED:20260307T163448Z
UID:10008118-1772031600-1772053200@communitycounsellingcentre.ca
SUMMARY:Bo
DESCRIPTION:
URL:https://communitycounsellingcentre.ca/event/bo-4-2/2026-02-25/
LOCATION:Room 3
CATEGORIES:Room 3
END:VEVENT
BEGIN:VEVENT
DTSTART;TZID=America/Edmonton:20260225T100000
DTEND;TZID=America/Edmonton:20260225T140000
DTSTAMP:20260423T221358
CREATED:20251021T165121Z
LAST-MODIFIED:20251021T165121Z
UID:10005825-1772013600-1772028000@communitycounsellingcentre.ca
SUMMARY:Claire
DESCRIPTION:
URL:https://communitycounsellingcentre.ca/event/claire/2026-02-25/
LOCATION:Room 3
CATEGORIES:Room 3
END:VEVENT
BEGIN:VEVENT
DTSTART;TZID=America/Edmonton:20260224T120000
DTEND;TZID=America/Edmonton:20260224T200000
DTSTAMP:20260423T221358
CREATED:20250320T170016Z
LAST-MODIFIED:20251126T022218Z
UID:10006901-1771934400-1771963200@communitycounsellingcentre.ca
SUMMARY:Sabrina
DESCRIPTION:
URL:https://communitycounsellingcentre.ca/event/sabrina-7/2026-02-24/
LOCATION:Room 3
CATEGORIES:Room 3
END:VEVENT
BEGIN:VEVENT
DTSTART;TZID=America/Edmonton:20260223T100000
DTEND;TZID=America/Edmonton:20260223T200000
DTSTAMP:20260423T221358
CREATED:20250815T163752Z
LAST-MODIFIED:20251126T022100Z
UID:10006797-1771840800-1771876800@communitycounsellingcentre.ca
SUMMARY:Steven
DESCRIPTION:
URL:https://communitycounsellingcentre.ca/event/steven-4/2026-02-23/
LOCATION:Room 3
CATEGORIES:Room 3
END:VEVENT
BEGIN:VEVENT
DTSTART;TZID=America/Edmonton:20260220T160000
DTEND;TZID=America/Edmonton:20260220T200000
DTSTAMP:20260423T221358
CREATED:20251027T225904Z
LAST-MODIFIED:20251126T021806Z
UID:10006640-1771603200-1771617600@communitycounsellingcentre.ca
SUMMARY:Ishmal
DESCRIPTION:
URL:https://communitycounsellingcentre.ca/event/ishmal-2-2/2026-02-20/
LOCATION:Room 3
CATEGORIES:Room 3
END:VEVENT
BEGIN:VEVENT
DTSTART;TZID=America/Edmonton:20260220T100000
DTEND;TZID=America/Edmonton:20260220T140000
DTSTAMP:20260423T221358
CREATED:20251021T165214Z
LAST-MODIFIED:20260317T235202Z
UID:10005980-1771581600-1771596000@communitycounsellingcentre.ca
SUMMARY:Claire
DESCRIPTION:
URL:https://communitycounsellingcentre.ca/event/claire-2/2026-02-20/
LOCATION:Room 3
CATEGORIES:Room 3
END:VEVENT
BEGIN:VEVENT
DTSTART;TZID=America/Edmonton:20260218T150000
DTEND;TZID=America/Edmonton:20260218T210000
DTSTAMP:20260423T221358
CREATED:20240903T201801Z
LAST-MODIFIED:20260307T163448Z
UID:10008117-1771426800-1771448400@communitycounsellingcentre.ca
SUMMARY:Bo
DESCRIPTION:
URL:https://communitycounsellingcentre.ca/event/bo-4-2/2026-02-18/
LOCATION:Room 3
CATEGORIES:Room 3
END:VEVENT
BEGIN:VEVENT
DTSTART;TZID=America/Edmonton:20260218T100000
DTEND;TZID=America/Edmonton:20260218T140000
DTSTAMP:20260423T221358
CREATED:20251021T165121Z
LAST-MODIFIED:20251021T165121Z
UID:10005824-1771408800-1771423200@communitycounsellingcentre.ca
SUMMARY:Claire
DESCRIPTION:
URL:https://communitycounsellingcentre.ca/event/claire/2026-02-18/
LOCATION:Room 3
CATEGORIES:Room 3
END:VEVENT
BEGIN:VEVENT
DTSTART;TZID=America/Edmonton:20260217T120000
DTEND;TZID=America/Edmonton:20260217T200000
DTSTAMP:20260423T221358
CREATED:20250320T170016Z
LAST-MODIFIED:20251126T022218Z
UID:10006900-1771329600-1771358400@communitycounsellingcentre.ca
SUMMARY:Sabrina
DESCRIPTION:
URL:https://communitycounsellingcentre.ca/event/sabrina-7/2026-02-17/
LOCATION:Room 3
CATEGORIES:Room 3
END:VEVENT
END:VCALENDAR