BEGIN:VCALENDAR
VERSION:2.0
PRODID:-//Community Counselling Centre - ECPv6.13.1//NONSGML v1.0//EN
CALSCALE:GREGORIAN
METHOD:PUBLISH
X-WR-CALNAME:Community Counselling Centre
X-ORIGINAL-URL:https://communitycounsellingcentre.ca
X-WR-CALDESC:Events for Community Counselling Centre
REFRESH-INTERVAL;VALUE=DURATION:PT1H
X-Robots-Tag:noindex
X-PUBLISHED-TTL:PT1H
BEGIN:VTIMEZONE
TZID:America/Edmonton
BEGIN:DAYLIGHT
TZOFFSETFROM:-0700
TZOFFSETTO:-0600
TZNAME:MDT
DTSTART:20260308T090000
END:DAYLIGHT
BEGIN:STANDARD
TZOFFSETFROM:-0600
TZOFFSETTO:-0700
TZNAME:MST
DTSTART:20261101T080000
END:STANDARD
END:VTIMEZONE
BEGIN:VEVENT
DTSTART;TZID=America/Edmonton:20260701T150000
DTEND;TZID=America/Edmonton:20260701T210000
DTSTAMP:20260423T235339
CREATED:20240903T201801Z
LAST-MODIFIED:20260307T163448Z
UID:10008136-1782918000-1782939600@communitycounsellingcentre.ca
SUMMARY:Bo
DESCRIPTION:
URL:https://communitycounsellingcentre.ca/event/bo-4-2/2026-07-01/
LOCATION:Room 3
CATEGORIES:Room 3
END:VEVENT
BEGIN:VEVENT
DTSTART;TZID=America/Edmonton:20260702T140000
DTEND;TZID=America/Edmonton:20260702T200000
DTSTAMP:20260423T235339
CREATED:20260227T174239Z
LAST-MODIFIED:20260307T163310Z
UID:10007892-1783000800-1783022400@communitycounsellingcentre.ca
SUMMARY:Bo
DESCRIPTION:
URL:https://communitycounsellingcentre.ca/event/bo-12-2-2/2026-07-02/
LOCATION:Room 3
CATEGORIES:Room 3
END:VEVENT
BEGIN:VEVENT
DTSTART;TZID=America/Edmonton:20260703T160000
DTEND;TZID=America/Edmonton:20260703T200000
DTSTAMP:20260423T235339
CREATED:20251027T225904Z
LAST-MODIFIED:20251126T021806Z
UID:10006659-1783094400-1783108800@communitycounsellingcentre.ca
SUMMARY:Ishmal
DESCRIPTION:
URL:https://communitycounsellingcentre.ca/event/ishmal-2-2/2026-07-03/
LOCATION:Room 3
CATEGORIES:Room 3
END:VEVENT
BEGIN:VEVENT
DTSTART;TZID=America/Edmonton:20260706T100000
DTEND;TZID=America/Edmonton:20260706T200000
DTSTAMP:20260423T235339
CREATED:20250815T163752Z
LAST-MODIFIED:20251126T022100Z
UID:10006816-1783332000-1783368000@communitycounsellingcentre.ca
SUMMARY:Steven
DESCRIPTION:
URL:https://communitycounsellingcentre.ca/event/steven-4/2026-07-06/
LOCATION:Room 3
CATEGORIES:Room 3
END:VEVENT
BEGIN:VEVENT
DTSTART;TZID=America/Edmonton:20260707T120000
DTEND;TZID=America/Edmonton:20260707T200000
DTSTAMP:20260423T235339
CREATED:20250320T170016Z
LAST-MODIFIED:20251126T022218Z
UID:10006920-1783425600-1783454400@communitycounsellingcentre.ca
SUMMARY:Sabrina
DESCRIPTION:
URL:https://communitycounsellingcentre.ca/event/sabrina-7/2026-07-07/
LOCATION:Room 3
CATEGORIES:Room 3
END:VEVENT
BEGIN:VEVENT
DTSTART;TZID=America/Edmonton:20260708T100000
DTEND;TZID=America/Edmonton:20260708T140000
DTSTAMP:20260423T235339
CREATED:20251021T165121Z
LAST-MODIFIED:20251021T165121Z
UID:10005844-1783504800-1783519200@communitycounsellingcentre.ca
SUMMARY:Claire
DESCRIPTION:
URL:https://communitycounsellingcentre.ca/event/claire/2026-07-08/
LOCATION:Room 3
CATEGORIES:Room 3
END:VEVENT
BEGIN:VEVENT
DTSTART;TZID=America/Edmonton:20260708T150000
DTEND;TZID=America/Edmonton:20260708T210000
DTSTAMP:20260423T235339
CREATED:20240903T201801Z
LAST-MODIFIED:20260307T163448Z
UID:10008137-1783522800-1783544400@communitycounsellingcentre.ca
SUMMARY:Bo
DESCRIPTION:
URL:https://communitycounsellingcentre.ca/event/bo-4-2/2026-07-08/
LOCATION:Room 3
CATEGORIES:Room 3
END:VEVENT
BEGIN:VEVENT
DTSTART;TZID=America/Edmonton:20260709T140000
DTEND;TZID=America/Edmonton:20260709T200000
DTSTAMP:20260423T235339
CREATED:20260227T174239Z
LAST-MODIFIED:20260307T163310Z
UID:10007893-1783605600-1783627200@communitycounsellingcentre.ca
SUMMARY:Bo
DESCRIPTION:
URL:https://communitycounsellingcentre.ca/event/bo-12-2-2/2026-07-09/
LOCATION:Room 3
CATEGORIES:Room 3
END:VEVENT
BEGIN:VEVENT
DTSTART;TZID=America/Edmonton:20260710T160000
DTEND;TZID=America/Edmonton:20260710T200000
DTSTAMP:20260423T235339
CREATED:20251027T225904Z
LAST-MODIFIED:20251126T021806Z
UID:10006660-1783699200-1783713600@communitycounsellingcentre.ca
SUMMARY:Ishmal
DESCRIPTION:
URL:https://communitycounsellingcentre.ca/event/ishmal-2-2/2026-07-10/
LOCATION:Room 3
CATEGORIES:Room 3
END:VEVENT
BEGIN:VEVENT
DTSTART;TZID=America/Edmonton:20260713T100000
DTEND;TZID=America/Edmonton:20260713T200000
DTSTAMP:20260423T235339
CREATED:20250815T163752Z
LAST-MODIFIED:20251126T022100Z
UID:10006817-1783936800-1783972800@communitycounsellingcentre.ca
SUMMARY:Steven
DESCRIPTION:
URL:https://communitycounsellingcentre.ca/event/steven-4/2026-07-13/
LOCATION:Room 3
CATEGORIES:Room 3
END:VEVENT
BEGIN:VEVENT
DTSTART;TZID=America/Edmonton:20260714T120000
DTEND;TZID=America/Edmonton:20260714T200000
DTSTAMP:20260423T235339
CREATED:20250320T170016Z
LAST-MODIFIED:20251126T022218Z
UID:10006921-1784030400-1784059200@communitycounsellingcentre.ca
SUMMARY:Sabrina
DESCRIPTION:
URL:https://communitycounsellingcentre.ca/event/sabrina-7/2026-07-14/
LOCATION:Room 3
CATEGORIES:Room 3
END:VEVENT
BEGIN:VEVENT
DTSTART;TZID=America/Edmonton:20260715T100000
DTEND;TZID=America/Edmonton:20260715T140000
DTSTAMP:20260423T235339
CREATED:20251021T165121Z
LAST-MODIFIED:20251021T165121Z
UID:10005845-1784109600-1784124000@communitycounsellingcentre.ca
SUMMARY:Claire
DESCRIPTION:
URL:https://communitycounsellingcentre.ca/event/claire/2026-07-15/
LOCATION:Room 3
CATEGORIES:Room 3
END:VEVENT
BEGIN:VEVENT
DTSTART;TZID=America/Edmonton:20260715T150000
DTEND;TZID=America/Edmonton:20260715T210000
DTSTAMP:20260423T235339
CREATED:20240903T201801Z
LAST-MODIFIED:20260307T163448Z
UID:10008138-1784127600-1784149200@communitycounsellingcentre.ca
SUMMARY:Bo
DESCRIPTION:
URL:https://communitycounsellingcentre.ca/event/bo-4-2/2026-07-15/
LOCATION:Room 3
CATEGORIES:Room 3
END:VEVENT
BEGIN:VEVENT
DTSTART;TZID=America/Edmonton:20260716T140000
DTEND;TZID=America/Edmonton:20260716T200000
DTSTAMP:20260423T235339
CREATED:20260227T174239Z
LAST-MODIFIED:20260307T163310Z
UID:10007894-1784210400-1784232000@communitycounsellingcentre.ca
SUMMARY:Bo
DESCRIPTION:
URL:https://communitycounsellingcentre.ca/event/bo-12-2-2/2026-07-16/
LOCATION:Room 3
CATEGORIES:Room 3
END:VEVENT
BEGIN:VEVENT
DTSTART;TZID=America/Edmonton:20260717T160000
DTEND;TZID=America/Edmonton:20260717T200000
DTSTAMP:20260423T235339
CREATED:20251027T225904Z
LAST-MODIFIED:20251126T021806Z
UID:10006661-1784304000-1784318400@communitycounsellingcentre.ca
SUMMARY:Ishmal
DESCRIPTION:
URL:https://communitycounsellingcentre.ca/event/ishmal-2-2/2026-07-17/
LOCATION:Room 3
CATEGORIES:Room 3
END:VEVENT
BEGIN:VEVENT
DTSTART;TZID=America/Edmonton:20260720T100000
DTEND;TZID=America/Edmonton:20260720T200000
DTSTAMP:20260423T235339
CREATED:20250815T163752Z
LAST-MODIFIED:20251126T022100Z
UID:10006818-1784541600-1784577600@communitycounsellingcentre.ca
SUMMARY:Steven
DESCRIPTION:
URL:https://communitycounsellingcentre.ca/event/steven-4/2026-07-20/
LOCATION:Room 3
CATEGORIES:Room 3
END:VEVENT
BEGIN:VEVENT
DTSTART;TZID=America/Edmonton:20260721T120000
DTEND;TZID=America/Edmonton:20260721T200000
DTSTAMP:20260423T235339
CREATED:20250320T170016Z
LAST-MODIFIED:20251126T022218Z
UID:10006922-1784635200-1784664000@communitycounsellingcentre.ca
SUMMARY:Sabrina
DESCRIPTION:
URL:https://communitycounsellingcentre.ca/event/sabrina-7/2026-07-21/
LOCATION:Room 3
CATEGORIES:Room 3
END:VEVENT
BEGIN:VEVENT
DTSTART;TZID=America/Edmonton:20260722T100000
DTEND;TZID=America/Edmonton:20260722T140000
DTSTAMP:20260423T235339
CREATED:20251021T165121Z
LAST-MODIFIED:20251021T165121Z
UID:10005846-1784714400-1784728800@communitycounsellingcentre.ca
SUMMARY:Claire
DESCRIPTION:
URL:https://communitycounsellingcentre.ca/event/claire/2026-07-22/
LOCATION:Room 3
CATEGORIES:Room 3
END:VEVENT
BEGIN:VEVENT
DTSTART;TZID=America/Edmonton:20260722T150000
DTEND;TZID=America/Edmonton:20260722T210000
DTSTAMP:20260423T235339
CREATED:20240903T201801Z
LAST-MODIFIED:20260307T163448Z
UID:10008139-1784732400-1784754000@communitycounsellingcentre.ca
SUMMARY:Bo
DESCRIPTION:
URL:https://communitycounsellingcentre.ca/event/bo-4-2/2026-07-22/
LOCATION:Room 3
CATEGORIES:Room 3
END:VEVENT
BEGIN:VEVENT
DTSTART;TZID=America/Edmonton:20260723T140000
DTEND;TZID=America/Edmonton:20260723T200000
DTSTAMP:20260423T235339
CREATED:20260227T174239Z
LAST-MODIFIED:20260307T163310Z
UID:10007895-1784815200-1784836800@communitycounsellingcentre.ca
SUMMARY:Bo
DESCRIPTION:
URL:https://communitycounsellingcentre.ca/event/bo-12-2-2/2026-07-23/
LOCATION:Room 3
CATEGORIES:Room 3
END:VEVENT
BEGIN:VEVENT
DTSTART;TZID=America/Edmonton:20260724T160000
DTEND;TZID=America/Edmonton:20260724T200000
DTSTAMP:20260423T235339
CREATED:20251027T225904Z
LAST-MODIFIED:20251126T021806Z
UID:10006662-1784908800-1784923200@communitycounsellingcentre.ca
SUMMARY:Ishmal
DESCRIPTION:
URL:https://communitycounsellingcentre.ca/event/ishmal-2-2/2026-07-24/
LOCATION:Room 3
CATEGORIES:Room 3
END:VEVENT
BEGIN:VEVENT
DTSTART;TZID=America/Edmonton:20260727T100000
DTEND;TZID=America/Edmonton:20260727T200000
DTSTAMP:20260423T235339
CREATED:20250815T163752Z
LAST-MODIFIED:20251126T022100Z
UID:10006819-1785146400-1785182400@communitycounsellingcentre.ca
SUMMARY:Steven
DESCRIPTION:
URL:https://communitycounsellingcentre.ca/event/steven-4/2026-07-27/
LOCATION:Room 3
CATEGORIES:Room 3
END:VEVENT
BEGIN:VEVENT
DTSTART;TZID=America/Edmonton:20260728T120000
DTEND;TZID=America/Edmonton:20260728T200000
DTSTAMP:20260423T235339
CREATED:20250320T170016Z
LAST-MODIFIED:20251126T022218Z
UID:10006923-1785240000-1785268800@communitycounsellingcentre.ca
SUMMARY:Sabrina
DESCRIPTION:
URL:https://communitycounsellingcentre.ca/event/sabrina-7/2026-07-28/
LOCATION:Room 3
CATEGORIES:Room 3
END:VEVENT
BEGIN:VEVENT
DTSTART;TZID=America/Edmonton:20260729T100000
DTEND;TZID=America/Edmonton:20260729T140000
DTSTAMP:20260423T235339
CREATED:20251021T165121Z
LAST-MODIFIED:20251021T165121Z
UID:10005847-1785319200-1785333600@communitycounsellingcentre.ca
SUMMARY:Claire
DESCRIPTION:
URL:https://communitycounsellingcentre.ca/event/claire/2026-07-29/
LOCATION:Room 3
CATEGORIES:Room 3
END:VEVENT
BEGIN:VEVENT
DTSTART;TZID=America/Edmonton:20260729T150000
DTEND;TZID=America/Edmonton:20260729T210000
DTSTAMP:20260423T235339
CREATED:20240903T201801Z
LAST-MODIFIED:20260307T163448Z
UID:10008140-1785337200-1785358800@communitycounsellingcentre.ca
SUMMARY:Bo
DESCRIPTION:
URL:https://communitycounsellingcentre.ca/event/bo-4-2/2026-07-29/
LOCATION:Room 3
CATEGORIES:Room 3
END:VEVENT
BEGIN:VEVENT
DTSTART;TZID=America/Edmonton:20260730T140000
DTEND;TZID=America/Edmonton:20260730T200000
DTSTAMP:20260423T235339
CREATED:20260227T174239Z
LAST-MODIFIED:20260307T163310Z
UID:10007896-1785420000-1785441600@communitycounsellingcentre.ca
SUMMARY:Bo
DESCRIPTION:
URL:https://communitycounsellingcentre.ca/event/bo-12-2-2/2026-07-30/
LOCATION:Room 3
CATEGORIES:Room 3
END:VEVENT
BEGIN:VEVENT
DTSTART;TZID=America/Edmonton:20260731T160000
DTEND;TZID=America/Edmonton:20260731T200000
DTSTAMP:20260423T235339
CREATED:20251027T225904Z
LAST-MODIFIED:20251126T021806Z
UID:10006663-1785513600-1785528000@communitycounsellingcentre.ca
SUMMARY:Ishmal
DESCRIPTION:
URL:https://communitycounsellingcentre.ca/event/ishmal-2-2/2026-07-31/
LOCATION:Room 3
CATEGORIES:Room 3
END:VEVENT
BEGIN:VEVENT
DTSTART;TZID=America/Edmonton:20260803T100000
DTEND;TZID=America/Edmonton:20260803T200000
DTSTAMP:20260423T235339
CREATED:20250815T163752Z
LAST-MODIFIED:20251126T022100Z
UID:10006820-1785751200-1785787200@communitycounsellingcentre.ca
SUMMARY:Steven
DESCRIPTION:
URL:https://communitycounsellingcentre.ca/event/steven-4/2026-08-03/
LOCATION:Room 3
CATEGORIES:Room 3
END:VEVENT
BEGIN:VEVENT
DTSTART;TZID=America/Edmonton:20260804T120000
DTEND;TZID=America/Edmonton:20260804T200000
DTSTAMP:20260423T235339
CREATED:20250320T170016Z
LAST-MODIFIED:20251126T022218Z
UID:10006924-1785844800-1785873600@communitycounsellingcentre.ca
SUMMARY:Sabrina
DESCRIPTION:
URL:https://communitycounsellingcentre.ca/event/sabrina-7/2026-08-04/
LOCATION:Room 3
CATEGORIES:Room 3
END:VEVENT
BEGIN:VEVENT
DTSTART;TZID=America/Edmonton:20260805T100000
DTEND;TZID=America/Edmonton:20260805T140000
DTSTAMP:20260423T235339
CREATED:20251021T165121Z
LAST-MODIFIED:20251021T165121Z
UID:10005848-1785924000-1785938400@communitycounsellingcentre.ca
SUMMARY:Claire
DESCRIPTION:
URL:https://communitycounsellingcentre.ca/event/claire/2026-08-05/
LOCATION:Room 3
CATEGORIES:Room 3
END:VEVENT
END:VCALENDAR