BEGIN:VCALENDAR
VERSION:2.0
PRODID:-//Community Counselling Centre - ECPv6.13.1//NONSGML v1.0//EN
CALSCALE:GREGORIAN
METHOD:PUBLISH
X-ORIGINAL-URL:https://communitycounsellingcentre.ca
X-WR-CALDESC:Events for Community Counselling Centre
REFRESH-INTERVAL;VALUE=DURATION:PT1H
X-Robots-Tag:noindex
X-PUBLISHED-TTL:PT1H
BEGIN:VTIMEZONE
TZID:America/Edmonton
BEGIN:DAYLIGHT
TZOFFSETFROM:-0700
TZOFFSETTO:-0600
TZNAME:MDT
DTSTART:20260308T090000
END:DAYLIGHT
BEGIN:STANDARD
TZOFFSETFROM:-0600
TZOFFSETTO:-0700
TZNAME:MST
DTSTART:20261101T080000
END:STANDARD
END:VTIMEZONE
BEGIN:VEVENT
DTSTART;TZID=America/Edmonton:20260901T110000
DTEND;TZID=America/Edmonton:20260901T200000
DTSTAMP:20260424T143239
CREATED:20250605T221014Z
LAST-MODIFIED:20251126T022158Z
UID:10006876-1788260400-1788292800@communitycounsellingcentre.ca
SUMMARY:Steven
DESCRIPTION:
URL:https://communitycounsellingcentre.ca/event/steven-2-2/2026-09-01/
LOCATION:Room 5
CATEGORIES:Room 5
END:VEVENT
BEGIN:VEVENT
DTSTART;TZID=America/Edmonton:20260902T160000
DTEND;TZID=America/Edmonton:20260902T200000
DTSTAMP:20260424T143239
CREATED:20251028T221611Z
LAST-MODIFIED:20251126T021718Z
UID:10006615-1788364800-1788379200@communitycounsellingcentre.ca
SUMMARY:Ishmal
DESCRIPTION:
URL:https://communitycounsellingcentre.ca/event/ishmal-5-2/2026-09-02/
LOCATION:Room 5
CATEGORIES:Room 5
END:VEVENT
BEGIN:VEVENT
DTSTART;TZID=America/Edmonton:20260904T110000
DTEND;TZID=America/Edmonton:20260904T170000
DTSTAMP:20260424T143239
CREATED:20251126T023803Z
LAST-MODIFIED:20260105T163325Z
UID:10007505-1788519600-1788541200@communitycounsellingcentre.ca
SUMMARY:Wajed
DESCRIPTION:
URL:https://communitycounsellingcentre.ca/event/wajed-2/2026-09-04/
LOCATION:Room 5
CATEGORIES:Room 5
END:VEVENT
BEGIN:VEVENT
DTSTART;TZID=America/Edmonton:20260905T100000
DTEND;TZID=America/Edmonton:20260905T180000
DTSTAMP:20260424T143239
CREATED:20250426T031802Z
LAST-MODIFIED:20251126T022353Z
UID:10007087-1788602400-1788631200@communitycounsellingcentre.ca
SUMMARY:Fan
DESCRIPTION:
URL:https://communitycounsellingcentre.ca/event/fan-4-2/2026-09-05/
LOCATION:Room 5
CATEGORIES:Room 5
END:VEVENT
BEGIN:VEVENT
DTSTART;TZID=America/Edmonton:20260907T130000
DTEND;TZID=America/Edmonton:20260907T200000
DTSTAMP:20260424T143239
CREATED:20251126T023704Z
LAST-MODIFIED:20251126T023704Z
UID:10007453-1788786000-1788811200@communitycounsellingcentre.ca
SUMMARY:Wajed
DESCRIPTION:
URL:https://communitycounsellingcentre.ca/event/wajed/2026-09-07/
LOCATION:Room 5
CATEGORIES:Room 5
END:VEVENT
BEGIN:VEVENT
DTSTART;TZID=America/Edmonton:20260908T110000
DTEND;TZID=America/Edmonton:20260908T200000
DTSTAMP:20260424T143239
CREATED:20250605T221014Z
LAST-MODIFIED:20251126T022158Z
UID:10006877-1788865200-1788897600@communitycounsellingcentre.ca
SUMMARY:Steven
DESCRIPTION:
URL:https://communitycounsellingcentre.ca/event/steven-2-2/2026-09-08/
LOCATION:Room 5
CATEGORIES:Room 5
END:VEVENT
BEGIN:VEVENT
DTSTART;TZID=America/Edmonton:20260909T160000
DTEND;TZID=America/Edmonton:20260909T200000
DTSTAMP:20260424T143239
CREATED:20251028T221611Z
LAST-MODIFIED:20251126T021718Z
UID:10006616-1788969600-1788984000@communitycounsellingcentre.ca
SUMMARY:Ishmal
DESCRIPTION:
URL:https://communitycounsellingcentre.ca/event/ishmal-5-2/2026-09-09/
LOCATION:Room 5
CATEGORIES:Room 5
END:VEVENT
BEGIN:VEVENT
DTSTART;TZID=America/Edmonton:20260911T110000
DTEND;TZID=America/Edmonton:20260911T170000
DTSTAMP:20260424T143239
CREATED:20251126T023803Z
LAST-MODIFIED:20260105T163325Z
UID:10007506-1789124400-1789146000@communitycounsellingcentre.ca
SUMMARY:Wajed
DESCRIPTION:
URL:https://communitycounsellingcentre.ca/event/wajed-2/2026-09-11/
LOCATION:Room 5
CATEGORIES:Room 5
END:VEVENT
BEGIN:VEVENT
DTSTART;TZID=America/Edmonton:20260912T100000
DTEND;TZID=America/Edmonton:20260912T180000
DTSTAMP:20260424T143239
CREATED:20250426T031802Z
LAST-MODIFIED:20251126T022353Z
UID:10007088-1789207200-1789236000@communitycounsellingcentre.ca
SUMMARY:Fan
DESCRIPTION:
URL:https://communitycounsellingcentre.ca/event/fan-4-2/2026-09-12/
LOCATION:Room 5
CATEGORIES:Room 5
END:VEVENT
BEGIN:VEVENT
DTSTART;TZID=America/Edmonton:20260914T130000
DTEND;TZID=America/Edmonton:20260914T200000
DTSTAMP:20260424T143239
CREATED:20251126T023704Z
LAST-MODIFIED:20251126T023704Z
UID:10007454-1789390800-1789416000@communitycounsellingcentre.ca
SUMMARY:Wajed
DESCRIPTION:
URL:https://communitycounsellingcentre.ca/event/wajed/2026-09-14/
LOCATION:Room 5
CATEGORIES:Room 5
END:VEVENT
BEGIN:VEVENT
DTSTART;TZID=America/Edmonton:20260915T110000
DTEND;TZID=America/Edmonton:20260915T200000
DTSTAMP:20260424T143239
CREATED:20250605T221014Z
LAST-MODIFIED:20251126T022158Z
UID:10006878-1789470000-1789502400@communitycounsellingcentre.ca
SUMMARY:Steven
DESCRIPTION:
URL:https://communitycounsellingcentre.ca/event/steven-2-2/2026-09-15/
LOCATION:Room 5
CATEGORIES:Room 5
END:VEVENT
BEGIN:VEVENT
DTSTART;TZID=America/Edmonton:20260916T160000
DTEND;TZID=America/Edmonton:20260916T200000
DTSTAMP:20260424T143239
CREATED:20251028T221611Z
LAST-MODIFIED:20251126T021718Z
UID:10006617-1789574400-1789588800@communitycounsellingcentre.ca
SUMMARY:Ishmal
DESCRIPTION:
URL:https://communitycounsellingcentre.ca/event/ishmal-5-2/2026-09-16/
LOCATION:Room 5
CATEGORIES:Room 5
END:VEVENT
BEGIN:VEVENT
DTSTART;TZID=America/Edmonton:20260918T110000
DTEND;TZID=America/Edmonton:20260918T170000
DTSTAMP:20260424T143239
CREATED:20251126T023803Z
LAST-MODIFIED:20260105T163325Z
UID:10007507-1789729200-1789750800@communitycounsellingcentre.ca
SUMMARY:Wajed
DESCRIPTION:
URL:https://communitycounsellingcentre.ca/event/wajed-2/2026-09-18/
LOCATION:Room 5
CATEGORIES:Room 5
END:VEVENT
BEGIN:VEVENT
DTSTART;TZID=America/Edmonton:20260919T100000
DTEND;TZID=America/Edmonton:20260919T180000
DTSTAMP:20260424T143239
CREATED:20250426T031802Z
LAST-MODIFIED:20251126T022353Z
UID:10007089-1789812000-1789840800@communitycounsellingcentre.ca
SUMMARY:Fan
DESCRIPTION:
URL:https://communitycounsellingcentre.ca/event/fan-4-2/2026-09-19/
LOCATION:Room 5
CATEGORIES:Room 5
END:VEVENT
BEGIN:VEVENT
DTSTART;TZID=America/Edmonton:20260921T130000
DTEND;TZID=America/Edmonton:20260921T200000
DTSTAMP:20260424T143239
CREATED:20251126T023704Z
LAST-MODIFIED:20251126T023704Z
UID:10007455-1789995600-1790020800@communitycounsellingcentre.ca
SUMMARY:Wajed
DESCRIPTION:
URL:https://communitycounsellingcentre.ca/event/wajed/2026-09-21/
LOCATION:Room 5
CATEGORIES:Room 5
END:VEVENT
BEGIN:VEVENT
DTSTART;TZID=America/Edmonton:20260922T110000
DTEND;TZID=America/Edmonton:20260922T200000
DTSTAMP:20260424T143239
CREATED:20250605T221014Z
LAST-MODIFIED:20251126T022158Z
UID:10006879-1790074800-1790107200@communitycounsellingcentre.ca
SUMMARY:Steven
DESCRIPTION:
URL:https://communitycounsellingcentre.ca/event/steven-2-2/2026-09-22/
LOCATION:Room 5
CATEGORIES:Room 5
END:VEVENT
BEGIN:VEVENT
DTSTART;TZID=America/Edmonton:20260923T160000
DTEND;TZID=America/Edmonton:20260923T200000
DTSTAMP:20260424T143239
CREATED:20251028T221611Z
LAST-MODIFIED:20251126T021718Z
UID:10006618-1790179200-1790193600@communitycounsellingcentre.ca
SUMMARY:Ishmal
DESCRIPTION:
URL:https://communitycounsellingcentre.ca/event/ishmal-5-2/2026-09-23/
LOCATION:Room 5
CATEGORIES:Room 5
END:VEVENT
BEGIN:VEVENT
DTSTART;TZID=America/Edmonton:20260925T110000
DTEND;TZID=America/Edmonton:20260925T170000
DTSTAMP:20260424T143239
CREATED:20251126T023803Z
LAST-MODIFIED:20260105T163325Z
UID:10007508-1790334000-1790355600@communitycounsellingcentre.ca
SUMMARY:Wajed
DESCRIPTION:
URL:https://communitycounsellingcentre.ca/event/wajed-2/2026-09-25/
LOCATION:Room 5
CATEGORIES:Room 5
END:VEVENT
BEGIN:VEVENT
DTSTART;TZID=America/Edmonton:20260926T100000
DTEND;TZID=America/Edmonton:20260926T180000
DTSTAMP:20260424T143239
CREATED:20250426T031802Z
LAST-MODIFIED:20251126T022353Z
UID:10007090-1790416800-1790445600@communitycounsellingcentre.ca
SUMMARY:Fan
DESCRIPTION:
URL:https://communitycounsellingcentre.ca/event/fan-4-2/2026-09-26/
LOCATION:Room 5
CATEGORIES:Room 5
END:VEVENT
BEGIN:VEVENT
DTSTART;TZID=America/Edmonton:20260928T130000
DTEND;TZID=America/Edmonton:20260928T200000
DTSTAMP:20260424T143239
CREATED:20251126T023704Z
LAST-MODIFIED:20251126T023704Z
UID:10007456-1790600400-1790625600@communitycounsellingcentre.ca
SUMMARY:Wajed
DESCRIPTION:
URL:https://communitycounsellingcentre.ca/event/wajed/2026-09-28/
LOCATION:Room 5
CATEGORIES:Room 5
END:VEVENT
BEGIN:VEVENT
DTSTART;TZID=America/Edmonton:20260929T110000
DTEND;TZID=America/Edmonton:20260929T200000
DTSTAMP:20260424T143239
CREATED:20250605T221014Z
LAST-MODIFIED:20251126T022158Z
UID:10006880-1790679600-1790712000@communitycounsellingcentre.ca
SUMMARY:Steven
DESCRIPTION:
URL:https://communitycounsellingcentre.ca/event/steven-2-2/2026-09-29/
LOCATION:Room 5
CATEGORIES:Room 5
END:VEVENT
BEGIN:VEVENT
DTSTART;TZID=America/Edmonton:20260930T160000
DTEND;TZID=America/Edmonton:20260930T200000
DTSTAMP:20260424T143239
CREATED:20251028T221611Z
LAST-MODIFIED:20251126T021718Z
UID:10006619-1790784000-1790798400@communitycounsellingcentre.ca
SUMMARY:Ishmal
DESCRIPTION:
URL:https://communitycounsellingcentre.ca/event/ishmal-5-2/2026-09-30/
LOCATION:Room 5
CATEGORIES:Room 5
END:VEVENT
END:VCALENDAR