BEGIN:VCALENDAR
VERSION:2.0
PRODID:-//Community Counselling Centre - ECPv6.13.1//NONSGML v1.0//EN
CALSCALE:GREGORIAN
METHOD:PUBLISH
X-ORIGINAL-URL:https://communitycounsellingcentre.ca
X-WR-CALDESC:Events for Community Counselling Centre
REFRESH-INTERVAL;VALUE=DURATION:PT1H
X-Robots-Tag:noindex
X-PUBLISHED-TTL:PT1H
BEGIN:VTIMEZONE
TZID:America/Edmonton
BEGIN:DAYLIGHT
TZOFFSETFROM:-0700
TZOFFSETTO:-0600
TZNAME:MDT
DTSTART:20260308T090000
END:DAYLIGHT
BEGIN:STANDARD
TZOFFSETFROM:-0600
TZOFFSETTO:-0700
TZNAME:MST
DTSTART:20261101T080000
END:STANDARD
END:VTIMEZONE
BEGIN:VEVENT
DTSTART;TZID=America/Edmonton:20261002T110000
DTEND;TZID=America/Edmonton:20261002T170000
DTSTAMP:20260424T170934
CREATED:20251126T023803Z
LAST-MODIFIED:20260105T163325Z
UID:10007509-1790938800-1790960400@communitycounsellingcentre.ca
SUMMARY:Wajed
DESCRIPTION:
URL:https://communitycounsellingcentre.ca/event/wajed-2/2026-10-02/
LOCATION:Room 5
CATEGORIES:Room 5
END:VEVENT
BEGIN:VEVENT
DTSTART;TZID=America/Edmonton:20261003T100000
DTEND;TZID=America/Edmonton:20261003T180000
DTSTAMP:20260424T170934
CREATED:20250426T031802Z
LAST-MODIFIED:20251126T022353Z
UID:10007091-1791021600-1791050400@communitycounsellingcentre.ca
SUMMARY:Fan
DESCRIPTION:
URL:https://communitycounsellingcentre.ca/event/fan-4-2/2026-10-03/
LOCATION:Room 5
CATEGORIES:Room 5
END:VEVENT
BEGIN:VEVENT
DTSTART;TZID=America/Edmonton:20261005T130000
DTEND;TZID=America/Edmonton:20261005T200000
DTSTAMP:20260424T170934
CREATED:20251126T023704Z
LAST-MODIFIED:20251126T023704Z
UID:10007457-1791205200-1791230400@communitycounsellingcentre.ca
SUMMARY:Wajed
DESCRIPTION:
URL:https://communitycounsellingcentre.ca/event/wajed/2026-10-05/
LOCATION:Room 5
CATEGORIES:Room 5
END:VEVENT
BEGIN:VEVENT
DTSTART;TZID=America/Edmonton:20261006T110000
DTEND;TZID=America/Edmonton:20261006T200000
DTSTAMP:20260424T170934
CREATED:20250605T221014Z
LAST-MODIFIED:20251126T022158Z
UID:10006881-1791284400-1791316800@communitycounsellingcentre.ca
SUMMARY:Steven
DESCRIPTION:
URL:https://communitycounsellingcentre.ca/event/steven-2-2/2026-10-06/
LOCATION:Room 5
CATEGORIES:Room 5
END:VEVENT
BEGIN:VEVENT
DTSTART;TZID=America/Edmonton:20261007T160000
DTEND;TZID=America/Edmonton:20261007T200000
DTSTAMP:20260424T170934
CREATED:20251028T221611Z
LAST-MODIFIED:20251126T021718Z
UID:10006620-1791388800-1791403200@communitycounsellingcentre.ca
SUMMARY:Ishmal
DESCRIPTION:
URL:https://communitycounsellingcentre.ca/event/ishmal-5-2/2026-10-07/
LOCATION:Room 5
CATEGORIES:Room 5
END:VEVENT
BEGIN:VEVENT
DTSTART;TZID=America/Edmonton:20261009T110000
DTEND;TZID=America/Edmonton:20261009T170000
DTSTAMP:20260424T170934
CREATED:20251126T023803Z
LAST-MODIFIED:20260105T163325Z
UID:10007510-1791543600-1791565200@communitycounsellingcentre.ca
SUMMARY:Wajed
DESCRIPTION:
URL:https://communitycounsellingcentre.ca/event/wajed-2/2026-10-09/
LOCATION:Room 5
CATEGORIES:Room 5
END:VEVENT
BEGIN:VEVENT
DTSTART;TZID=America/Edmonton:20261010T100000
DTEND;TZID=America/Edmonton:20261010T180000
DTSTAMP:20260424T170934
CREATED:20250426T031802Z
LAST-MODIFIED:20251126T022353Z
UID:10007092-1791626400-1791655200@communitycounsellingcentre.ca
SUMMARY:Fan
DESCRIPTION:
URL:https://communitycounsellingcentre.ca/event/fan-4-2/2026-10-10/
LOCATION:Room 5
CATEGORIES:Room 5
END:VEVENT
BEGIN:VEVENT
DTSTART;TZID=America/Edmonton:20261012T130000
DTEND;TZID=America/Edmonton:20261012T200000
DTSTAMP:20260424T170934
CREATED:20251126T023704Z
LAST-MODIFIED:20251126T023704Z
UID:10007458-1791810000-1791835200@communitycounsellingcentre.ca
SUMMARY:Wajed
DESCRIPTION:
URL:https://communitycounsellingcentre.ca/event/wajed/2026-10-12/
LOCATION:Room 5
CATEGORIES:Room 5
END:VEVENT
BEGIN:VEVENT
DTSTART;TZID=America/Edmonton:20261013T110000
DTEND;TZID=America/Edmonton:20261013T200000
DTSTAMP:20260424T170934
CREATED:20250605T221014Z
LAST-MODIFIED:20251126T022158Z
UID:10006882-1791889200-1791921600@communitycounsellingcentre.ca
SUMMARY:Steven
DESCRIPTION:
URL:https://communitycounsellingcentre.ca/event/steven-2-2/2026-10-13/
LOCATION:Room 5
CATEGORIES:Room 5
END:VEVENT
BEGIN:VEVENT
DTSTART;TZID=America/Edmonton:20261014T160000
DTEND;TZID=America/Edmonton:20261014T200000
DTSTAMP:20260424T170934
CREATED:20251028T221611Z
LAST-MODIFIED:20251126T021718Z
UID:10006621-1791993600-1792008000@communitycounsellingcentre.ca
SUMMARY:Ishmal
DESCRIPTION:
URL:https://communitycounsellingcentre.ca/event/ishmal-5-2/2026-10-14/
LOCATION:Room 5
CATEGORIES:Room 5
END:VEVENT
BEGIN:VEVENT
DTSTART;TZID=America/Edmonton:20261016T110000
DTEND;TZID=America/Edmonton:20261016T170000
DTSTAMP:20260424T170934
CREATED:20251126T023803Z
LAST-MODIFIED:20260105T163325Z
UID:10007511-1792148400-1792170000@communitycounsellingcentre.ca
SUMMARY:Wajed
DESCRIPTION:
URL:https://communitycounsellingcentre.ca/event/wajed-2/2026-10-16/
LOCATION:Room 5
CATEGORIES:Room 5
END:VEVENT
BEGIN:VEVENT
DTSTART;TZID=America/Edmonton:20261017T100000
DTEND;TZID=America/Edmonton:20261017T180000
DTSTAMP:20260424T170934
CREATED:20250426T031802Z
LAST-MODIFIED:20251126T022353Z
UID:10007093-1792231200-1792260000@communitycounsellingcentre.ca
SUMMARY:Fan
DESCRIPTION:
URL:https://communitycounsellingcentre.ca/event/fan-4-2/2026-10-17/
LOCATION:Room 5
CATEGORIES:Room 5
END:VEVENT
BEGIN:VEVENT
DTSTART;TZID=America/Edmonton:20261019T130000
DTEND;TZID=America/Edmonton:20261019T200000
DTSTAMP:20260424T170934
CREATED:20251126T023704Z
LAST-MODIFIED:20251126T023704Z
UID:10007459-1792414800-1792440000@communitycounsellingcentre.ca
SUMMARY:Wajed
DESCRIPTION:
URL:https://communitycounsellingcentre.ca/event/wajed/2026-10-19/
LOCATION:Room 5
CATEGORIES:Room 5
END:VEVENT
BEGIN:VEVENT
DTSTART;TZID=America/Edmonton:20261020T110000
DTEND;TZID=America/Edmonton:20261020T200000
DTSTAMP:20260424T170934
CREATED:20250605T221014Z
LAST-MODIFIED:20251126T022158Z
UID:10006883-1792494000-1792526400@communitycounsellingcentre.ca
SUMMARY:Steven
DESCRIPTION:
URL:https://communitycounsellingcentre.ca/event/steven-2-2/2026-10-20/
LOCATION:Room 5
CATEGORIES:Room 5
END:VEVENT
BEGIN:VEVENT
DTSTART;TZID=America/Edmonton:20261021T160000
DTEND;TZID=America/Edmonton:20261021T200000
DTSTAMP:20260424T170934
CREATED:20251028T221611Z
LAST-MODIFIED:20251126T021718Z
UID:10006622-1792598400-1792612800@communitycounsellingcentre.ca
SUMMARY:Ishmal
DESCRIPTION:
URL:https://communitycounsellingcentre.ca/event/ishmal-5-2/2026-10-21/
LOCATION:Room 5
CATEGORIES:Room 5
END:VEVENT
BEGIN:VEVENT
DTSTART;TZID=America/Edmonton:20261023T110000
DTEND;TZID=America/Edmonton:20261023T170000
DTSTAMP:20260424T170934
CREATED:20251126T023803Z
LAST-MODIFIED:20260105T163325Z
UID:10007512-1792753200-1792774800@communitycounsellingcentre.ca
SUMMARY:Wajed
DESCRIPTION:
URL:https://communitycounsellingcentre.ca/event/wajed-2/2026-10-23/
LOCATION:Room 5
CATEGORIES:Room 5
END:VEVENT
BEGIN:VEVENT
DTSTART;TZID=America/Edmonton:20261024T100000
DTEND;TZID=America/Edmonton:20261024T180000
DTSTAMP:20260424T170934
CREATED:20250426T031802Z
LAST-MODIFIED:20251126T022353Z
UID:10007094-1792836000-1792864800@communitycounsellingcentre.ca
SUMMARY:Fan
DESCRIPTION:
URL:https://communitycounsellingcentre.ca/event/fan-4-2/2026-10-24/
LOCATION:Room 5
CATEGORIES:Room 5
END:VEVENT
BEGIN:VEVENT
DTSTART;TZID=America/Edmonton:20261026T130000
DTEND;TZID=America/Edmonton:20261026T200000
DTSTAMP:20260424T170934
CREATED:20251126T023704Z
LAST-MODIFIED:20251126T023704Z
UID:10007460-1793019600-1793044800@communitycounsellingcentre.ca
SUMMARY:Wajed
DESCRIPTION:
URL:https://communitycounsellingcentre.ca/event/wajed/2026-10-26/
LOCATION:Room 5
CATEGORIES:Room 5
END:VEVENT
BEGIN:VEVENT
DTSTART;TZID=America/Edmonton:20261027T110000
DTEND;TZID=America/Edmonton:20261027T200000
DTSTAMP:20260424T170934
CREATED:20250605T221014Z
LAST-MODIFIED:20251126T022158Z
UID:10006884-1793098800-1793131200@communitycounsellingcentre.ca
SUMMARY:Steven
DESCRIPTION:
URL:https://communitycounsellingcentre.ca/event/steven-2-2/2026-10-27/
LOCATION:Room 5
CATEGORIES:Room 5
END:VEVENT
BEGIN:VEVENT
DTSTART;TZID=America/Edmonton:20261028T160000
DTEND;TZID=America/Edmonton:20261028T200000
DTSTAMP:20260424T170934
CREATED:20251028T221611Z
LAST-MODIFIED:20251126T021718Z
UID:10006623-1793203200-1793217600@communitycounsellingcentre.ca
SUMMARY:Ishmal
DESCRIPTION:
URL:https://communitycounsellingcentre.ca/event/ishmal-5-2/2026-10-28/
LOCATION:Room 5
CATEGORIES:Room 5
END:VEVENT
BEGIN:VEVENT
DTSTART;TZID=America/Edmonton:20261030T110000
DTEND;TZID=America/Edmonton:20261030T170000
DTSTAMP:20260424T170934
CREATED:20251126T023803Z
LAST-MODIFIED:20260105T163325Z
UID:10007513-1793358000-1793379600@communitycounsellingcentre.ca
SUMMARY:Wajed
DESCRIPTION:
URL:https://communitycounsellingcentre.ca/event/wajed-2/2026-10-30/
LOCATION:Room 5
CATEGORIES:Room 5
END:VEVENT
BEGIN:VEVENT
DTSTART;TZID=America/Edmonton:20261031T100000
DTEND;TZID=America/Edmonton:20261031T180000
DTSTAMP:20260424T170934
CREATED:20250426T031802Z
LAST-MODIFIED:20251126T022353Z
UID:10007095-1793440800-1793469600@communitycounsellingcentre.ca
SUMMARY:Fan
DESCRIPTION:
URL:https://communitycounsellingcentre.ca/event/fan-4-2/2026-10-31/
LOCATION:Room 5
CATEGORIES:Room 5
END:VEVENT
END:VCALENDAR