BEGIN:VCALENDAR
VERSION:2.0
PRODID:-//Community Counselling Centre - ECPv6.13.1//NONSGML v1.0//EN
CALSCALE:GREGORIAN
METHOD:PUBLISH
X-WR-CALNAME:Community Counselling Centre
X-ORIGINAL-URL:https://communitycounsellingcentre.ca
X-WR-CALDESC:Events for Community Counselling Centre
REFRESH-INTERVAL;VALUE=DURATION:PT1H
X-Robots-Tag:noindex
X-PUBLISHED-TTL:PT1H
BEGIN:VTIMEZONE
TZID:America/Edmonton
BEGIN:DAYLIGHT
TZOFFSETFROM:-0700
TZOFFSETTO:-0600
TZNAME:MDT
DTSTART:20260308T090000
END:DAYLIGHT
BEGIN:STANDARD
TZOFFSETFROM:-0600
TZOFFSETTO:-0700
TZNAME:MST
DTSTART:20261101T080000
END:STANDARD
END:VTIMEZONE
BEGIN:VEVENT
DTSTART;TZID=America/Edmonton:20260511T130000
DTEND;TZID=America/Edmonton:20260511T200000
DTSTAMP:20260424T070606
CREATED:20251126T023704Z
LAST-MODIFIED:20251126T023704Z
UID:10007436-1778504400-1778529600@communitycounsellingcentre.ca
SUMMARY:Wajed
DESCRIPTION:
URL:https://communitycounsellingcentre.ca/event/wajed/2026-05-11/
LOCATION:Room 5
CATEGORIES:Room 5
END:VEVENT
BEGIN:VEVENT
DTSTART;TZID=America/Edmonton:20260512T110000
DTEND;TZID=America/Edmonton:20260512T200000
DTSTAMP:20260424T070606
CREATED:20250605T221014Z
LAST-MODIFIED:20251126T022158Z
UID:10006860-1778583600-1778616000@communitycounsellingcentre.ca
SUMMARY:Steven
DESCRIPTION:
URL:https://communitycounsellingcentre.ca/event/steven-2-2/2026-05-12/
LOCATION:Room 5
CATEGORIES:Room 5
END:VEVENT
BEGIN:VEVENT
DTSTART;TZID=America/Edmonton:20260513T160000
DTEND;TZID=America/Edmonton:20260513T200000
DTSTAMP:20260424T070606
CREATED:20251028T221611Z
LAST-MODIFIED:20251126T021718Z
UID:10006599-1778688000-1778702400@communitycounsellingcentre.ca
SUMMARY:Ishmal
DESCRIPTION:
URL:https://communitycounsellingcentre.ca/event/ishmal-5-2/2026-05-13/
LOCATION:Room 5
CATEGORIES:Room 5
END:VEVENT
BEGIN:VEVENT
DTSTART;TZID=America/Edmonton:20260515T110000
DTEND;TZID=America/Edmonton:20260515T170000
DTSTAMP:20260424T070606
CREATED:20251126T023803Z
LAST-MODIFIED:20260105T163325Z
UID:10007489-1778842800-1778864400@communitycounsellingcentre.ca
SUMMARY:Wajed
DESCRIPTION:
URL:https://communitycounsellingcentre.ca/event/wajed-2/2026-05-15/
LOCATION:Room 5
CATEGORIES:Room 5
END:VEVENT
BEGIN:VEVENT
DTSTART;TZID=America/Edmonton:20260516T100000
DTEND;TZID=America/Edmonton:20260516T180000
DTSTAMP:20260424T070606
CREATED:20250426T031802Z
LAST-MODIFIED:20251126T022353Z
UID:10007071-1778925600-1778954400@communitycounsellingcentre.ca
SUMMARY:Fan
DESCRIPTION:
URL:https://communitycounsellingcentre.ca/event/fan-4-2/2026-05-16/
LOCATION:Room 5
CATEGORIES:Room 5
END:VEVENT
BEGIN:VEVENT
DTSTART;TZID=America/Edmonton:20260518T130000
DTEND;TZID=America/Edmonton:20260518T200000
DTSTAMP:20260424T070606
CREATED:20251126T023704Z
LAST-MODIFIED:20251126T023704Z
UID:10007437-1779109200-1779134400@communitycounsellingcentre.ca
SUMMARY:Wajed
DESCRIPTION:
URL:https://communitycounsellingcentre.ca/event/wajed/2026-05-18/
LOCATION:Room 5
CATEGORIES:Room 5
END:VEVENT
BEGIN:VEVENT
DTSTART;TZID=America/Edmonton:20260519T110000
DTEND;TZID=America/Edmonton:20260519T200000
DTSTAMP:20260424T070606
CREATED:20250605T221014Z
LAST-MODIFIED:20251126T022158Z
UID:10006861-1779188400-1779220800@communitycounsellingcentre.ca
SUMMARY:Steven
DESCRIPTION:
URL:https://communitycounsellingcentre.ca/event/steven-2-2/2026-05-19/
LOCATION:Room 5
CATEGORIES:Room 5
END:VEVENT
BEGIN:VEVENT
DTSTART;TZID=America/Edmonton:20260520T160000
DTEND;TZID=America/Edmonton:20260520T200000
DTSTAMP:20260424T070606
CREATED:20251028T221611Z
LAST-MODIFIED:20251126T021718Z
UID:10006600-1779292800-1779307200@communitycounsellingcentre.ca
SUMMARY:Ishmal
DESCRIPTION:
URL:https://communitycounsellingcentre.ca/event/ishmal-5-2/2026-05-20/
LOCATION:Room 5
CATEGORIES:Room 5
END:VEVENT
BEGIN:VEVENT
DTSTART;TZID=America/Edmonton:20260522T110000
DTEND;TZID=America/Edmonton:20260522T170000
DTSTAMP:20260424T070606
CREATED:20251126T023803Z
LAST-MODIFIED:20260105T163325Z
UID:10007490-1779447600-1779469200@communitycounsellingcentre.ca
SUMMARY:Wajed
DESCRIPTION:
URL:https://communitycounsellingcentre.ca/event/wajed-2/2026-05-22/
LOCATION:Room 5
CATEGORIES:Room 5
END:VEVENT
BEGIN:VEVENT
DTSTART;TZID=America/Edmonton:20260523T100000
DTEND;TZID=America/Edmonton:20260523T180000
DTSTAMP:20260424T070606
CREATED:20250426T031802Z
LAST-MODIFIED:20251126T022353Z
UID:10007072-1779530400-1779559200@communitycounsellingcentre.ca
SUMMARY:Fan
DESCRIPTION:
URL:https://communitycounsellingcentre.ca/event/fan-4-2/2026-05-23/
LOCATION:Room 5
CATEGORIES:Room 5
END:VEVENT
BEGIN:VEVENT
DTSTART;TZID=America/Edmonton:20260525T130000
DTEND;TZID=America/Edmonton:20260525T200000
DTSTAMP:20260424T070606
CREATED:20251126T023704Z
LAST-MODIFIED:20251126T023704Z
UID:10007438-1779714000-1779739200@communitycounsellingcentre.ca
SUMMARY:Wajed
DESCRIPTION:
URL:https://communitycounsellingcentre.ca/event/wajed/2026-05-25/
LOCATION:Room 5
CATEGORIES:Room 5
END:VEVENT
BEGIN:VEVENT
DTSTART;TZID=America/Edmonton:20260526T110000
DTEND;TZID=America/Edmonton:20260526T200000
DTSTAMP:20260424T070606
CREATED:20250605T221014Z
LAST-MODIFIED:20251126T022158Z
UID:10006862-1779793200-1779825600@communitycounsellingcentre.ca
SUMMARY:Steven
DESCRIPTION:
URL:https://communitycounsellingcentre.ca/event/steven-2-2/2026-05-26/
LOCATION:Room 5
CATEGORIES:Room 5
END:VEVENT
BEGIN:VEVENT
DTSTART;TZID=America/Edmonton:20260527T160000
DTEND;TZID=America/Edmonton:20260527T200000
DTSTAMP:20260424T070606
CREATED:20251028T221611Z
LAST-MODIFIED:20251126T021718Z
UID:10006601-1779897600-1779912000@communitycounsellingcentre.ca
SUMMARY:Ishmal
DESCRIPTION:
URL:https://communitycounsellingcentre.ca/event/ishmal-5-2/2026-05-27/
LOCATION:Room 5
CATEGORIES:Room 5
END:VEVENT
BEGIN:VEVENT
DTSTART;TZID=America/Edmonton:20260529T110000
DTEND;TZID=America/Edmonton:20260529T170000
DTSTAMP:20260424T070606
CREATED:20251126T023803Z
LAST-MODIFIED:20260105T163325Z
UID:10007491-1780052400-1780074000@communitycounsellingcentre.ca
SUMMARY:Wajed
DESCRIPTION:
URL:https://communitycounsellingcentre.ca/event/wajed-2/2026-05-29/
LOCATION:Room 5
CATEGORIES:Room 5
END:VEVENT
BEGIN:VEVENT
DTSTART;TZID=America/Edmonton:20260530T100000
DTEND;TZID=America/Edmonton:20260530T180000
DTSTAMP:20260424T070606
CREATED:20250426T031802Z
LAST-MODIFIED:20251126T022353Z
UID:10007073-1780135200-1780164000@communitycounsellingcentre.ca
SUMMARY:Fan
DESCRIPTION:
URL:https://communitycounsellingcentre.ca/event/fan-4-2/2026-05-30/
LOCATION:Room 5
CATEGORIES:Room 5
END:VEVENT
BEGIN:VEVENT
DTSTART;TZID=America/Edmonton:20260601T130000
DTEND;TZID=America/Edmonton:20260601T200000
DTSTAMP:20260424T070606
CREATED:20251126T023704Z
LAST-MODIFIED:20251126T023704Z
UID:10007439-1780318800-1780344000@communitycounsellingcentre.ca
SUMMARY:Wajed
DESCRIPTION:
URL:https://communitycounsellingcentre.ca/event/wajed/2026-06-01/
LOCATION:Room 5
CATEGORIES:Room 5
END:VEVENT
BEGIN:VEVENT
DTSTART;TZID=America/Edmonton:20260602T110000
DTEND;TZID=America/Edmonton:20260602T200000
DTSTAMP:20260424T070606
CREATED:20250605T221014Z
LAST-MODIFIED:20251126T022158Z
UID:10006863-1780398000-1780430400@communitycounsellingcentre.ca
SUMMARY:Steven
DESCRIPTION:
URL:https://communitycounsellingcentre.ca/event/steven-2-2/2026-06-02/
LOCATION:Room 5
CATEGORIES:Room 5
END:VEVENT
BEGIN:VEVENT
DTSTART;TZID=America/Edmonton:20260603T160000
DTEND;TZID=America/Edmonton:20260603T200000
DTSTAMP:20260424T070606
CREATED:20251028T221611Z
LAST-MODIFIED:20251126T021718Z
UID:10006602-1780502400-1780516800@communitycounsellingcentre.ca
SUMMARY:Ishmal
DESCRIPTION:
URL:https://communitycounsellingcentre.ca/event/ishmal-5-2/2026-06-03/
LOCATION:Room 5
CATEGORIES:Room 5
END:VEVENT
BEGIN:VEVENT
DTSTART;TZID=America/Edmonton:20260605T110000
DTEND;TZID=America/Edmonton:20260605T170000
DTSTAMP:20260424T070606
CREATED:20251126T023803Z
LAST-MODIFIED:20260105T163325Z
UID:10007492-1780657200-1780678800@communitycounsellingcentre.ca
SUMMARY:Wajed
DESCRIPTION:
URL:https://communitycounsellingcentre.ca/event/wajed-2/2026-06-05/
LOCATION:Room 5
CATEGORIES:Room 5
END:VEVENT
BEGIN:VEVENT
DTSTART;TZID=America/Edmonton:20260606T100000
DTEND;TZID=America/Edmonton:20260606T180000
DTSTAMP:20260424T070606
CREATED:20250426T031802Z
LAST-MODIFIED:20251126T022353Z
UID:10007074-1780740000-1780768800@communitycounsellingcentre.ca
SUMMARY:Fan
DESCRIPTION:
URL:https://communitycounsellingcentre.ca/event/fan-4-2/2026-06-06/
LOCATION:Room 5
CATEGORIES:Room 5
END:VEVENT
BEGIN:VEVENT
DTSTART;TZID=America/Edmonton:20260608T130000
DTEND;TZID=America/Edmonton:20260608T200000
DTSTAMP:20260424T070606
CREATED:20251126T023704Z
LAST-MODIFIED:20251126T023704Z
UID:10007440-1780923600-1780948800@communitycounsellingcentre.ca
SUMMARY:Wajed
DESCRIPTION:
URL:https://communitycounsellingcentre.ca/event/wajed/2026-06-08/
LOCATION:Room 5
CATEGORIES:Room 5
END:VEVENT
BEGIN:VEVENT
DTSTART;TZID=America/Edmonton:20260609T110000
DTEND;TZID=America/Edmonton:20260609T200000
DTSTAMP:20260424T070606
CREATED:20250605T221014Z
LAST-MODIFIED:20251126T022158Z
UID:10006864-1781002800-1781035200@communitycounsellingcentre.ca
SUMMARY:Steven
DESCRIPTION:
URL:https://communitycounsellingcentre.ca/event/steven-2-2/2026-06-09/
LOCATION:Room 5
CATEGORIES:Room 5
END:VEVENT
BEGIN:VEVENT
DTSTART;TZID=America/Edmonton:20260610T160000
DTEND;TZID=America/Edmonton:20260610T200000
DTSTAMP:20260424T070606
CREATED:20251028T221611Z
LAST-MODIFIED:20251126T021718Z
UID:10006603-1781107200-1781121600@communitycounsellingcentre.ca
SUMMARY:Ishmal
DESCRIPTION:
URL:https://communitycounsellingcentre.ca/event/ishmal-5-2/2026-06-10/
LOCATION:Room 5
CATEGORIES:Room 5
END:VEVENT
BEGIN:VEVENT
DTSTART;TZID=America/Edmonton:20260612T110000
DTEND;TZID=America/Edmonton:20260612T170000
DTSTAMP:20260424T070606
CREATED:20251126T023803Z
LAST-MODIFIED:20260105T163325Z
UID:10007493-1781262000-1781283600@communitycounsellingcentre.ca
SUMMARY:Wajed
DESCRIPTION:
URL:https://communitycounsellingcentre.ca/event/wajed-2/2026-06-12/
LOCATION:Room 5
CATEGORIES:Room 5
END:VEVENT
BEGIN:VEVENT
DTSTART;TZID=America/Edmonton:20260613T100000
DTEND;TZID=America/Edmonton:20260613T180000
DTSTAMP:20260424T070606
CREATED:20250426T031802Z
LAST-MODIFIED:20251126T022353Z
UID:10007075-1781344800-1781373600@communitycounsellingcentre.ca
SUMMARY:Fan
DESCRIPTION:
URL:https://communitycounsellingcentre.ca/event/fan-4-2/2026-06-13/
LOCATION:Room 5
CATEGORIES:Room 5
END:VEVENT
BEGIN:VEVENT
DTSTART;TZID=America/Edmonton:20260615T130000
DTEND;TZID=America/Edmonton:20260615T200000
DTSTAMP:20260424T070606
CREATED:20251126T023704Z
LAST-MODIFIED:20251126T023704Z
UID:10007441-1781528400-1781553600@communitycounsellingcentre.ca
SUMMARY:Wajed
DESCRIPTION:
URL:https://communitycounsellingcentre.ca/event/wajed/2026-06-15/
LOCATION:Room 5
CATEGORIES:Room 5
END:VEVENT
BEGIN:VEVENT
DTSTART;TZID=America/Edmonton:20260616T110000
DTEND;TZID=America/Edmonton:20260616T200000
DTSTAMP:20260424T070606
CREATED:20250605T221014Z
LAST-MODIFIED:20251126T022158Z
UID:10006865-1781607600-1781640000@communitycounsellingcentre.ca
SUMMARY:Steven
DESCRIPTION:
URL:https://communitycounsellingcentre.ca/event/steven-2-2/2026-06-16/
LOCATION:Room 5
CATEGORIES:Room 5
END:VEVENT
BEGIN:VEVENT
DTSTART;TZID=America/Edmonton:20260617T160000
DTEND;TZID=America/Edmonton:20260617T200000
DTSTAMP:20260424T070606
CREATED:20251028T221611Z
LAST-MODIFIED:20251126T021718Z
UID:10006604-1781712000-1781726400@communitycounsellingcentre.ca
SUMMARY:Ishmal
DESCRIPTION:
URL:https://communitycounsellingcentre.ca/event/ishmal-5-2/2026-06-17/
LOCATION:Room 5
CATEGORIES:Room 5
END:VEVENT
BEGIN:VEVENT
DTSTART;TZID=America/Edmonton:20260619T110000
DTEND;TZID=America/Edmonton:20260619T170000
DTSTAMP:20260424T070606
CREATED:20251126T023803Z
LAST-MODIFIED:20260105T163325Z
UID:10007494-1781866800-1781888400@communitycounsellingcentre.ca
SUMMARY:Wajed
DESCRIPTION:
URL:https://communitycounsellingcentre.ca/event/wajed-2/2026-06-19/
LOCATION:Room 5
CATEGORIES:Room 5
END:VEVENT
BEGIN:VEVENT
DTSTART;TZID=America/Edmonton:20260620T100000
DTEND;TZID=America/Edmonton:20260620T180000
DTSTAMP:20260424T070606
CREATED:20250426T031802Z
LAST-MODIFIED:20251126T022353Z
UID:10007076-1781949600-1781978400@communitycounsellingcentre.ca
SUMMARY:Fan
DESCRIPTION:
URL:https://communitycounsellingcentre.ca/event/fan-4-2/2026-06-20/
LOCATION:Room 5
CATEGORIES:Room 5
END:VEVENT
END:VCALENDAR