BEGIN:VCALENDAR
VERSION:2.0
PRODID:-//Community Counselling Centre - ECPv6.13.1//NONSGML v1.0//EN
CALSCALE:GREGORIAN
METHOD:PUBLISH
X-ORIGINAL-URL:https://communitycounsellingcentre.ca
X-WR-CALDESC:Events for Community Counselling Centre
REFRESH-INTERVAL;VALUE=DURATION:PT1H
X-Robots-Tag:noindex
X-PUBLISHED-TTL:PT1H
BEGIN:VTIMEZONE
TZID:America/Edmonton
BEGIN:DAYLIGHT
TZOFFSETFROM:-0700
TZOFFSETTO:-0600
TZNAME:MDT
DTSTART:20240310T090000
END:DAYLIGHT
BEGIN:STANDARD
TZOFFSETFROM:-0600
TZOFFSETTO:-0700
TZNAME:MST
DTSTART:20241103T080000
END:STANDARD
END:VTIMEZONE
BEGIN:VEVENT
DTSTART;TZID=America/Edmonton:20240503T090000
DTEND;TZID=America/Edmonton:20240503T170000
DTSTAMP:20260425T110514
CREATED:20240504T054921Z
LAST-MODIFIED:20251126T021348Z
UID:10001170-1714726800-1714755600@communitycounsellingcentre.ca
SUMMARY:John
DESCRIPTION:
URL:https://communitycounsellingcentre.ca/event/john-3/2024-05-03/
LOCATION:Room 6
CATEGORIES:Room 6
END:VEVENT
BEGIN:VEVENT
DTSTART;TZID=America/Edmonton:20240506T130000
DTEND;TZID=America/Edmonton:20240506T210000
DTSTAMP:20260425T110514
CREATED:20240504T051713Z
LAST-MODIFIED:20251125T155457Z
UID:10000601-1715000400-1715029200@communitycounsellingcentre.ca
SUMMARY:John
DESCRIPTION:
URL:https://communitycounsellingcentre.ca/event/john/2024-05-06/
LOCATION:Room 6
CATEGORIES:Room 6
END:VEVENT
BEGIN:VEVENT
DTSTART;TZID=America/Edmonton:20240510T090000
DTEND;TZID=America/Edmonton:20240510T170000
DTSTAMP:20260425T110514
CREATED:20240504T054921Z
LAST-MODIFIED:20251126T021348Z
UID:10001171-1715331600-1715360400@communitycounsellingcentre.ca
SUMMARY:John
DESCRIPTION:
URL:https://communitycounsellingcentre.ca/event/john-3/2024-05-10/
LOCATION:Room 6
CATEGORIES:Room 6
END:VEVENT
BEGIN:VEVENT
DTSTART;TZID=America/Edmonton:20240513T130000
DTEND;TZID=America/Edmonton:20240513T210000
DTSTAMP:20260425T110514
CREATED:20240504T051713Z
LAST-MODIFIED:20251125T155457Z
UID:10000602-1715605200-1715634000@communitycounsellingcentre.ca
SUMMARY:John
DESCRIPTION:
URL:https://communitycounsellingcentre.ca/event/john/2024-05-13/
LOCATION:Room 6
CATEGORIES:Room 6
END:VEVENT
BEGIN:VEVENT
DTSTART;TZID=America/Edmonton:20240517T090000
DTEND;TZID=America/Edmonton:20240517T170000
DTSTAMP:20260425T110514
CREATED:20240504T054921Z
LAST-MODIFIED:20251126T021348Z
UID:10001172-1715936400-1715965200@communitycounsellingcentre.ca
SUMMARY:John
DESCRIPTION:
URL:https://communitycounsellingcentre.ca/event/john-3/2024-05-17/
LOCATION:Room 6
CATEGORIES:Room 6
END:VEVENT
BEGIN:VEVENT
DTSTART;TZID=America/Edmonton:20240520T130000
DTEND;TZID=America/Edmonton:20240520T210000
DTSTAMP:20260425T110514
CREATED:20240504T051713Z
LAST-MODIFIED:20251125T155457Z
UID:10000603-1716210000-1716238800@communitycounsellingcentre.ca
SUMMARY:John
DESCRIPTION:
URL:https://communitycounsellingcentre.ca/event/john/2024-05-20/
LOCATION:Room 6
CATEGORIES:Room 6
END:VEVENT
BEGIN:VEVENT
DTSTART;TZID=America/Edmonton:20240524T090000
DTEND;TZID=America/Edmonton:20240524T170000
DTSTAMP:20260425T110514
CREATED:20240504T054921Z
LAST-MODIFIED:20251126T021348Z
UID:10001173-1716541200-1716570000@communitycounsellingcentre.ca
SUMMARY:John
DESCRIPTION:
URL:https://communitycounsellingcentre.ca/event/john-3/2024-05-24/
LOCATION:Room 6
CATEGORIES:Room 6
END:VEVENT
BEGIN:VEVENT
DTSTART;TZID=America/Edmonton:20240527T130000
DTEND;TZID=America/Edmonton:20240527T210000
DTSTAMP:20260425T110514
CREATED:20240504T051713Z
LAST-MODIFIED:20251125T155457Z
UID:10000604-1716814800-1716843600@communitycounsellingcentre.ca
SUMMARY:John
DESCRIPTION:
URL:https://communitycounsellingcentre.ca/event/john/2024-05-27/
LOCATION:Room 6
CATEGORIES:Room 6
END:VEVENT
BEGIN:VEVENT
DTSTART;TZID=America/Edmonton:20240531T090000
DTEND;TZID=America/Edmonton:20240531T170000
DTSTAMP:20260425T110514
CREATED:20240504T054921Z
LAST-MODIFIED:20251126T021348Z
UID:10001174-1717146000-1717174800@communitycounsellingcentre.ca
SUMMARY:John
DESCRIPTION:
URL:https://communitycounsellingcentre.ca/event/john-3/2024-05-31/
LOCATION:Room 6
CATEGORIES:Room 6
END:VEVENT
END:VCALENDAR