BEGIN:VCALENDAR
VERSION:2.0
PRODID:-//Community Counselling Centre - ECPv6.13.1//NONSGML v1.0//EN
CALSCALE:GREGORIAN
METHOD:PUBLISH
X-WR-CALNAME:Community Counselling Centre
X-ORIGINAL-URL:https://communitycounsellingcentre.ca
X-WR-CALDESC:Events for Community Counselling Centre
REFRESH-INTERVAL;VALUE=DURATION:PT1H
X-Robots-Tag:noindex
X-PUBLISHED-TTL:PT1H
BEGIN:VTIMEZONE
TZID:America/Edmonton
BEGIN:DAYLIGHT
TZOFFSETFROM:-0700
TZOFFSETTO:-0600
TZNAME:MDT
DTSTART:20240310T090000
END:DAYLIGHT
BEGIN:STANDARD
TZOFFSETFROM:-0600
TZOFFSETTO:-0700
TZNAME:MST
DTSTART:20241103T080000
END:STANDARD
END:VTIMEZONE
BEGIN:VEVENT
DTSTART;TZID=America/Edmonton:20240603T130000
DTEND;TZID=America/Edmonton:20240603T210000
DTSTAMP:20260425T094832
CREATED:20240504T051713Z
LAST-MODIFIED:20251125T155457Z
UID:10000605-1717419600-1717448400@communitycounsellingcentre.ca
SUMMARY:John
DESCRIPTION:
URL:https://communitycounsellingcentre.ca/event/john/2024-06-03/
LOCATION:Room 6
CATEGORIES:Room 6
END:VEVENT
BEGIN:VEVENT
DTSTART;TZID=America/Edmonton:20240607T090000
DTEND;TZID=America/Edmonton:20240607T170000
DTSTAMP:20260425T094832
CREATED:20240504T054921Z
LAST-MODIFIED:20251126T021348Z
UID:10001175-1717750800-1717779600@communitycounsellingcentre.ca
SUMMARY:John
DESCRIPTION:
URL:https://communitycounsellingcentre.ca/event/john-3/2024-06-07/
LOCATION:Room 6
CATEGORIES:Room 6
END:VEVENT
BEGIN:VEVENT
DTSTART;TZID=America/Edmonton:20240610T130000
DTEND;TZID=America/Edmonton:20240610T210000
DTSTAMP:20260425T094832
CREATED:20240504T051713Z
LAST-MODIFIED:20251125T155457Z
UID:10000606-1718024400-1718053200@communitycounsellingcentre.ca
SUMMARY:John
DESCRIPTION:
URL:https://communitycounsellingcentre.ca/event/john/2024-06-10/
LOCATION:Room 6
CATEGORIES:Room 6
END:VEVENT
BEGIN:VEVENT
DTSTART;TZID=America/Edmonton:20240614T090000
DTEND;TZID=America/Edmonton:20240614T170000
DTSTAMP:20260425T094832
CREATED:20240504T054921Z
LAST-MODIFIED:20251126T021348Z
UID:10001176-1718355600-1718384400@communitycounsellingcentre.ca
SUMMARY:John
DESCRIPTION:
URL:https://communitycounsellingcentre.ca/event/john-3/2024-06-14/
LOCATION:Room 6
CATEGORIES:Room 6
END:VEVENT
BEGIN:VEVENT
DTSTART;TZID=America/Edmonton:20240617T130000
DTEND;TZID=America/Edmonton:20240617T210000
DTSTAMP:20260425T094832
CREATED:20240504T051713Z
LAST-MODIFIED:20251125T155457Z
UID:10000607-1718629200-1718658000@communitycounsellingcentre.ca
SUMMARY:John
DESCRIPTION:
URL:https://communitycounsellingcentre.ca/event/john/2024-06-17/
LOCATION:Room 6
CATEGORIES:Room 6
END:VEVENT
BEGIN:VEVENT
DTSTART;TZID=America/Edmonton:20240621T090000
DTEND;TZID=America/Edmonton:20240621T170000
DTSTAMP:20260425T094832
CREATED:20240504T054921Z
LAST-MODIFIED:20251126T021348Z
UID:10001177-1718960400-1718989200@communitycounsellingcentre.ca
SUMMARY:John
DESCRIPTION:
URL:https://communitycounsellingcentre.ca/event/john-3/2024-06-21/
LOCATION:Room 6
CATEGORIES:Room 6
END:VEVENT
BEGIN:VEVENT
DTSTART;TZID=America/Edmonton:20240624T130000
DTEND;TZID=America/Edmonton:20240624T210000
DTSTAMP:20260425T094832
CREATED:20240504T051713Z
LAST-MODIFIED:20251125T155457Z
UID:10000608-1719234000-1719262800@communitycounsellingcentre.ca
SUMMARY:John
DESCRIPTION:
URL:https://communitycounsellingcentre.ca/event/john/2024-06-24/
LOCATION:Room 6
CATEGORIES:Room 6
END:VEVENT
BEGIN:VEVENT
DTSTART;TZID=America/Edmonton:20240628T090000
DTEND;TZID=America/Edmonton:20240628T170000
DTSTAMP:20260425T094832
CREATED:20240504T054921Z
LAST-MODIFIED:20251126T021348Z
UID:10001178-1719565200-1719594000@communitycounsellingcentre.ca
SUMMARY:John
DESCRIPTION:
URL:https://communitycounsellingcentre.ca/event/john-3/2024-06-28/
LOCATION:Room 6
CATEGORIES:Room 6
END:VEVENT
END:VCALENDAR