BEGIN:VCALENDAR
VERSION:2.0
PRODID:-//Community Counselling Centre - ECPv6.13.1//NONSGML v1.0//EN
CALSCALE:GREGORIAN
METHOD:PUBLISH
X-WR-CALNAME:Community Counselling Centre
X-ORIGINAL-URL:https://communitycounsellingcentre.ca
X-WR-CALDESC:Events for Community Counselling Centre
REFRESH-INTERVAL;VALUE=DURATION:PT1H
X-Robots-Tag:noindex
X-PUBLISHED-TTL:PT1H
BEGIN:VTIMEZONE
TZID:America/Edmonton
BEGIN:DAYLIGHT
TZOFFSETFROM:-0700
TZOFFSETTO:-0600
TZNAME:MDT
DTSTART:20240310T090000
END:DAYLIGHT
BEGIN:STANDARD
TZOFFSETFROM:-0600
TZOFFSETTO:-0700
TZNAME:MST
DTSTART:20241103T080000
END:STANDARD
END:VTIMEZONE
BEGIN:VEVENT
DTSTART;TZID=America/Edmonton:20240902T130000
DTEND;TZID=America/Edmonton:20240902T210000
DTSTAMP:20260425T055135
CREATED:20240504T051713Z
LAST-MODIFIED:20251125T155457Z
UID:10000618-1725282000-1725310800@communitycounsellingcentre.ca
SUMMARY:John
DESCRIPTION:
URL:https://communitycounsellingcentre.ca/event/john/2024-09-02/
LOCATION:Room 6
CATEGORIES:Room 6
END:VEVENT
BEGIN:VEVENT
DTSTART;TZID=America/Edmonton:20240906T090000
DTEND;TZID=America/Edmonton:20240906T170000
DTSTAMP:20260425T055135
CREATED:20240504T054921Z
LAST-MODIFIED:20251126T021348Z
UID:10001188-1725613200-1725642000@communitycounsellingcentre.ca
SUMMARY:John
DESCRIPTION:
URL:https://communitycounsellingcentre.ca/event/john-3/2024-09-06/
LOCATION:Room 6
CATEGORIES:Room 6
END:VEVENT
BEGIN:VEVENT
DTSTART;TZID=America/Edmonton:20240909T130000
DTEND;TZID=America/Edmonton:20240909T210000
DTSTAMP:20260425T055135
CREATED:20240504T051713Z
LAST-MODIFIED:20251125T155457Z
UID:10000619-1725886800-1725915600@communitycounsellingcentre.ca
SUMMARY:John
DESCRIPTION:
URL:https://communitycounsellingcentre.ca/event/john/2024-09-09/
LOCATION:Room 6
CATEGORIES:Room 6
END:VEVENT
BEGIN:VEVENT
DTSTART;TZID=America/Edmonton:20240913T090000
DTEND;TZID=America/Edmonton:20240913T170000
DTSTAMP:20260425T055135
CREATED:20240504T054921Z
LAST-MODIFIED:20251126T021348Z
UID:10001189-1726218000-1726246800@communitycounsellingcentre.ca
SUMMARY:John
DESCRIPTION:
URL:https://communitycounsellingcentre.ca/event/john-3/2024-09-13/
LOCATION:Room 6
CATEGORIES:Room 6
END:VEVENT
BEGIN:VEVENT
DTSTART;TZID=America/Edmonton:20240916T130000
DTEND;TZID=America/Edmonton:20240916T210000
DTSTAMP:20260425T055135
CREATED:20240504T051713Z
LAST-MODIFIED:20251125T155457Z
UID:10000620-1726491600-1726520400@communitycounsellingcentre.ca
SUMMARY:John
DESCRIPTION:
URL:https://communitycounsellingcentre.ca/event/john/2024-09-16/
LOCATION:Room 6
CATEGORIES:Room 6
END:VEVENT
BEGIN:VEVENT
DTSTART;TZID=America/Edmonton:20240920T090000
DTEND;TZID=America/Edmonton:20240920T170000
DTSTAMP:20260425T055135
CREATED:20240504T054921Z
LAST-MODIFIED:20251126T021348Z
UID:10001190-1726822800-1726851600@communitycounsellingcentre.ca
SUMMARY:John
DESCRIPTION:
URL:https://communitycounsellingcentre.ca/event/john-3/2024-09-20/
LOCATION:Room 6
CATEGORIES:Room 6
END:VEVENT
BEGIN:VEVENT
DTSTART;TZID=America/Edmonton:20240923T130000
DTEND;TZID=America/Edmonton:20240923T210000
DTSTAMP:20260425T055135
CREATED:20240504T051713Z
LAST-MODIFIED:20251125T155457Z
UID:10000621-1727096400-1727125200@communitycounsellingcentre.ca
SUMMARY:John
DESCRIPTION:
URL:https://communitycounsellingcentre.ca/event/john/2024-09-23/
LOCATION:Room 6
CATEGORIES:Room 6
END:VEVENT
BEGIN:VEVENT
DTSTART;TZID=America/Edmonton:20240927T090000
DTEND;TZID=America/Edmonton:20240927T170000
DTSTAMP:20260425T055135
CREATED:20240504T054921Z
LAST-MODIFIED:20251126T021348Z
UID:10001191-1727427600-1727456400@communitycounsellingcentre.ca
SUMMARY:John
DESCRIPTION:
URL:https://communitycounsellingcentre.ca/event/john-3/2024-09-27/
LOCATION:Room 6
CATEGORIES:Room 6
END:VEVENT
BEGIN:VEVENT
DTSTART;TZID=America/Edmonton:20240930T130000
DTEND;TZID=America/Edmonton:20240930T210000
DTSTAMP:20260425T055135
CREATED:20240504T051713Z
LAST-MODIFIED:20251125T155457Z
UID:10000622-1727701200-1727730000@communitycounsellingcentre.ca
SUMMARY:John
DESCRIPTION:
URL:https://communitycounsellingcentre.ca/event/john/2024-09-30/
LOCATION:Room 6
CATEGORIES:Room 6
END:VEVENT
END:VCALENDAR