BEGIN:VCALENDAR
VERSION:2.0
PRODID:-//Community Counselling Centre - ECPv6.13.1//NONSGML v1.0//EN
CALSCALE:GREGORIAN
METHOD:PUBLISH
X-WR-CALNAME:Community Counselling Centre
X-ORIGINAL-URL:https://communitycounsellingcentre.ca
X-WR-CALDESC:Events for Community Counselling Centre
REFRESH-INTERVAL;VALUE=DURATION:PT1H
X-Robots-Tag:noindex
X-PUBLISHED-TTL:PT1H
BEGIN:VTIMEZONE
TZID:America/Edmonton
BEGIN:DAYLIGHT
TZOFFSETFROM:-0700
TZOFFSETTO:-0600
TZNAME:MDT
DTSTART:20240310T090000
END:DAYLIGHT
BEGIN:STANDARD
TZOFFSETFROM:-0600
TZOFFSETTO:-0700
TZNAME:MST
DTSTART:20241103T080000
END:STANDARD
END:VTIMEZONE
BEGIN:VEVENT
DTSTART;TZID=America/Edmonton:20241004T090000
DTEND;TZID=America/Edmonton:20241004T170000
DTSTAMP:20260425T042535
CREATED:20240504T054921Z
LAST-MODIFIED:20251126T021348Z
UID:10001192-1728032400-1728061200@communitycounsellingcentre.ca
SUMMARY:John
DESCRIPTION:
URL:https://communitycounsellingcentre.ca/event/john-3/2024-10-04/
LOCATION:Room 6
CATEGORIES:Room 6
END:VEVENT
BEGIN:VEVENT
DTSTART;TZID=America/Edmonton:20241007T130000
DTEND;TZID=America/Edmonton:20241007T210000
DTSTAMP:20260425T042535
CREATED:20240504T051713Z
LAST-MODIFIED:20251125T155457Z
UID:10000623-1728306000-1728334800@communitycounsellingcentre.ca
SUMMARY:John
DESCRIPTION:
URL:https://communitycounsellingcentre.ca/event/john/2024-10-07/
LOCATION:Room 6
CATEGORIES:Room 6
END:VEVENT
BEGIN:VEVENT
DTSTART;TZID=America/Edmonton:20241011T090000
DTEND;TZID=America/Edmonton:20241011T170000
DTSTAMP:20260425T042535
CREATED:20240504T054921Z
LAST-MODIFIED:20251126T021348Z
UID:10001193-1728637200-1728666000@communitycounsellingcentre.ca
SUMMARY:John
DESCRIPTION:
URL:https://communitycounsellingcentre.ca/event/john-3/2024-10-11/
LOCATION:Room 6
CATEGORIES:Room 6
END:VEVENT
BEGIN:VEVENT
DTSTART;TZID=America/Edmonton:20241014T130000
DTEND;TZID=America/Edmonton:20241014T210000
DTSTAMP:20260425T042535
CREATED:20240504T051713Z
LAST-MODIFIED:20251125T155457Z
UID:10000624-1728910800-1728939600@communitycounsellingcentre.ca
SUMMARY:John
DESCRIPTION:
URL:https://communitycounsellingcentre.ca/event/john/2024-10-14/
LOCATION:Room 6
CATEGORIES:Room 6
END:VEVENT
BEGIN:VEVENT
DTSTART;TZID=America/Edmonton:20241018T090000
DTEND;TZID=America/Edmonton:20241018T170000
DTSTAMP:20260425T042535
CREATED:20240504T054921Z
LAST-MODIFIED:20251126T021348Z
UID:10001194-1729242000-1729270800@communitycounsellingcentre.ca
SUMMARY:John
DESCRIPTION:
URL:https://communitycounsellingcentre.ca/event/john-3/2024-10-18/
LOCATION:Room 6
CATEGORIES:Room 6
END:VEVENT
BEGIN:VEVENT
DTSTART;TZID=America/Edmonton:20241021T130000
DTEND;TZID=America/Edmonton:20241021T210000
DTSTAMP:20260425T042535
CREATED:20240504T051713Z
LAST-MODIFIED:20251125T155457Z
UID:10000625-1729515600-1729544400@communitycounsellingcentre.ca
SUMMARY:John
DESCRIPTION:
URL:https://communitycounsellingcentre.ca/event/john/2024-10-21/
LOCATION:Room 6
CATEGORIES:Room 6
END:VEVENT
BEGIN:VEVENT
DTSTART;TZID=America/Edmonton:20241025T090000
DTEND;TZID=America/Edmonton:20241025T170000
DTSTAMP:20260425T042535
CREATED:20240504T054921Z
LAST-MODIFIED:20251126T021348Z
UID:10001195-1729846800-1729875600@communitycounsellingcentre.ca
SUMMARY:John
DESCRIPTION:
URL:https://communitycounsellingcentre.ca/event/john-3/2024-10-25/
LOCATION:Room 6
CATEGORIES:Room 6
END:VEVENT
BEGIN:VEVENT
DTSTART;TZID=America/Edmonton:20241028T130000
DTEND;TZID=America/Edmonton:20241028T210000
DTSTAMP:20260425T042535
CREATED:20240504T051713Z
LAST-MODIFIED:20251125T155457Z
UID:10000626-1730120400-1730149200@communitycounsellingcentre.ca
SUMMARY:John
DESCRIPTION:
URL:https://communitycounsellingcentre.ca/event/john/2024-10-28/
LOCATION:Room 6
CATEGORIES:Room 6
END:VEVENT
END:VCALENDAR