BEGIN:VCALENDAR
VERSION:2.0
PRODID:-//Community Counselling Centre - ECPv6.13.1//NONSGML v1.0//EN
CALSCALE:GREGORIAN
METHOD:PUBLISH
X-ORIGINAL-URL:https://communitycounsellingcentre.ca
X-WR-CALDESC:Events for Community Counselling Centre
REFRESH-INTERVAL;VALUE=DURATION:PT1H
X-Robots-Tag:noindex
X-PUBLISHED-TTL:PT1H
BEGIN:VTIMEZONE
TZID:America/Edmonton
BEGIN:DAYLIGHT
TZOFFSETFROM:-0700
TZOFFSETTO:-0600
TZNAME:MDT
DTSTART:20250309T090000
END:DAYLIGHT
BEGIN:STANDARD
TZOFFSETFROM:-0600
TZOFFSETTO:-0700
TZNAME:MST
DTSTART:20251102T080000
END:STANDARD
END:VTIMEZONE
BEGIN:VEVENT
DTSTART;TZID=America/Edmonton:20250303T130000
DTEND;TZID=America/Edmonton:20250303T210000
DTSTAMP:20260424T212616
CREATED:20240504T051713Z
LAST-MODIFIED:20251125T155457Z
UID:10004104-1741006800-1741035600@communitycounsellingcentre.ca
SUMMARY:John
DESCRIPTION:
URL:https://communitycounsellingcentre.ca/event/john/2025-03-03/
LOCATION:Room 6
CATEGORIES:Room 6
END:VEVENT
BEGIN:VEVENT
DTSTART;TZID=America/Edmonton:20250304T090000
DTEND;TZID=America/Edmonton:20250304T170000
DTSTAMP:20260424T212616
CREATED:20241124T193305Z
LAST-MODIFIED:20251125T155547Z
UID:10006328-1741078800-1741107600@communitycounsellingcentre.ca
SUMMARY:John
DESCRIPTION:
URL:https://communitycounsellingcentre.ca/event/john-2-2/2025-03-04/
LOCATION:Room 6
CATEGORIES:Room 6
END:VEVENT
BEGIN:VEVENT
DTSTART;TZID=America/Edmonton:20250307T090000
DTEND;TZID=America/Edmonton:20250307T170000
DTSTAMP:20260424T212616
CREATED:20240504T054921Z
LAST-MODIFIED:20251126T021348Z
UID:10003949-1741338000-1741366800@communitycounsellingcentre.ca
SUMMARY:John
DESCRIPTION:
URL:https://communitycounsellingcentre.ca/event/john-3/2025-03-07/
LOCATION:Room 6
CATEGORIES:Room 6
END:VEVENT
BEGIN:VEVENT
DTSTART;TZID=America/Edmonton:20250310T130000
DTEND;TZID=America/Edmonton:20250310T210000
DTSTAMP:20260424T212616
CREATED:20240504T051713Z
LAST-MODIFIED:20251125T155457Z
UID:10004105-1741611600-1741640400@communitycounsellingcentre.ca
SUMMARY:John
DESCRIPTION:
URL:https://communitycounsellingcentre.ca/event/john/2025-03-10/
LOCATION:Room 6
CATEGORIES:Room 6
END:VEVENT
BEGIN:VEVENT
DTSTART;TZID=America/Edmonton:20250311T090000
DTEND;TZID=America/Edmonton:20250311T170000
DTSTAMP:20260424T212616
CREATED:20241124T193305Z
LAST-MODIFIED:20251125T155547Z
UID:10006329-1741683600-1741712400@communitycounsellingcentre.ca
SUMMARY:John
DESCRIPTION:
URL:https://communitycounsellingcentre.ca/event/john-2-2/2025-03-11/
LOCATION:Room 6
CATEGORIES:Room 6
END:VEVENT
BEGIN:VEVENT
DTSTART;TZID=America/Edmonton:20250314T090000
DTEND;TZID=America/Edmonton:20250314T170000
DTSTAMP:20260424T212616
CREATED:20240504T054921Z
LAST-MODIFIED:20251126T021348Z
UID:10003950-1741942800-1741971600@communitycounsellingcentre.ca
SUMMARY:John
DESCRIPTION:
URL:https://communitycounsellingcentre.ca/event/john-3/2025-03-14/
LOCATION:Room 6
CATEGORIES:Room 6
END:VEVENT
BEGIN:VEVENT
DTSTART;TZID=America/Edmonton:20250317T130000
DTEND;TZID=America/Edmonton:20250317T210000
DTSTAMP:20260424T212616
CREATED:20240504T051713Z
LAST-MODIFIED:20251125T155457Z
UID:10004106-1742216400-1742245200@communitycounsellingcentre.ca
SUMMARY:John
DESCRIPTION:
URL:https://communitycounsellingcentre.ca/event/john/2025-03-17/
LOCATION:Room 6
CATEGORIES:Room 6
END:VEVENT
BEGIN:VEVENT
DTSTART;TZID=America/Edmonton:20250318T090000
DTEND;TZID=America/Edmonton:20250318T170000
DTSTAMP:20260424T212616
CREATED:20241124T193305Z
LAST-MODIFIED:20251125T155547Z
UID:10006330-1742288400-1742317200@communitycounsellingcentre.ca
SUMMARY:John
DESCRIPTION:
URL:https://communitycounsellingcentre.ca/event/john-2-2/2025-03-18/
LOCATION:Room 6
CATEGORIES:Room 6
END:VEVENT
BEGIN:VEVENT
DTSTART;TZID=America/Edmonton:20250321T090000
DTEND;TZID=America/Edmonton:20250321T170000
DTSTAMP:20260424T212616
CREATED:20240504T054921Z
LAST-MODIFIED:20251126T021348Z
UID:10003951-1742547600-1742576400@communitycounsellingcentre.ca
SUMMARY:John
DESCRIPTION:
URL:https://communitycounsellingcentre.ca/event/john-3/2025-03-21/
LOCATION:Room 6
CATEGORIES:Room 6
END:VEVENT
BEGIN:VEVENT
DTSTART;TZID=America/Edmonton:20250324T130000
DTEND;TZID=America/Edmonton:20250324T210000
DTSTAMP:20260424T212616
CREATED:20240504T051713Z
LAST-MODIFIED:20251125T155457Z
UID:10004107-1742821200-1742850000@communitycounsellingcentre.ca
SUMMARY:John
DESCRIPTION:
URL:https://communitycounsellingcentre.ca/event/john/2025-03-24/
LOCATION:Room 6
CATEGORIES:Room 6
END:VEVENT
BEGIN:VEVENT
DTSTART;TZID=America/Edmonton:20250325T090000
DTEND;TZID=America/Edmonton:20250325T170000
DTSTAMP:20260424T212616
CREATED:20241124T193305Z
LAST-MODIFIED:20251125T155547Z
UID:10006331-1742893200-1742922000@communitycounsellingcentre.ca
SUMMARY:John
DESCRIPTION:
URL:https://communitycounsellingcentre.ca/event/john-2-2/2025-03-25/
LOCATION:Room 6
CATEGORIES:Room 6
END:VEVENT
BEGIN:VEVENT
DTSTART;TZID=America/Edmonton:20250328T090000
DTEND;TZID=America/Edmonton:20250328T170000
DTSTAMP:20260424T212616
CREATED:20240504T054921Z
LAST-MODIFIED:20251126T021348Z
UID:10003952-1743152400-1743181200@communitycounsellingcentre.ca
SUMMARY:John
DESCRIPTION:
URL:https://communitycounsellingcentre.ca/event/john-3/2025-03-28/
LOCATION:Room 6
CATEGORIES:Room 6
END:VEVENT
BEGIN:VEVENT
DTSTART;TZID=America/Edmonton:20250331T130000
DTEND;TZID=America/Edmonton:20250331T210000
DTSTAMP:20260424T212616
CREATED:20240504T051713Z
LAST-MODIFIED:20251125T155457Z
UID:10004108-1743426000-1743454800@communitycounsellingcentre.ca
SUMMARY:John
DESCRIPTION:
URL:https://communitycounsellingcentre.ca/event/john/2025-03-31/
LOCATION:Room 6
CATEGORIES:Room 6
END:VEVENT
END:VCALENDAR