BEGIN:VCALENDAR
VERSION:2.0
PRODID:-//Community Counselling Centre - ECPv6.13.1//NONSGML v1.0//EN
CALSCALE:GREGORIAN
METHOD:PUBLISH
X-WR-CALNAME:Community Counselling Centre
X-ORIGINAL-URL:https://communitycounsellingcentre.ca
X-WR-CALDESC:Events for Community Counselling Centre
REFRESH-INTERVAL;VALUE=DURATION:PT1H
X-Robots-Tag:noindex
X-PUBLISHED-TTL:PT1H
BEGIN:VTIMEZONE
TZID:America/Edmonton
BEGIN:DAYLIGHT
TZOFFSETFROM:-0700
TZOFFSETTO:-0600
TZNAME:MDT
DTSTART:20250309T090000
END:DAYLIGHT
BEGIN:STANDARD
TZOFFSETFROM:-0600
TZOFFSETTO:-0700
TZNAME:MST
DTSTART:20251102T080000
END:STANDARD
END:VTIMEZONE
BEGIN:VEVENT
DTSTART;TZID=America/Edmonton:20250901T130000
DTEND;TZID=America/Edmonton:20250901T210000
DTSTAMP:20260424T113349
CREATED:20240504T051713Z
LAST-MODIFIED:20251125T155457Z
UID:10004130-1756731600-1756760400@communitycounsellingcentre.ca
SUMMARY:John
DESCRIPTION:
URL:https://communitycounsellingcentre.ca/event/john/2025-09-01/
LOCATION:Room 6
CATEGORIES:Room 6
END:VEVENT
BEGIN:VEVENT
DTSTART;TZID=America/Edmonton:20250902T090000
DTEND;TZID=America/Edmonton:20250902T170000
DTSTAMP:20260424T113349
CREATED:20241124T193305Z
LAST-MODIFIED:20251125T155547Z
UID:10006354-1756803600-1756832400@communitycounsellingcentre.ca
SUMMARY:John
DESCRIPTION:
URL:https://communitycounsellingcentre.ca/event/john-2-2/2025-09-02/
LOCATION:Room 6
CATEGORIES:Room 6
END:VEVENT
BEGIN:VEVENT
DTSTART;TZID=America/Edmonton:20250904T120000
DTEND;TZID=America/Edmonton:20250904T160000
DTSTAMP:20260424T113349
CREATED:20250904T211458Z
LAST-MODIFIED:20251126T021916Z
UID:10004027-1756987200-1757001600@communitycounsellingcentre.ca
SUMMARY:John
DESCRIPTION:
URL:https://communitycounsellingcentre.ca/event/john-3-2-2/2025-09-04/
LOCATION:Room 6
CATEGORIES:Room 6
END:VEVENT
BEGIN:VEVENT
DTSTART;TZID=America/Edmonton:20250905T090000
DTEND;TZID=America/Edmonton:20250905T170000
DTSTAMP:20260424T113349
CREATED:20240504T054921Z
LAST-MODIFIED:20251126T021348Z
UID:10003975-1757062800-1757091600@communitycounsellingcentre.ca
SUMMARY:John
DESCRIPTION:
URL:https://communitycounsellingcentre.ca/event/john-3/2025-09-05/
LOCATION:Room 6
CATEGORIES:Room 6
END:VEVENT
BEGIN:VEVENT
DTSTART;TZID=America/Edmonton:20250908T130000
DTEND;TZID=America/Edmonton:20250908T210000
DTSTAMP:20260424T113349
CREATED:20240504T051713Z
LAST-MODIFIED:20251125T155457Z
UID:10004131-1757336400-1757365200@communitycounsellingcentre.ca
SUMMARY:John
DESCRIPTION:
URL:https://communitycounsellingcentre.ca/event/john/2025-09-08/
LOCATION:Room 6
CATEGORIES:Room 6
END:VEVENT
BEGIN:VEVENT
DTSTART;TZID=America/Edmonton:20250909T090000
DTEND;TZID=America/Edmonton:20250909T170000
DTSTAMP:20260424T113349
CREATED:20241124T193305Z
LAST-MODIFIED:20251125T155547Z
UID:10006355-1757408400-1757437200@communitycounsellingcentre.ca
SUMMARY:John
DESCRIPTION:
URL:https://communitycounsellingcentre.ca/event/john-2-2/2025-09-09/
LOCATION:Room 6
CATEGORIES:Room 6
END:VEVENT
BEGIN:VEVENT
DTSTART;TZID=America/Edmonton:20250911T120000
DTEND;TZID=America/Edmonton:20250911T160000
DTSTAMP:20260424T113349
CREATED:20250904T211458Z
LAST-MODIFIED:20251126T021916Z
UID:10005665-1757592000-1757606400@communitycounsellingcentre.ca
SUMMARY:John
DESCRIPTION:
URL:https://communitycounsellingcentre.ca/event/john-3-2-2/2025-09-11/
LOCATION:Room 6
CATEGORIES:Room 6
END:VEVENT
BEGIN:VEVENT
DTSTART;TZID=America/Edmonton:20250912T090000
DTEND;TZID=America/Edmonton:20250912T170000
DTSTAMP:20260424T113349
CREATED:20240504T054921Z
LAST-MODIFIED:20251126T021348Z
UID:10003976-1757667600-1757696400@communitycounsellingcentre.ca
SUMMARY:John
DESCRIPTION:
URL:https://communitycounsellingcentre.ca/event/john-3/2025-09-12/
LOCATION:Room 6
CATEGORIES:Room 6
END:VEVENT
BEGIN:VEVENT
DTSTART;TZID=America/Edmonton:20250915T130000
DTEND;TZID=America/Edmonton:20250915T210000
DTSTAMP:20260424T113349
CREATED:20240504T051713Z
LAST-MODIFIED:20251125T155457Z
UID:10004132-1757941200-1757970000@communitycounsellingcentre.ca
SUMMARY:John
DESCRIPTION:
URL:https://communitycounsellingcentre.ca/event/john/2025-09-15/
LOCATION:Room 6
CATEGORIES:Room 6
END:VEVENT
BEGIN:VEVENT
DTSTART;TZID=America/Edmonton:20250916T090000
DTEND;TZID=America/Edmonton:20250916T170000
DTSTAMP:20260424T113349
CREATED:20241124T193305Z
LAST-MODIFIED:20251125T155547Z
UID:10006356-1758013200-1758042000@communitycounsellingcentre.ca
SUMMARY:John
DESCRIPTION:
URL:https://communitycounsellingcentre.ca/event/john-2-2/2025-09-16/
LOCATION:Room 6
CATEGORIES:Room 6
END:VEVENT
BEGIN:VEVENT
DTSTART;TZID=America/Edmonton:20250918T120000
DTEND;TZID=America/Edmonton:20250918T160000
DTSTAMP:20260424T113349
CREATED:20250904T211458Z
LAST-MODIFIED:20251126T021916Z
UID:10005666-1758196800-1758211200@communitycounsellingcentre.ca
SUMMARY:John
DESCRIPTION:
URL:https://communitycounsellingcentre.ca/event/john-3-2-2/2025-09-18/
LOCATION:Room 6
CATEGORIES:Room 6
END:VEVENT
BEGIN:VEVENT
DTSTART;TZID=America/Edmonton:20250919T090000
DTEND;TZID=America/Edmonton:20250919T170000
DTSTAMP:20260424T113349
CREATED:20240504T054921Z
LAST-MODIFIED:20251126T021348Z
UID:10003977-1758272400-1758301200@communitycounsellingcentre.ca
SUMMARY:John
DESCRIPTION:
URL:https://communitycounsellingcentre.ca/event/john-3/2025-09-19/
LOCATION:Room 6
CATEGORIES:Room 6
END:VEVENT
BEGIN:VEVENT
DTSTART;TZID=America/Edmonton:20250922T130000
DTEND;TZID=America/Edmonton:20250922T210000
DTSTAMP:20260424T113349
CREATED:20240504T051713Z
LAST-MODIFIED:20251125T155457Z
UID:10004133-1758546000-1758574800@communitycounsellingcentre.ca
SUMMARY:John
DESCRIPTION:
URL:https://communitycounsellingcentre.ca/event/john/2025-09-22/
LOCATION:Room 6
CATEGORIES:Room 6
END:VEVENT
BEGIN:VEVENT
DTSTART;TZID=America/Edmonton:20250923T090000
DTEND;TZID=America/Edmonton:20250923T170000
DTSTAMP:20260424T113349
CREATED:20241124T193305Z
LAST-MODIFIED:20251125T155547Z
UID:10006357-1758618000-1758646800@communitycounsellingcentre.ca
SUMMARY:John
DESCRIPTION:
URL:https://communitycounsellingcentre.ca/event/john-2-2/2025-09-23/
LOCATION:Room 6
CATEGORIES:Room 6
END:VEVENT
BEGIN:VEVENT
DTSTART;TZID=America/Edmonton:20250925T120000
DTEND;TZID=America/Edmonton:20250925T160000
DTSTAMP:20260424T113349
CREATED:20250904T211458Z
LAST-MODIFIED:20251126T021916Z
UID:10005667-1758801600-1758816000@communitycounsellingcentre.ca
SUMMARY:John
DESCRIPTION:
URL:https://communitycounsellingcentre.ca/event/john-3-2-2/2025-09-25/
LOCATION:Room 6
CATEGORIES:Room 6
END:VEVENT
BEGIN:VEVENT
DTSTART;TZID=America/Edmonton:20250926T090000
DTEND;TZID=America/Edmonton:20250926T170000
DTSTAMP:20260424T113349
CREATED:20240504T054921Z
LAST-MODIFIED:20251126T021348Z
UID:10003978-1758877200-1758906000@communitycounsellingcentre.ca
SUMMARY:John
DESCRIPTION:
URL:https://communitycounsellingcentre.ca/event/john-3/2025-09-26/
LOCATION:Room 6
CATEGORIES:Room 6
END:VEVENT
BEGIN:VEVENT
DTSTART;TZID=America/Edmonton:20250929T130000
DTEND;TZID=America/Edmonton:20250929T210000
DTSTAMP:20260424T113349
CREATED:20240504T051713Z
LAST-MODIFIED:20251125T155457Z
UID:10004134-1759150800-1759179600@communitycounsellingcentre.ca
SUMMARY:John
DESCRIPTION:
URL:https://communitycounsellingcentre.ca/event/john/2025-09-29/
LOCATION:Room 6
CATEGORIES:Room 6
END:VEVENT
BEGIN:VEVENT
DTSTART;TZID=America/Edmonton:20250930T090000
DTEND;TZID=America/Edmonton:20250930T170000
DTSTAMP:20260424T113349
CREATED:20241124T193305Z
LAST-MODIFIED:20251125T155547Z
UID:10006358-1759222800-1759251600@communitycounsellingcentre.ca
SUMMARY:John
DESCRIPTION:
URL:https://communitycounsellingcentre.ca/event/john-2-2/2025-09-30/
LOCATION:Room 6
CATEGORIES:Room 6
END:VEVENT
END:VCALENDAR