BEGIN:VCALENDAR
VERSION:2.0
PRODID:-//Community Counselling Centre - ECPv6.13.1//NONSGML v1.0//EN
CALSCALE:GREGORIAN
METHOD:PUBLISH
X-ORIGINAL-URL:https://communitycounsellingcentre.ca
X-WR-CALDESC:Events for Community Counselling Centre
REFRESH-INTERVAL;VALUE=DURATION:PT1H
X-Robots-Tag:noindex
X-PUBLISHED-TTL:PT1H
BEGIN:VTIMEZONE
TZID:America/Edmonton
BEGIN:DAYLIGHT
TZOFFSETFROM:-0700
TZOFFSETTO:-0600
TZNAME:MDT
DTSTART:20260308T090000
END:DAYLIGHT
BEGIN:STANDARD
TZOFFSETFROM:-0600
TZOFFSETTO:-0700
TZNAME:MST
DTSTART:20261101T080000
END:STANDARD
END:VTIMEZONE
BEGIN:VEVENT
DTSTART;TZID=America/Edmonton:20260701T160000
DTEND;TZID=America/Edmonton:20260701T200000
DTSTAMP:20260424T064053
CREATED:20250916T195512Z
LAST-MODIFIED:20251125T153737Z
UID:10006062-1782921600-1782936000@communitycounsellingcentre.ca
SUMMARY:Elizabeth
DESCRIPTION:
URL:https://communitycounsellingcentre.ca/event/elizabeth-15/2026-07-01/
LOCATION:Room 6
CATEGORIES:Room 6
END:VEVENT
BEGIN:VEVENT
DTSTART;TZID=America/Edmonton:20260702T120000
DTEND;TZID=America/Edmonton:20260702T160000
DTSTAMP:20260424T064053
CREATED:20250904T211458Z
LAST-MODIFIED:20251126T021916Z
UID:10006711-1782993600-1783008000@communitycounsellingcentre.ca
SUMMARY:John
DESCRIPTION:
URL:https://communitycounsellingcentre.ca/event/john-3-2-2/2026-07-02/
LOCATION:Room 6
CATEGORIES:Room 6
END:VEVENT
BEGIN:VEVENT
DTSTART;TZID=America/Edmonton:20260703T090000
DTEND;TZID=America/Edmonton:20260703T170000
DTSTAMP:20260424T064053
CREATED:20240504T054921Z
LAST-MODIFIED:20251126T021348Z
UID:10006450-1783069200-1783098000@communitycounsellingcentre.ca
SUMMARY:John
DESCRIPTION:
URL:https://communitycounsellingcentre.ca/event/john-3/2026-07-03/
LOCATION:Room 6
CATEGORIES:Room 6
END:VEVENT
BEGIN:VEVENT
DTSTART;TZID=America/Edmonton:20260706T130000
DTEND;TZID=America/Edmonton:20260706T210000
DTSTAMP:20260424T064053
CREATED:20240504T051713Z
LAST-MODIFIED:20251125T155457Z
UID:10006288-1783342800-1783371600@communitycounsellingcentre.ca
SUMMARY:John
DESCRIPTION:
URL:https://communitycounsellingcentre.ca/event/john/2026-07-06/
LOCATION:Room 6
CATEGORIES:Room 6
END:VEVENT
BEGIN:VEVENT
DTSTART;TZID=America/Edmonton:20260707T090000
DTEND;TZID=America/Edmonton:20260707T170000
DTSTAMP:20260424T064053
CREATED:20241124T193305Z
LAST-MODIFIED:20251125T155547Z
UID:10006398-1783414800-1783443600@communitycounsellingcentre.ca
SUMMARY:John
DESCRIPTION:
URL:https://communitycounsellingcentre.ca/event/john-2-2/2026-07-07/
LOCATION:Room 6
CATEGORIES:Room 6
END:VEVENT
BEGIN:VEVENT
DTSTART;TZID=America/Edmonton:20260708T160000
DTEND;TZID=America/Edmonton:20260708T200000
DTSTAMP:20260424T064053
CREATED:20250916T195512Z
LAST-MODIFIED:20251125T153737Z
UID:10006063-1783526400-1783540800@communitycounsellingcentre.ca
SUMMARY:Elizabeth
DESCRIPTION:
URL:https://communitycounsellingcentre.ca/event/elizabeth-15/2026-07-08/
LOCATION:Room 6
CATEGORIES:Room 6
END:VEVENT
BEGIN:VEVENT
DTSTART;TZID=America/Edmonton:20260709T120000
DTEND;TZID=America/Edmonton:20260709T160000
DTSTAMP:20260424T064053
CREATED:20250904T211458Z
LAST-MODIFIED:20251126T021916Z
UID:10006712-1783598400-1783612800@communitycounsellingcentre.ca
SUMMARY:John
DESCRIPTION:
URL:https://communitycounsellingcentre.ca/event/john-3-2-2/2026-07-09/
LOCATION:Room 6
CATEGORIES:Room 6
END:VEVENT
BEGIN:VEVENT
DTSTART;TZID=America/Edmonton:20260710T090000
DTEND;TZID=America/Edmonton:20260710T170000
DTSTAMP:20260424T064053
CREATED:20240504T054921Z
LAST-MODIFIED:20251126T021348Z
UID:10006451-1783674000-1783702800@communitycounsellingcentre.ca
SUMMARY:John
DESCRIPTION:
URL:https://communitycounsellingcentre.ca/event/john-3/2026-07-10/
LOCATION:Room 6
CATEGORIES:Room 6
END:VEVENT
BEGIN:VEVENT
DTSTART;TZID=America/Edmonton:20260713T130000
DTEND;TZID=America/Edmonton:20260713T210000
DTSTAMP:20260424T064053
CREATED:20240504T051713Z
LAST-MODIFIED:20251125T155457Z
UID:10006289-1783947600-1783976400@communitycounsellingcentre.ca
SUMMARY:John
DESCRIPTION:
URL:https://communitycounsellingcentre.ca/event/john/2026-07-13/
LOCATION:Room 6
CATEGORIES:Room 6
END:VEVENT
BEGIN:VEVENT
DTSTART;TZID=America/Edmonton:20260714T090000
DTEND;TZID=America/Edmonton:20260714T170000
DTSTAMP:20260424T064053
CREATED:20241124T193305Z
LAST-MODIFIED:20251125T155547Z
UID:10006399-1784019600-1784048400@communitycounsellingcentre.ca
SUMMARY:John
DESCRIPTION:
URL:https://communitycounsellingcentre.ca/event/john-2-2/2026-07-14/
LOCATION:Room 6
CATEGORIES:Room 6
END:VEVENT
BEGIN:VEVENT
DTSTART;TZID=America/Edmonton:20260715T160000
DTEND;TZID=America/Edmonton:20260715T200000
DTSTAMP:20260424T064053
CREATED:20250916T195512Z
LAST-MODIFIED:20251125T153737Z
UID:10006064-1784131200-1784145600@communitycounsellingcentre.ca
SUMMARY:Elizabeth
DESCRIPTION:
URL:https://communitycounsellingcentre.ca/event/elizabeth-15/2026-07-15/
LOCATION:Room 6
CATEGORIES:Room 6
END:VEVENT
BEGIN:VEVENT
DTSTART;TZID=America/Edmonton:20260716T120000
DTEND;TZID=America/Edmonton:20260716T160000
DTSTAMP:20260424T064053
CREATED:20250904T211458Z
LAST-MODIFIED:20251126T021916Z
UID:10006713-1784203200-1784217600@communitycounsellingcentre.ca
SUMMARY:John
DESCRIPTION:
URL:https://communitycounsellingcentre.ca/event/john-3-2-2/2026-07-16/
LOCATION:Room 6
CATEGORIES:Room 6
END:VEVENT
BEGIN:VEVENT
DTSTART;TZID=America/Edmonton:20260717T090000
DTEND;TZID=America/Edmonton:20260717T170000
DTSTAMP:20260424T064053
CREATED:20240504T054921Z
LAST-MODIFIED:20251126T021348Z
UID:10006452-1784278800-1784307600@communitycounsellingcentre.ca
SUMMARY:John
DESCRIPTION:
URL:https://communitycounsellingcentre.ca/event/john-3/2026-07-17/
LOCATION:Room 6
CATEGORIES:Room 6
END:VEVENT
BEGIN:VEVENT
DTSTART;TZID=America/Edmonton:20260720T130000
DTEND;TZID=America/Edmonton:20260720T210000
DTSTAMP:20260424T064053
CREATED:20240504T051713Z
LAST-MODIFIED:20251125T155457Z
UID:10006290-1784552400-1784581200@communitycounsellingcentre.ca
SUMMARY:John
DESCRIPTION:
URL:https://communitycounsellingcentre.ca/event/john/2026-07-20/
LOCATION:Room 6
CATEGORIES:Room 6
END:VEVENT
BEGIN:VEVENT
DTSTART;TZID=America/Edmonton:20260721T090000
DTEND;TZID=America/Edmonton:20260721T170000
DTSTAMP:20260424T064053
CREATED:20241124T193305Z
LAST-MODIFIED:20251125T155547Z
UID:10006400-1784624400-1784653200@communitycounsellingcentre.ca
SUMMARY:John
DESCRIPTION:
URL:https://communitycounsellingcentre.ca/event/john-2-2/2026-07-21/
LOCATION:Room 6
CATEGORIES:Room 6
END:VEVENT
BEGIN:VEVENT
DTSTART;TZID=America/Edmonton:20260722T160000
DTEND;TZID=America/Edmonton:20260722T200000
DTSTAMP:20260424T064053
CREATED:20250916T195512Z
LAST-MODIFIED:20251125T153737Z
UID:10006065-1784736000-1784750400@communitycounsellingcentre.ca
SUMMARY:Elizabeth
DESCRIPTION:
URL:https://communitycounsellingcentre.ca/event/elizabeth-15/2026-07-22/
LOCATION:Room 6
CATEGORIES:Room 6
END:VEVENT
BEGIN:VEVENT
DTSTART;TZID=America/Edmonton:20260723T120000
DTEND;TZID=America/Edmonton:20260723T160000
DTSTAMP:20260424T064053
CREATED:20250904T211458Z
LAST-MODIFIED:20251126T021916Z
UID:10006714-1784808000-1784822400@communitycounsellingcentre.ca
SUMMARY:John
DESCRIPTION:
URL:https://communitycounsellingcentre.ca/event/john-3-2-2/2026-07-23/
LOCATION:Room 6
CATEGORIES:Room 6
END:VEVENT
BEGIN:VEVENT
DTSTART;TZID=America/Edmonton:20260724T090000
DTEND;TZID=America/Edmonton:20260724T170000
DTSTAMP:20260424T064053
CREATED:20240504T054921Z
LAST-MODIFIED:20251126T021348Z
UID:10006453-1784883600-1784912400@communitycounsellingcentre.ca
SUMMARY:John
DESCRIPTION:
URL:https://communitycounsellingcentre.ca/event/john-3/2026-07-24/
LOCATION:Room 6
CATEGORIES:Room 6
END:VEVENT
BEGIN:VEVENT
DTSTART;TZID=America/Edmonton:20260727T130000
DTEND;TZID=America/Edmonton:20260727T210000
DTSTAMP:20260424T064053
CREATED:20240504T051713Z
LAST-MODIFIED:20251125T155457Z
UID:10006291-1785157200-1785186000@communitycounsellingcentre.ca
SUMMARY:John
DESCRIPTION:
URL:https://communitycounsellingcentre.ca/event/john/2026-07-27/
LOCATION:Room 6
CATEGORIES:Room 6
END:VEVENT
BEGIN:VEVENT
DTSTART;TZID=America/Edmonton:20260728T090000
DTEND;TZID=America/Edmonton:20260728T170000
DTSTAMP:20260424T064053
CREATED:20241124T193305Z
LAST-MODIFIED:20251125T155547Z
UID:10006401-1785229200-1785258000@communitycounsellingcentre.ca
SUMMARY:John
DESCRIPTION:
URL:https://communitycounsellingcentre.ca/event/john-2-2/2026-07-28/
LOCATION:Room 6
CATEGORIES:Room 6
END:VEVENT
BEGIN:VEVENT
DTSTART;TZID=America/Edmonton:20260729T160000
DTEND;TZID=America/Edmonton:20260729T200000
DTSTAMP:20260424T064053
CREATED:20250916T195512Z
LAST-MODIFIED:20251125T153737Z
UID:10006066-1785340800-1785355200@communitycounsellingcentre.ca
SUMMARY:Elizabeth
DESCRIPTION:
URL:https://communitycounsellingcentre.ca/event/elizabeth-15/2026-07-29/
LOCATION:Room 6
CATEGORIES:Room 6
END:VEVENT
BEGIN:VEVENT
DTSTART;TZID=America/Edmonton:20260730T120000
DTEND;TZID=America/Edmonton:20260730T160000
DTSTAMP:20260424T064053
CREATED:20250904T211458Z
LAST-MODIFIED:20251126T021916Z
UID:10006715-1785412800-1785427200@communitycounsellingcentre.ca
SUMMARY:John
DESCRIPTION:
URL:https://communitycounsellingcentre.ca/event/john-3-2-2/2026-07-30/
LOCATION:Room 6
CATEGORIES:Room 6
END:VEVENT
BEGIN:VEVENT
DTSTART;TZID=America/Edmonton:20260731T090000
DTEND;TZID=America/Edmonton:20260731T170000
DTSTAMP:20260424T064053
CREATED:20240504T054921Z
LAST-MODIFIED:20251126T021348Z
UID:10006454-1785488400-1785517200@communitycounsellingcentre.ca
SUMMARY:John
DESCRIPTION:
URL:https://communitycounsellingcentre.ca/event/john-3/2026-07-31/
LOCATION:Room 6
CATEGORIES:Room 6
END:VEVENT
END:VCALENDAR