BEGIN:VCALENDAR
VERSION:2.0
PRODID:-//Community Counselling Centre - ECPv6.13.1//NONSGML v1.0//EN
CALSCALE:GREGORIAN
METHOD:PUBLISH
X-WR-CALNAME:Community Counselling Centre
X-ORIGINAL-URL:https://communitycounsellingcentre.ca
X-WR-CALDESC:Events for Community Counselling Centre
REFRESH-INTERVAL;VALUE=DURATION:PT1H
X-Robots-Tag:noindex
X-PUBLISHED-TTL:PT1H
BEGIN:VTIMEZONE
TZID:America/Edmonton
BEGIN:DAYLIGHT
TZOFFSETFROM:-0700
TZOFFSETTO:-0600
TZNAME:MDT
DTSTART:20260308T090000
END:DAYLIGHT
BEGIN:STANDARD
TZOFFSETFROM:-0600
TZOFFSETTO:-0700
TZNAME:MST
DTSTART:20261101T080000
END:STANDARD
END:VTIMEZONE
BEGIN:VEVENT
DTSTART;TZID=America/Edmonton:20260901T090000
DTEND;TZID=America/Edmonton:20260901T170000
DTSTAMP:20260424T093657
CREATED:20241124T193305Z
LAST-MODIFIED:20251125T155547Z
UID:10006406-1788253200-1788282000@communitycounsellingcentre.ca
SUMMARY:John
DESCRIPTION:
URL:https://communitycounsellingcentre.ca/event/john-2-2/2026-09-01/
LOCATION:Room 6
CATEGORIES:Room 6
END:VEVENT
BEGIN:VEVENT
DTSTART;TZID=America/Edmonton:20260902T160000
DTEND;TZID=America/Edmonton:20260902T200000
DTSTAMP:20260424T093657
CREATED:20250916T195512Z
LAST-MODIFIED:20251125T153737Z
UID:10006071-1788364800-1788379200@communitycounsellingcentre.ca
SUMMARY:Elizabeth
DESCRIPTION:
URL:https://communitycounsellingcentre.ca/event/elizabeth-15/2026-09-02/
LOCATION:Room 6
CATEGORIES:Room 6
END:VEVENT
BEGIN:VEVENT
DTSTART;TZID=America/Edmonton:20260903T120000
DTEND;TZID=America/Edmonton:20260903T160000
DTSTAMP:20260424T093657
CREATED:20250904T211458Z
LAST-MODIFIED:20251126T021916Z
UID:10006720-1788436800-1788451200@communitycounsellingcentre.ca
SUMMARY:John
DESCRIPTION:
URL:https://communitycounsellingcentre.ca/event/john-3-2-2/2026-09-03/
LOCATION:Room 6
CATEGORIES:Room 6
END:VEVENT
BEGIN:VEVENT
DTSTART;TZID=America/Edmonton:20260904T090000
DTEND;TZID=America/Edmonton:20260904T170000
DTSTAMP:20260424T093657
CREATED:20240504T054921Z
LAST-MODIFIED:20251126T021348Z
UID:10006459-1788512400-1788541200@communitycounsellingcentre.ca
SUMMARY:John
DESCRIPTION:
URL:https://communitycounsellingcentre.ca/event/john-3/2026-09-04/
LOCATION:Room 6
CATEGORIES:Room 6
END:VEVENT
BEGIN:VEVENT
DTSTART;TZID=America/Edmonton:20260907T130000
DTEND;TZID=America/Edmonton:20260907T210000
DTSTAMP:20260424T093657
CREATED:20240504T051713Z
LAST-MODIFIED:20251125T155457Z
UID:10006297-1788786000-1788814800@communitycounsellingcentre.ca
SUMMARY:John
DESCRIPTION:
URL:https://communitycounsellingcentre.ca/event/john/2026-09-07/
LOCATION:Room 6
CATEGORIES:Room 6
END:VEVENT
BEGIN:VEVENT
DTSTART;TZID=America/Edmonton:20260908T090000
DTEND;TZID=America/Edmonton:20260908T170000
DTSTAMP:20260424T093657
CREATED:20241124T193305Z
LAST-MODIFIED:20251125T155547Z
UID:10006407-1788858000-1788886800@communitycounsellingcentre.ca
SUMMARY:John
DESCRIPTION:
URL:https://communitycounsellingcentre.ca/event/john-2-2/2026-09-08/
LOCATION:Room 6
CATEGORIES:Room 6
END:VEVENT
BEGIN:VEVENT
DTSTART;TZID=America/Edmonton:20260909T160000
DTEND;TZID=America/Edmonton:20260909T200000
DTSTAMP:20260424T093657
CREATED:20250916T195512Z
LAST-MODIFIED:20251125T153737Z
UID:10006072-1788969600-1788984000@communitycounsellingcentre.ca
SUMMARY:Elizabeth
DESCRIPTION:
URL:https://communitycounsellingcentre.ca/event/elizabeth-15/2026-09-09/
LOCATION:Room 6
CATEGORIES:Room 6
END:VEVENT
BEGIN:VEVENT
DTSTART;TZID=America/Edmonton:20260910T120000
DTEND;TZID=America/Edmonton:20260910T160000
DTSTAMP:20260424T093657
CREATED:20250904T211458Z
LAST-MODIFIED:20251126T021916Z
UID:10006721-1789041600-1789056000@communitycounsellingcentre.ca
SUMMARY:John
DESCRIPTION:
URL:https://communitycounsellingcentre.ca/event/john-3-2-2/2026-09-10/
LOCATION:Room 6
CATEGORIES:Room 6
END:VEVENT
BEGIN:VEVENT
DTSTART;TZID=America/Edmonton:20260911T090000
DTEND;TZID=America/Edmonton:20260911T170000
DTSTAMP:20260424T093657
CREATED:20240504T054921Z
LAST-MODIFIED:20251126T021348Z
UID:10006460-1789117200-1789146000@communitycounsellingcentre.ca
SUMMARY:John
DESCRIPTION:
URL:https://communitycounsellingcentre.ca/event/john-3/2026-09-11/
LOCATION:Room 6
CATEGORIES:Room 6
END:VEVENT
BEGIN:VEVENT
DTSTART;TZID=America/Edmonton:20260914T130000
DTEND;TZID=America/Edmonton:20260914T210000
DTSTAMP:20260424T093657
CREATED:20240504T051713Z
LAST-MODIFIED:20251125T155457Z
UID:10006298-1789390800-1789419600@communitycounsellingcentre.ca
SUMMARY:John
DESCRIPTION:
URL:https://communitycounsellingcentre.ca/event/john/2026-09-14/
LOCATION:Room 6
CATEGORIES:Room 6
END:VEVENT
BEGIN:VEVENT
DTSTART;TZID=America/Edmonton:20260915T090000
DTEND;TZID=America/Edmonton:20260915T170000
DTSTAMP:20260424T093657
CREATED:20241124T193305Z
LAST-MODIFIED:20251125T155547Z
UID:10006408-1789462800-1789491600@communitycounsellingcentre.ca
SUMMARY:John
DESCRIPTION:
URL:https://communitycounsellingcentre.ca/event/john-2-2/2026-09-15/
LOCATION:Room 6
CATEGORIES:Room 6
END:VEVENT
BEGIN:VEVENT
DTSTART;TZID=America/Edmonton:20260916T160000
DTEND;TZID=America/Edmonton:20260916T200000
DTSTAMP:20260424T093657
CREATED:20250916T195512Z
LAST-MODIFIED:20251125T153737Z
UID:10006073-1789574400-1789588800@communitycounsellingcentre.ca
SUMMARY:Elizabeth
DESCRIPTION:
URL:https://communitycounsellingcentre.ca/event/elizabeth-15/2026-09-16/
LOCATION:Room 6
CATEGORIES:Room 6
END:VEVENT
BEGIN:VEVENT
DTSTART;TZID=America/Edmonton:20260917T120000
DTEND;TZID=America/Edmonton:20260917T160000
DTSTAMP:20260424T093657
CREATED:20250904T211458Z
LAST-MODIFIED:20251126T021916Z
UID:10006722-1789646400-1789660800@communitycounsellingcentre.ca
SUMMARY:John
DESCRIPTION:
URL:https://communitycounsellingcentre.ca/event/john-3-2-2/2026-09-17/
LOCATION:Room 6
CATEGORIES:Room 6
END:VEVENT
BEGIN:VEVENT
DTSTART;TZID=America/Edmonton:20260918T090000
DTEND;TZID=America/Edmonton:20260918T170000
DTSTAMP:20260424T093657
CREATED:20240504T054921Z
LAST-MODIFIED:20251126T021348Z
UID:10006461-1789722000-1789750800@communitycounsellingcentre.ca
SUMMARY:John
DESCRIPTION:
URL:https://communitycounsellingcentre.ca/event/john-3/2026-09-18/
LOCATION:Room 6
CATEGORIES:Room 6
END:VEVENT
BEGIN:VEVENT
DTSTART;TZID=America/Edmonton:20260921T130000
DTEND;TZID=America/Edmonton:20260921T210000
DTSTAMP:20260424T093657
CREATED:20240504T051713Z
LAST-MODIFIED:20251125T155457Z
UID:10006299-1789995600-1790024400@communitycounsellingcentre.ca
SUMMARY:John
DESCRIPTION:
URL:https://communitycounsellingcentre.ca/event/john/2026-09-21/
LOCATION:Room 6
CATEGORIES:Room 6
END:VEVENT
BEGIN:VEVENT
DTSTART;TZID=America/Edmonton:20260922T090000
DTEND;TZID=America/Edmonton:20260922T170000
DTSTAMP:20260424T093657
CREATED:20241124T193305Z
LAST-MODIFIED:20251125T155547Z
UID:10006409-1790067600-1790096400@communitycounsellingcentre.ca
SUMMARY:John
DESCRIPTION:
URL:https://communitycounsellingcentre.ca/event/john-2-2/2026-09-22/
LOCATION:Room 6
CATEGORIES:Room 6
END:VEVENT
BEGIN:VEVENT
DTSTART;TZID=America/Edmonton:20260923T160000
DTEND;TZID=America/Edmonton:20260923T200000
DTSTAMP:20260424T093657
CREATED:20250916T195512Z
LAST-MODIFIED:20251125T153737Z
UID:10006074-1790179200-1790193600@communitycounsellingcentre.ca
SUMMARY:Elizabeth
DESCRIPTION:
URL:https://communitycounsellingcentre.ca/event/elizabeth-15/2026-09-23/
LOCATION:Room 6
CATEGORIES:Room 6
END:VEVENT
BEGIN:VEVENT
DTSTART;TZID=America/Edmonton:20260924T120000
DTEND;TZID=America/Edmonton:20260924T160000
DTSTAMP:20260424T093657
CREATED:20250904T211458Z
LAST-MODIFIED:20251126T021916Z
UID:10006723-1790251200-1790265600@communitycounsellingcentre.ca
SUMMARY:John
DESCRIPTION:
URL:https://communitycounsellingcentre.ca/event/john-3-2-2/2026-09-24/
LOCATION:Room 6
CATEGORIES:Room 6
END:VEVENT
BEGIN:VEVENT
DTSTART;TZID=America/Edmonton:20260925T090000
DTEND;TZID=America/Edmonton:20260925T170000
DTSTAMP:20260424T093657
CREATED:20240504T054921Z
LAST-MODIFIED:20251126T021348Z
UID:10006462-1790326800-1790355600@communitycounsellingcentre.ca
SUMMARY:John
DESCRIPTION:
URL:https://communitycounsellingcentre.ca/event/john-3/2026-09-25/
LOCATION:Room 6
CATEGORIES:Room 6
END:VEVENT
BEGIN:VEVENT
DTSTART;TZID=America/Edmonton:20260928T130000
DTEND;TZID=America/Edmonton:20260928T210000
DTSTAMP:20260424T093657
CREATED:20240504T051713Z
LAST-MODIFIED:20251125T155457Z
UID:10006300-1790600400-1790629200@communitycounsellingcentre.ca
SUMMARY:John
DESCRIPTION:
URL:https://communitycounsellingcentre.ca/event/john/2026-09-28/
LOCATION:Room 6
CATEGORIES:Room 6
END:VEVENT
BEGIN:VEVENT
DTSTART;TZID=America/Edmonton:20260929T090000
DTEND;TZID=America/Edmonton:20260929T170000
DTSTAMP:20260424T093657
CREATED:20241124T193305Z
LAST-MODIFIED:20251125T155547Z
UID:10006410-1790672400-1790701200@communitycounsellingcentre.ca
SUMMARY:John
DESCRIPTION:
URL:https://communitycounsellingcentre.ca/event/john-2-2/2026-09-29/
LOCATION:Room 6
CATEGORIES:Room 6
END:VEVENT
BEGIN:VEVENT
DTSTART;TZID=America/Edmonton:20260930T160000
DTEND;TZID=America/Edmonton:20260930T200000
DTSTAMP:20260424T093657
CREATED:20250916T195512Z
LAST-MODIFIED:20251125T153737Z
UID:10006075-1790784000-1790798400@communitycounsellingcentre.ca
SUMMARY:Elizabeth
DESCRIPTION:
URL:https://communitycounsellingcentre.ca/event/elizabeth-15/2026-09-30/
LOCATION:Room 6
CATEGORIES:Room 6
END:VEVENT
END:VCALENDAR