BEGIN:VCALENDAR
VERSION:2.0
PRODID:-//Community Counselling Centre - ECPv6.13.1//NONSGML v1.0//EN
CALSCALE:GREGORIAN
METHOD:PUBLISH
X-WR-CALNAME:Community Counselling Centre
X-ORIGINAL-URL:https://communitycounsellingcentre.ca
X-WR-CALDESC:Events for Community Counselling Centre
REFRESH-INTERVAL;VALUE=DURATION:PT1H
X-Robots-Tag:noindex
X-PUBLISHED-TTL:PT1H
BEGIN:VTIMEZONE
TZID:America/Edmonton
BEGIN:DAYLIGHT
TZOFFSETFROM:-0700
TZOFFSETTO:-0600
TZNAME:MDT
DTSTART:20260308T090000
END:DAYLIGHT
BEGIN:STANDARD
TZOFFSETFROM:-0600
TZOFFSETTO:-0700
TZNAME:MST
DTSTART:20261101T080000
END:STANDARD
END:VTIMEZONE
BEGIN:VEVENT
DTSTART;TZID=America/Edmonton:20261102T130000
DTEND;TZID=America/Edmonton:20261102T210000
DTSTAMP:20260424T122415
CREATED:20240504T051713Z
LAST-MODIFIED:20251125T155457Z
UID:10006305-1793624400-1793653200@communitycounsellingcentre.ca
SUMMARY:John
DESCRIPTION:
URL:https://communitycounsellingcentre.ca/event/john/2026-11-02/
LOCATION:Room 6
CATEGORIES:Room 6
END:VEVENT
BEGIN:VEVENT
DTSTART;TZID=America/Edmonton:20261103T090000
DTEND;TZID=America/Edmonton:20261103T170000
DTSTAMP:20260424T122415
CREATED:20241124T193305Z
LAST-MODIFIED:20251125T155547Z
UID:10006415-1793696400-1793725200@communitycounsellingcentre.ca
SUMMARY:John
DESCRIPTION:
URL:https://communitycounsellingcentre.ca/event/john-2-2/2026-11-03/
LOCATION:Room 6
CATEGORIES:Room 6
END:VEVENT
BEGIN:VEVENT
DTSTART;TZID=America/Edmonton:20261104T160000
DTEND;TZID=America/Edmonton:20261104T200000
DTSTAMP:20260424T122415
CREATED:20250916T195512Z
LAST-MODIFIED:20251125T153737Z
UID:10006080-1793808000-1793822400@communitycounsellingcentre.ca
SUMMARY:Elizabeth
DESCRIPTION:
URL:https://communitycounsellingcentre.ca/event/elizabeth-15/2026-11-04/
LOCATION:Room 6
CATEGORIES:Room 6
END:VEVENT
BEGIN:VEVENT
DTSTART;TZID=America/Edmonton:20261105T120000
DTEND;TZID=America/Edmonton:20261105T160000
DTSTAMP:20260424T122415
CREATED:20250904T211458Z
LAST-MODIFIED:20251126T021916Z
UID:10006729-1793880000-1793894400@communitycounsellingcentre.ca
SUMMARY:John
DESCRIPTION:
URL:https://communitycounsellingcentre.ca/event/john-3-2-2/2026-11-05/
LOCATION:Room 6
CATEGORIES:Room 6
END:VEVENT
BEGIN:VEVENT
DTSTART;TZID=America/Edmonton:20261106T090000
DTEND;TZID=America/Edmonton:20261106T170000
DTSTAMP:20260424T122415
CREATED:20240504T054921Z
LAST-MODIFIED:20251126T021348Z
UID:10006468-1793955600-1793984400@communitycounsellingcentre.ca
SUMMARY:John
DESCRIPTION:
URL:https://communitycounsellingcentre.ca/event/john-3/2026-11-06/
LOCATION:Room 6
CATEGORIES:Room 6
END:VEVENT
BEGIN:VEVENT
DTSTART;TZID=America/Edmonton:20261109T130000
DTEND;TZID=America/Edmonton:20261109T210000
DTSTAMP:20260424T122415
CREATED:20240504T051713Z
LAST-MODIFIED:20251125T155457Z
UID:10006306-1794229200-1794258000@communitycounsellingcentre.ca
SUMMARY:John
DESCRIPTION:
URL:https://communitycounsellingcentre.ca/event/john/2026-11-09/
LOCATION:Room 6
CATEGORIES:Room 6
END:VEVENT
BEGIN:VEVENT
DTSTART;TZID=America/Edmonton:20261110T090000
DTEND;TZID=America/Edmonton:20261110T170000
DTSTAMP:20260424T122415
CREATED:20241124T193305Z
LAST-MODIFIED:20251125T155547Z
UID:10006416-1794301200-1794330000@communitycounsellingcentre.ca
SUMMARY:John
DESCRIPTION:
URL:https://communitycounsellingcentre.ca/event/john-2-2/2026-11-10/
LOCATION:Room 6
CATEGORIES:Room 6
END:VEVENT
BEGIN:VEVENT
DTSTART;TZID=America/Edmonton:20261111T160000
DTEND;TZID=America/Edmonton:20261111T200000
DTSTAMP:20260424T122415
CREATED:20250916T195512Z
LAST-MODIFIED:20251125T153737Z
UID:10006081-1794412800-1794427200@communitycounsellingcentre.ca
SUMMARY:Elizabeth
DESCRIPTION:
URL:https://communitycounsellingcentre.ca/event/elizabeth-15/2026-11-11/
LOCATION:Room 6
CATEGORIES:Room 6
END:VEVENT
BEGIN:VEVENT
DTSTART;TZID=America/Edmonton:20261112T120000
DTEND;TZID=America/Edmonton:20261112T160000
DTSTAMP:20260424T122415
CREATED:20250904T211458Z
LAST-MODIFIED:20251126T021916Z
UID:10006730-1794484800-1794499200@communitycounsellingcentre.ca
SUMMARY:John
DESCRIPTION:
URL:https://communitycounsellingcentre.ca/event/john-3-2-2/2026-11-12/
LOCATION:Room 6
CATEGORIES:Room 6
END:VEVENT
BEGIN:VEVENT
DTSTART;TZID=America/Edmonton:20261113T090000
DTEND;TZID=America/Edmonton:20261113T170000
DTSTAMP:20260424T122415
CREATED:20240504T054921Z
LAST-MODIFIED:20251126T021348Z
UID:10006469-1794560400-1794589200@communitycounsellingcentre.ca
SUMMARY:John
DESCRIPTION:
URL:https://communitycounsellingcentre.ca/event/john-3/2026-11-13/
LOCATION:Room 6
CATEGORIES:Room 6
END:VEVENT
BEGIN:VEVENT
DTSTART;TZID=America/Edmonton:20261116T130000
DTEND;TZID=America/Edmonton:20261116T210000
DTSTAMP:20260424T122415
CREATED:20240504T051713Z
LAST-MODIFIED:20251125T155457Z
UID:10006307-1794834000-1794862800@communitycounsellingcentre.ca
SUMMARY:John
DESCRIPTION:
URL:https://communitycounsellingcentre.ca/event/john/2026-11-16/
LOCATION:Room 6
CATEGORIES:Room 6
END:VEVENT
BEGIN:VEVENT
DTSTART;TZID=America/Edmonton:20261117T090000
DTEND;TZID=America/Edmonton:20261117T170000
DTSTAMP:20260424T122415
CREATED:20241124T193305Z
LAST-MODIFIED:20251125T155547Z
UID:10006417-1794906000-1794934800@communitycounsellingcentre.ca
SUMMARY:John
DESCRIPTION:
URL:https://communitycounsellingcentre.ca/event/john-2-2/2026-11-17/
LOCATION:Room 6
CATEGORIES:Room 6
END:VEVENT
BEGIN:VEVENT
DTSTART;TZID=America/Edmonton:20261118T160000
DTEND;TZID=America/Edmonton:20261118T200000
DTSTAMP:20260424T122415
CREATED:20250916T195512Z
LAST-MODIFIED:20251125T153737Z
UID:10006082-1795017600-1795032000@communitycounsellingcentre.ca
SUMMARY:Elizabeth
DESCRIPTION:
URL:https://communitycounsellingcentre.ca/event/elizabeth-15/2026-11-18/
LOCATION:Room 6
CATEGORIES:Room 6
END:VEVENT
BEGIN:VEVENT
DTSTART;TZID=America/Edmonton:20261119T120000
DTEND;TZID=America/Edmonton:20261119T160000
DTSTAMP:20260424T122415
CREATED:20250904T211458Z
LAST-MODIFIED:20251126T021916Z
UID:10006731-1795089600-1795104000@communitycounsellingcentre.ca
SUMMARY:John
DESCRIPTION:
URL:https://communitycounsellingcentre.ca/event/john-3-2-2/2026-11-19/
LOCATION:Room 6
CATEGORIES:Room 6
END:VEVENT
BEGIN:VEVENT
DTSTART;TZID=America/Edmonton:20261120T090000
DTEND;TZID=America/Edmonton:20261120T170000
DTSTAMP:20260424T122415
CREATED:20240504T054921Z
LAST-MODIFIED:20251126T021348Z
UID:10006470-1795165200-1795194000@communitycounsellingcentre.ca
SUMMARY:John
DESCRIPTION:
URL:https://communitycounsellingcentre.ca/event/john-3/2026-11-20/
LOCATION:Room 6
CATEGORIES:Room 6
END:VEVENT
BEGIN:VEVENT
DTSTART;TZID=America/Edmonton:20261123T130000
DTEND;TZID=America/Edmonton:20261123T210000
DTSTAMP:20260424T122415
CREATED:20240504T051713Z
LAST-MODIFIED:20251125T155457Z
UID:10006308-1795438800-1795467600@communitycounsellingcentre.ca
SUMMARY:John
DESCRIPTION:
URL:https://communitycounsellingcentre.ca/event/john/2026-11-23/
LOCATION:Room 6
CATEGORIES:Room 6
END:VEVENT
BEGIN:VEVENT
DTSTART;TZID=America/Edmonton:20261124T090000
DTEND;TZID=America/Edmonton:20261124T170000
DTSTAMP:20260424T122415
CREATED:20241124T193305Z
LAST-MODIFIED:20251125T155547Z
UID:10006418-1795510800-1795539600@communitycounsellingcentre.ca
SUMMARY:John
DESCRIPTION:
URL:https://communitycounsellingcentre.ca/event/john-2-2/2026-11-24/
LOCATION:Room 6
CATEGORIES:Room 6
END:VEVENT
BEGIN:VEVENT
DTSTART;TZID=America/Edmonton:20261125T160000
DTEND;TZID=America/Edmonton:20261125T200000
DTSTAMP:20260424T122415
CREATED:20250916T195512Z
LAST-MODIFIED:20251125T153737Z
UID:10006083-1795622400-1795636800@communitycounsellingcentre.ca
SUMMARY:Elizabeth
DESCRIPTION:
URL:https://communitycounsellingcentre.ca/event/elizabeth-15/2026-11-25/
LOCATION:Room 6
CATEGORIES:Room 6
END:VEVENT
BEGIN:VEVENT
DTSTART;TZID=America/Edmonton:20261126T120000
DTEND;TZID=America/Edmonton:20261126T160000
DTSTAMP:20260424T122415
CREATED:20250904T211458Z
LAST-MODIFIED:20251126T021916Z
UID:10006732-1795694400-1795708800@communitycounsellingcentre.ca
SUMMARY:John
DESCRIPTION:
URL:https://communitycounsellingcentre.ca/event/john-3-2-2/2026-11-26/
LOCATION:Room 6
CATEGORIES:Room 6
END:VEVENT
BEGIN:VEVENT
DTSTART;TZID=America/Edmonton:20261127T090000
DTEND;TZID=America/Edmonton:20261127T170000
DTSTAMP:20260424T122415
CREATED:20240504T054921Z
LAST-MODIFIED:20251126T021348Z
UID:10006471-1795770000-1795798800@communitycounsellingcentre.ca
SUMMARY:John
DESCRIPTION:
URL:https://communitycounsellingcentre.ca/event/john-3/2026-11-27/
LOCATION:Room 6
CATEGORIES:Room 6
END:VEVENT
BEGIN:VEVENT
DTSTART;TZID=America/Edmonton:20261130T130000
DTEND;TZID=America/Edmonton:20261130T210000
DTSTAMP:20260424T122415
CREATED:20240504T051713Z
LAST-MODIFIED:20251125T155457Z
UID:10006309-1796043600-1796072400@communitycounsellingcentre.ca
SUMMARY:John
DESCRIPTION:
URL:https://communitycounsellingcentre.ca/event/john/2026-11-30/
LOCATION:Room 6
CATEGORIES:Room 6
END:VEVENT
END:VCALENDAR