BEGIN:VCALENDAR
VERSION:2.0
PRODID:-//Community Counselling Centre - ECPv6.13.1//NONSGML v1.0//EN
CALSCALE:GREGORIAN
METHOD:PUBLISH
X-ORIGINAL-URL:https://communitycounsellingcentre.ca
X-WR-CALDESC:Events for Community Counselling Centre
REFRESH-INTERVAL;VALUE=DURATION:PT1H
X-Robots-Tag:noindex
X-PUBLISHED-TTL:PT1H
BEGIN:VTIMEZONE
TZID:America/Edmonton
BEGIN:DAYLIGHT
TZOFFSETFROM:-0700
TZOFFSETTO:-0600
TZNAME:MDT
DTSTART:20260308T090000
END:DAYLIGHT
BEGIN:STANDARD
TZOFFSETFROM:-0600
TZOFFSETTO:-0700
TZNAME:MST
DTSTART:20261101T080000
END:STANDARD
END:VTIMEZONE
BEGIN:VEVENT
DTSTART;TZID=America/Edmonton:20261201T090000
DTEND;TZID=America/Edmonton:20261201T170000
DTSTAMP:20260424T134420
CREATED:20241124T193305Z
LAST-MODIFIED:20251125T155547Z
UID:10006419-1796115600-1796144400@communitycounsellingcentre.ca
SUMMARY:John
DESCRIPTION:
URL:https://communitycounsellingcentre.ca/event/john-2-2/2026-12-01/
LOCATION:Room 6
CATEGORIES:Room 6
END:VEVENT
BEGIN:VEVENT
DTSTART;TZID=America/Edmonton:20261202T160000
DTEND;TZID=America/Edmonton:20261202T200000
DTSTAMP:20260424T134420
CREATED:20250916T195512Z
LAST-MODIFIED:20251125T153737Z
UID:10006084-1796227200-1796241600@communitycounsellingcentre.ca
SUMMARY:Elizabeth
DESCRIPTION:
URL:https://communitycounsellingcentre.ca/event/elizabeth-15/2026-12-02/
LOCATION:Room 6
CATEGORIES:Room 6
END:VEVENT
BEGIN:VEVENT
DTSTART;TZID=America/Edmonton:20261203T120000
DTEND;TZID=America/Edmonton:20261203T160000
DTSTAMP:20260424T134420
CREATED:20250904T211458Z
LAST-MODIFIED:20251126T021916Z
UID:10006733-1796299200-1796313600@communitycounsellingcentre.ca
SUMMARY:John
DESCRIPTION:
URL:https://communitycounsellingcentre.ca/event/john-3-2-2/2026-12-03/
LOCATION:Room 6
CATEGORIES:Room 6
END:VEVENT
BEGIN:VEVENT
DTSTART;TZID=America/Edmonton:20261204T090000
DTEND;TZID=America/Edmonton:20261204T170000
DTSTAMP:20260424T134420
CREATED:20240504T054921Z
LAST-MODIFIED:20251126T021348Z
UID:10006472-1796374800-1796403600@communitycounsellingcentre.ca
SUMMARY:John
DESCRIPTION:
URL:https://communitycounsellingcentre.ca/event/john-3/2026-12-04/
LOCATION:Room 6
CATEGORIES:Room 6
END:VEVENT
BEGIN:VEVENT
DTSTART;TZID=America/Edmonton:20261207T130000
DTEND;TZID=America/Edmonton:20261207T210000
DTSTAMP:20260424T134420
CREATED:20240504T051713Z
LAST-MODIFIED:20251125T155457Z
UID:10006310-1796648400-1796677200@communitycounsellingcentre.ca
SUMMARY:John
DESCRIPTION:
URL:https://communitycounsellingcentre.ca/event/john/2026-12-07/
LOCATION:Room 6
CATEGORIES:Room 6
END:VEVENT
BEGIN:VEVENT
DTSTART;TZID=America/Edmonton:20261208T090000
DTEND;TZID=America/Edmonton:20261208T170000
DTSTAMP:20260424T134420
CREATED:20241124T193305Z
LAST-MODIFIED:20251125T155547Z
UID:10006420-1796720400-1796749200@communitycounsellingcentre.ca
SUMMARY:John
DESCRIPTION:
URL:https://communitycounsellingcentre.ca/event/john-2-2/2026-12-08/
LOCATION:Room 6
CATEGORIES:Room 6
END:VEVENT
BEGIN:VEVENT
DTSTART;TZID=America/Edmonton:20261209T160000
DTEND;TZID=America/Edmonton:20261209T200000
DTSTAMP:20260424T134420
CREATED:20250916T195512Z
LAST-MODIFIED:20251125T153737Z
UID:10006085-1796832000-1796846400@communitycounsellingcentre.ca
SUMMARY:Elizabeth
DESCRIPTION:
URL:https://communitycounsellingcentre.ca/event/elizabeth-15/2026-12-09/
LOCATION:Room 6
CATEGORIES:Room 6
END:VEVENT
BEGIN:VEVENT
DTSTART;TZID=America/Edmonton:20261210T120000
DTEND;TZID=America/Edmonton:20261210T160000
DTSTAMP:20260424T134420
CREATED:20250904T211458Z
LAST-MODIFIED:20251126T021916Z
UID:10006734-1796904000-1796918400@communitycounsellingcentre.ca
SUMMARY:John
DESCRIPTION:
URL:https://communitycounsellingcentre.ca/event/john-3-2-2/2026-12-10/
LOCATION:Room 6
CATEGORIES:Room 6
END:VEVENT
BEGIN:VEVENT
DTSTART;TZID=America/Edmonton:20261211T090000
DTEND;TZID=America/Edmonton:20261211T170000
DTSTAMP:20260424T134420
CREATED:20240504T054921Z
LAST-MODIFIED:20251126T021348Z
UID:10006473-1796979600-1797008400@communitycounsellingcentre.ca
SUMMARY:John
DESCRIPTION:
URL:https://communitycounsellingcentre.ca/event/john-3/2026-12-11/
LOCATION:Room 6
CATEGORIES:Room 6
END:VEVENT
BEGIN:VEVENT
DTSTART;TZID=America/Edmonton:20261214T130000
DTEND;TZID=America/Edmonton:20261214T210000
DTSTAMP:20260424T134420
CREATED:20240504T051713Z
LAST-MODIFIED:20251125T155457Z
UID:10006311-1797253200-1797282000@communitycounsellingcentre.ca
SUMMARY:John
DESCRIPTION:
URL:https://communitycounsellingcentre.ca/event/john/2026-12-14/
LOCATION:Room 6
CATEGORIES:Room 6
END:VEVENT
BEGIN:VEVENT
DTSTART;TZID=America/Edmonton:20261215T090000
DTEND;TZID=America/Edmonton:20261215T170000
DTSTAMP:20260424T134420
CREATED:20241124T193305Z
LAST-MODIFIED:20251125T155547Z
UID:10006421-1797325200-1797354000@communitycounsellingcentre.ca
SUMMARY:John
DESCRIPTION:
URL:https://communitycounsellingcentre.ca/event/john-2-2/2026-12-15/
LOCATION:Room 6
CATEGORIES:Room 6
END:VEVENT
BEGIN:VEVENT
DTSTART;TZID=America/Edmonton:20261216T160000
DTEND;TZID=America/Edmonton:20261216T200000
DTSTAMP:20260424T134420
CREATED:20250916T195512Z
LAST-MODIFIED:20251125T153737Z
UID:10006086-1797436800-1797451200@communitycounsellingcentre.ca
SUMMARY:Elizabeth
DESCRIPTION:
URL:https://communitycounsellingcentre.ca/event/elizabeth-15/2026-12-16/
LOCATION:Room 6
CATEGORIES:Room 6
END:VEVENT
BEGIN:VEVENT
DTSTART;TZID=America/Edmonton:20261217T120000
DTEND;TZID=America/Edmonton:20261217T160000
DTSTAMP:20260424T134420
CREATED:20250904T211458Z
LAST-MODIFIED:20251126T021916Z
UID:10006735-1797508800-1797523200@communitycounsellingcentre.ca
SUMMARY:John
DESCRIPTION:
URL:https://communitycounsellingcentre.ca/event/john-3-2-2/2026-12-17/
LOCATION:Room 6
CATEGORIES:Room 6
END:VEVENT
BEGIN:VEVENT
DTSTART;TZID=America/Edmonton:20261218T090000
DTEND;TZID=America/Edmonton:20261218T170000
DTSTAMP:20260424T134420
CREATED:20240504T054921Z
LAST-MODIFIED:20251126T021348Z
UID:10006474-1797584400-1797613200@communitycounsellingcentre.ca
SUMMARY:John
DESCRIPTION:
URL:https://communitycounsellingcentre.ca/event/john-3/2026-12-18/
LOCATION:Room 6
CATEGORIES:Room 6
END:VEVENT
BEGIN:VEVENT
DTSTART;TZID=America/Edmonton:20261221T130000
DTEND;TZID=America/Edmonton:20261221T210000
DTSTAMP:20260424T134420
CREATED:20240504T051713Z
LAST-MODIFIED:20251125T155457Z
UID:10006312-1797858000-1797886800@communitycounsellingcentre.ca
SUMMARY:John
DESCRIPTION:
URL:https://communitycounsellingcentre.ca/event/john/2026-12-21/
LOCATION:Room 6
CATEGORIES:Room 6
END:VEVENT
BEGIN:VEVENT
DTSTART;TZID=America/Edmonton:20261222T090000
DTEND;TZID=America/Edmonton:20261222T170000
DTSTAMP:20260424T134420
CREATED:20241124T193305Z
LAST-MODIFIED:20251125T155547Z
UID:10006422-1797930000-1797958800@communitycounsellingcentre.ca
SUMMARY:John
DESCRIPTION:
URL:https://communitycounsellingcentre.ca/event/john-2-2/2026-12-22/
LOCATION:Room 6
CATEGORIES:Room 6
END:VEVENT
BEGIN:VEVENT
DTSTART;TZID=America/Edmonton:20261223T160000
DTEND;TZID=America/Edmonton:20261223T200000
DTSTAMP:20260424T134420
CREATED:20250916T195512Z
LAST-MODIFIED:20251125T153737Z
UID:10006087-1798041600-1798056000@communitycounsellingcentre.ca
SUMMARY:Elizabeth
DESCRIPTION:
URL:https://communitycounsellingcentre.ca/event/elizabeth-15/2026-12-23/
LOCATION:Room 6
CATEGORIES:Room 6
END:VEVENT
BEGIN:VEVENT
DTSTART;TZID=America/Edmonton:20261224T120000
DTEND;TZID=America/Edmonton:20261224T160000
DTSTAMP:20260424T134420
CREATED:20250904T211458Z
LAST-MODIFIED:20251126T021916Z
UID:10006736-1798113600-1798128000@communitycounsellingcentre.ca
SUMMARY:John
DESCRIPTION:
URL:https://communitycounsellingcentre.ca/event/john-3-2-2/2026-12-24/
LOCATION:Room 6
CATEGORIES:Room 6
END:VEVENT
BEGIN:VEVENT
DTSTART;TZID=America/Edmonton:20261225T090000
DTEND;TZID=America/Edmonton:20261225T170000
DTSTAMP:20260424T134420
CREATED:20240504T054921Z
LAST-MODIFIED:20251126T021348Z
UID:10006475-1798189200-1798218000@communitycounsellingcentre.ca
SUMMARY:John
DESCRIPTION:
URL:https://communitycounsellingcentre.ca/event/john-3/2026-12-25/
LOCATION:Room 6
CATEGORIES:Room 6
END:VEVENT
BEGIN:VEVENT
DTSTART;TZID=America/Edmonton:20261228T130000
DTEND;TZID=America/Edmonton:20261228T210000
DTSTAMP:20260424T134420
CREATED:20240504T051713Z
LAST-MODIFIED:20251125T155457Z
UID:10006313-1798462800-1798491600@communitycounsellingcentre.ca
SUMMARY:John
DESCRIPTION:
URL:https://communitycounsellingcentre.ca/event/john/2026-12-28/
LOCATION:Room 6
CATEGORIES:Room 6
END:VEVENT
BEGIN:VEVENT
DTSTART;TZID=America/Edmonton:20261229T090000
DTEND;TZID=America/Edmonton:20261229T170000
DTSTAMP:20260424T134420
CREATED:20241124T193305Z
LAST-MODIFIED:20251125T155547Z
UID:10006423-1798534800-1798563600@communitycounsellingcentre.ca
SUMMARY:John
DESCRIPTION:
URL:https://communitycounsellingcentre.ca/event/john-2-2/2026-12-29/
LOCATION:Room 6
CATEGORIES:Room 6
END:VEVENT
BEGIN:VEVENT
DTSTART;TZID=America/Edmonton:20261230T160000
DTEND;TZID=America/Edmonton:20261230T200000
DTSTAMP:20260424T134420
CREATED:20250916T195512Z
LAST-MODIFIED:20251125T153737Z
UID:10006088-1798646400-1798660800@communitycounsellingcentre.ca
SUMMARY:Elizabeth
DESCRIPTION:
URL:https://communitycounsellingcentre.ca/event/elizabeth-15/2026-12-30/
LOCATION:Room 6
CATEGORIES:Room 6
END:VEVENT
BEGIN:VEVENT
DTSTART;TZID=America/Edmonton:20261231T120000
DTEND;TZID=America/Edmonton:20261231T160000
DTSTAMP:20260424T134420
CREATED:20250904T211458Z
LAST-MODIFIED:20251126T021916Z
UID:10006737-1798718400-1798732800@communitycounsellingcentre.ca
SUMMARY:John
DESCRIPTION:
URL:https://communitycounsellingcentre.ca/event/john-3-2-2/2026-12-31/
LOCATION:Room 6
CATEGORIES:Room 6
END:VEVENT
END:VCALENDAR