BEGIN:VCALENDAR
VERSION:2.0
PRODID:-//Community Counselling Centre - ECPv6.13.1//NONSGML v1.0//EN
CALSCALE:GREGORIAN
METHOD:PUBLISH
X-WR-CALNAME:Community Counselling Centre
X-ORIGINAL-URL:https://communitycounsellingcentre.ca
X-WR-CALDESC:Events for Community Counselling Centre
REFRESH-INTERVAL;VALUE=DURATION:PT1H
X-Robots-Tag:noindex
X-PUBLISHED-TTL:PT1H
BEGIN:VTIMEZONE
TZID:America/Edmonton
BEGIN:DAYLIGHT
TZOFFSETFROM:-0700
TZOFFSETTO:-0600
TZNAME:MDT
DTSTART:20260308T090000
END:DAYLIGHT
BEGIN:STANDARD
TZOFFSETFROM:-0600
TZOFFSETTO:-0700
TZNAME:MST
DTSTART:20261101T080000
END:STANDARD
END:VTIMEZONE
BEGIN:VEVENT
DTSTART;TZID=America/Edmonton:20260512T090000
DTEND;TZID=America/Edmonton:20260512T170000
DTSTAMP:20260424T014606
CREATED:20241124T193305Z
LAST-MODIFIED:20251125T155547Z
UID:10006390-1778576400-1778605200@communitycounsellingcentre.ca
SUMMARY:John
DESCRIPTION:
URL:https://communitycounsellingcentre.ca/event/john-2-2/2026-05-12/
LOCATION:Room 6
CATEGORIES:Room 6
END:VEVENT
BEGIN:VEVENT
DTSTART;TZID=America/Edmonton:20260513T160000
DTEND;TZID=America/Edmonton:20260513T200000
DTSTAMP:20260424T014606
CREATED:20250916T195512Z
LAST-MODIFIED:20251125T153737Z
UID:10006055-1778688000-1778702400@communitycounsellingcentre.ca
SUMMARY:Elizabeth
DESCRIPTION:
URL:https://communitycounsellingcentre.ca/event/elizabeth-15/2026-05-13/
LOCATION:Room 6
CATEGORIES:Room 6
END:VEVENT
BEGIN:VEVENT
DTSTART;TZID=America/Edmonton:20260514T120000
DTEND;TZID=America/Edmonton:20260514T160000
DTSTAMP:20260424T014606
CREATED:20250904T211458Z
LAST-MODIFIED:20251126T021916Z
UID:10006704-1778760000-1778774400@communitycounsellingcentre.ca
SUMMARY:John
DESCRIPTION:
URL:https://communitycounsellingcentre.ca/event/john-3-2-2/2026-05-14/
LOCATION:Room 6
CATEGORIES:Room 6
END:VEVENT
BEGIN:VEVENT
DTSTART;TZID=America/Edmonton:20260515T090000
DTEND;TZID=America/Edmonton:20260515T170000
DTSTAMP:20260424T014606
CREATED:20240504T054921Z
LAST-MODIFIED:20251126T021348Z
UID:10006443-1778835600-1778864400@communitycounsellingcentre.ca
SUMMARY:John
DESCRIPTION:
URL:https://communitycounsellingcentre.ca/event/john-3/2026-05-15/
LOCATION:Room 6
CATEGORIES:Room 6
END:VEVENT
BEGIN:VEVENT
DTSTART;TZID=America/Edmonton:20260518T130000
DTEND;TZID=America/Edmonton:20260518T210000
DTSTAMP:20260424T014606
CREATED:20240504T051713Z
LAST-MODIFIED:20251125T155457Z
UID:10006281-1779109200-1779138000@communitycounsellingcentre.ca
SUMMARY:John
DESCRIPTION:
URL:https://communitycounsellingcentre.ca/event/john/2026-05-18/
LOCATION:Room 6
CATEGORIES:Room 6
END:VEVENT
BEGIN:VEVENT
DTSTART;TZID=America/Edmonton:20260519T090000
DTEND;TZID=America/Edmonton:20260519T170000
DTSTAMP:20260424T014606
CREATED:20241124T193305Z
LAST-MODIFIED:20251125T155547Z
UID:10006391-1779181200-1779210000@communitycounsellingcentre.ca
SUMMARY:John
DESCRIPTION:
URL:https://communitycounsellingcentre.ca/event/john-2-2/2026-05-19/
LOCATION:Room 6
CATEGORIES:Room 6
END:VEVENT
BEGIN:VEVENT
DTSTART;TZID=America/Edmonton:20260520T160000
DTEND;TZID=America/Edmonton:20260520T200000
DTSTAMP:20260424T014606
CREATED:20250916T195512Z
LAST-MODIFIED:20251125T153737Z
UID:10006056-1779292800-1779307200@communitycounsellingcentre.ca
SUMMARY:Elizabeth
DESCRIPTION:
URL:https://communitycounsellingcentre.ca/event/elizabeth-15/2026-05-20/
LOCATION:Room 6
CATEGORIES:Room 6
END:VEVENT
BEGIN:VEVENT
DTSTART;TZID=America/Edmonton:20260521T120000
DTEND;TZID=America/Edmonton:20260521T160000
DTSTAMP:20260424T014606
CREATED:20250904T211458Z
LAST-MODIFIED:20251126T021916Z
UID:10006705-1779364800-1779379200@communitycounsellingcentre.ca
SUMMARY:John
DESCRIPTION:
URL:https://communitycounsellingcentre.ca/event/john-3-2-2/2026-05-21/
LOCATION:Room 6
CATEGORIES:Room 6
END:VEVENT
BEGIN:VEVENT
DTSTART;TZID=America/Edmonton:20260522T090000
DTEND;TZID=America/Edmonton:20260522T170000
DTSTAMP:20260424T014606
CREATED:20240504T054921Z
LAST-MODIFIED:20251126T021348Z
UID:10006444-1779440400-1779469200@communitycounsellingcentre.ca
SUMMARY:John
DESCRIPTION:
URL:https://communitycounsellingcentre.ca/event/john-3/2026-05-22/
LOCATION:Room 6
CATEGORIES:Room 6
END:VEVENT
BEGIN:VEVENT
DTSTART;TZID=America/Edmonton:20260525T130000
DTEND;TZID=America/Edmonton:20260525T210000
DTSTAMP:20260424T014606
CREATED:20240504T051713Z
LAST-MODIFIED:20251125T155457Z
UID:10006282-1779714000-1779742800@communitycounsellingcentre.ca
SUMMARY:John
DESCRIPTION:
URL:https://communitycounsellingcentre.ca/event/john/2026-05-25/
LOCATION:Room 6
CATEGORIES:Room 6
END:VEVENT
BEGIN:VEVENT
DTSTART;TZID=America/Edmonton:20260526T090000
DTEND;TZID=America/Edmonton:20260526T170000
DTSTAMP:20260424T014606
CREATED:20241124T193305Z
LAST-MODIFIED:20251125T155547Z
UID:10006392-1779786000-1779814800@communitycounsellingcentre.ca
SUMMARY:John
DESCRIPTION:
URL:https://communitycounsellingcentre.ca/event/john-2-2/2026-05-26/
LOCATION:Room 6
CATEGORIES:Room 6
END:VEVENT
BEGIN:VEVENT
DTSTART;TZID=America/Edmonton:20260527T160000
DTEND;TZID=America/Edmonton:20260527T200000
DTSTAMP:20260424T014606
CREATED:20250916T195512Z
LAST-MODIFIED:20251125T153737Z
UID:10006057-1779897600-1779912000@communitycounsellingcentre.ca
SUMMARY:Elizabeth
DESCRIPTION:
URL:https://communitycounsellingcentre.ca/event/elizabeth-15/2026-05-27/
LOCATION:Room 6
CATEGORIES:Room 6
END:VEVENT
BEGIN:VEVENT
DTSTART;TZID=America/Edmonton:20260528T120000
DTEND;TZID=America/Edmonton:20260528T160000
DTSTAMP:20260424T014606
CREATED:20250904T211458Z
LAST-MODIFIED:20251126T021916Z
UID:10006706-1779969600-1779984000@communitycounsellingcentre.ca
SUMMARY:John
DESCRIPTION:
URL:https://communitycounsellingcentre.ca/event/john-3-2-2/2026-05-28/
LOCATION:Room 6
CATEGORIES:Room 6
END:VEVENT
BEGIN:VEVENT
DTSTART;TZID=America/Edmonton:20260529T090000
DTEND;TZID=America/Edmonton:20260529T170000
DTSTAMP:20260424T014606
CREATED:20240504T054921Z
LAST-MODIFIED:20251126T021348Z
UID:10006445-1780045200-1780074000@communitycounsellingcentre.ca
SUMMARY:John
DESCRIPTION:
URL:https://communitycounsellingcentre.ca/event/john-3/2026-05-29/
LOCATION:Room 6
CATEGORIES:Room 6
END:VEVENT
BEGIN:VEVENT
DTSTART;TZID=America/Edmonton:20260601T130000
DTEND;TZID=America/Edmonton:20260601T210000
DTSTAMP:20260424T014606
CREATED:20240504T051713Z
LAST-MODIFIED:20251125T155457Z
UID:10006283-1780318800-1780347600@communitycounsellingcentre.ca
SUMMARY:John
DESCRIPTION:
URL:https://communitycounsellingcentre.ca/event/john/2026-06-01/
LOCATION:Room 6
CATEGORIES:Room 6
END:VEVENT
BEGIN:VEVENT
DTSTART;TZID=America/Edmonton:20260602T090000
DTEND;TZID=America/Edmonton:20260602T170000
DTSTAMP:20260424T014606
CREATED:20241124T193305Z
LAST-MODIFIED:20251125T155547Z
UID:10006393-1780390800-1780419600@communitycounsellingcentre.ca
SUMMARY:John
DESCRIPTION:
URL:https://communitycounsellingcentre.ca/event/john-2-2/2026-06-02/
LOCATION:Room 6
CATEGORIES:Room 6
END:VEVENT
BEGIN:VEVENT
DTSTART;TZID=America/Edmonton:20260603T160000
DTEND;TZID=America/Edmonton:20260603T200000
DTSTAMP:20260424T014606
CREATED:20250916T195512Z
LAST-MODIFIED:20251125T153737Z
UID:10006058-1780502400-1780516800@communitycounsellingcentre.ca
SUMMARY:Elizabeth
DESCRIPTION:
URL:https://communitycounsellingcentre.ca/event/elizabeth-15/2026-06-03/
LOCATION:Room 6
CATEGORIES:Room 6
END:VEVENT
BEGIN:VEVENT
DTSTART;TZID=America/Edmonton:20260604T120000
DTEND;TZID=America/Edmonton:20260604T160000
DTSTAMP:20260424T014606
CREATED:20250904T211458Z
LAST-MODIFIED:20251126T021916Z
UID:10006707-1780574400-1780588800@communitycounsellingcentre.ca
SUMMARY:John
DESCRIPTION:
URL:https://communitycounsellingcentre.ca/event/john-3-2-2/2026-06-04/
LOCATION:Room 6
CATEGORIES:Room 6
END:VEVENT
BEGIN:VEVENT
DTSTART;TZID=America/Edmonton:20260605T090000
DTEND;TZID=America/Edmonton:20260605T170000
DTSTAMP:20260424T014606
CREATED:20240504T054921Z
LAST-MODIFIED:20251126T021348Z
UID:10006446-1780650000-1780678800@communitycounsellingcentre.ca
SUMMARY:John
DESCRIPTION:
URL:https://communitycounsellingcentre.ca/event/john-3/2026-06-05/
LOCATION:Room 6
CATEGORIES:Room 6
END:VEVENT
BEGIN:VEVENT
DTSTART;TZID=America/Edmonton:20260608T130000
DTEND;TZID=America/Edmonton:20260608T210000
DTSTAMP:20260424T014606
CREATED:20240504T051713Z
LAST-MODIFIED:20251125T155457Z
UID:10006284-1780923600-1780952400@communitycounsellingcentre.ca
SUMMARY:John
DESCRIPTION:
URL:https://communitycounsellingcentre.ca/event/john/2026-06-08/
LOCATION:Room 6
CATEGORIES:Room 6
END:VEVENT
BEGIN:VEVENT
DTSTART;TZID=America/Edmonton:20260609T090000
DTEND;TZID=America/Edmonton:20260609T170000
DTSTAMP:20260424T014606
CREATED:20241124T193305Z
LAST-MODIFIED:20251125T155547Z
UID:10006394-1780995600-1781024400@communitycounsellingcentre.ca
SUMMARY:John
DESCRIPTION:
URL:https://communitycounsellingcentre.ca/event/john-2-2/2026-06-09/
LOCATION:Room 6
CATEGORIES:Room 6
END:VEVENT
BEGIN:VEVENT
DTSTART;TZID=America/Edmonton:20260610T160000
DTEND;TZID=America/Edmonton:20260610T200000
DTSTAMP:20260424T014606
CREATED:20250916T195512Z
LAST-MODIFIED:20251125T153737Z
UID:10006059-1781107200-1781121600@communitycounsellingcentre.ca
SUMMARY:Elizabeth
DESCRIPTION:
URL:https://communitycounsellingcentre.ca/event/elizabeth-15/2026-06-10/
LOCATION:Room 6
CATEGORIES:Room 6
END:VEVENT
BEGIN:VEVENT
DTSTART;TZID=America/Edmonton:20260611T120000
DTEND;TZID=America/Edmonton:20260611T160000
DTSTAMP:20260424T014606
CREATED:20250904T211458Z
LAST-MODIFIED:20251126T021916Z
UID:10006708-1781179200-1781193600@communitycounsellingcentre.ca
SUMMARY:John
DESCRIPTION:
URL:https://communitycounsellingcentre.ca/event/john-3-2-2/2026-06-11/
LOCATION:Room 6
CATEGORIES:Room 6
END:VEVENT
BEGIN:VEVENT
DTSTART;TZID=America/Edmonton:20260612T090000
DTEND;TZID=America/Edmonton:20260612T170000
DTSTAMP:20260424T014606
CREATED:20240504T054921Z
LAST-MODIFIED:20251126T021348Z
UID:10006447-1781254800-1781283600@communitycounsellingcentre.ca
SUMMARY:John
DESCRIPTION:
URL:https://communitycounsellingcentre.ca/event/john-3/2026-06-12/
LOCATION:Room 6
CATEGORIES:Room 6
END:VEVENT
BEGIN:VEVENT
DTSTART;TZID=America/Edmonton:20260615T130000
DTEND;TZID=America/Edmonton:20260615T210000
DTSTAMP:20260424T014606
CREATED:20240504T051713Z
LAST-MODIFIED:20251125T155457Z
UID:10006285-1781528400-1781557200@communitycounsellingcentre.ca
SUMMARY:John
DESCRIPTION:
URL:https://communitycounsellingcentre.ca/event/john/2026-06-15/
LOCATION:Room 6
CATEGORIES:Room 6
END:VEVENT
BEGIN:VEVENT
DTSTART;TZID=America/Edmonton:20260616T090000
DTEND;TZID=America/Edmonton:20260616T170000
DTSTAMP:20260424T014606
CREATED:20241124T193305Z
LAST-MODIFIED:20251125T155547Z
UID:10006395-1781600400-1781629200@communitycounsellingcentre.ca
SUMMARY:John
DESCRIPTION:
URL:https://communitycounsellingcentre.ca/event/john-2-2/2026-06-16/
LOCATION:Room 6
CATEGORIES:Room 6
END:VEVENT
BEGIN:VEVENT
DTSTART;TZID=America/Edmonton:20260617T160000
DTEND;TZID=America/Edmonton:20260617T200000
DTSTAMP:20260424T014606
CREATED:20250916T195512Z
LAST-MODIFIED:20251125T153737Z
UID:10006060-1781712000-1781726400@communitycounsellingcentre.ca
SUMMARY:Elizabeth
DESCRIPTION:
URL:https://communitycounsellingcentre.ca/event/elizabeth-15/2026-06-17/
LOCATION:Room 6
CATEGORIES:Room 6
END:VEVENT
BEGIN:VEVENT
DTSTART;TZID=America/Edmonton:20260618T120000
DTEND;TZID=America/Edmonton:20260618T160000
DTSTAMP:20260424T014606
CREATED:20250904T211458Z
LAST-MODIFIED:20251126T021916Z
UID:10006709-1781784000-1781798400@communitycounsellingcentre.ca
SUMMARY:John
DESCRIPTION:
URL:https://communitycounsellingcentre.ca/event/john-3-2-2/2026-06-18/
LOCATION:Room 6
CATEGORIES:Room 6
END:VEVENT
BEGIN:VEVENT
DTSTART;TZID=America/Edmonton:20260619T090000
DTEND;TZID=America/Edmonton:20260619T170000
DTSTAMP:20260424T014606
CREATED:20240504T054921Z
LAST-MODIFIED:20251126T021348Z
UID:10006448-1781859600-1781888400@communitycounsellingcentre.ca
SUMMARY:John
DESCRIPTION:
URL:https://communitycounsellingcentre.ca/event/john-3/2026-06-19/
LOCATION:Room 6
CATEGORIES:Room 6
END:VEVENT
BEGIN:VEVENT
DTSTART;TZID=America/Edmonton:20260622T130000
DTEND;TZID=America/Edmonton:20260622T210000
DTSTAMP:20260424T014606
CREATED:20240504T051713Z
LAST-MODIFIED:20251125T155457Z
UID:10006286-1782133200-1782162000@communitycounsellingcentre.ca
SUMMARY:John
DESCRIPTION:
URL:https://communitycounsellingcentre.ca/event/john/2026-06-22/
LOCATION:Room 6
CATEGORIES:Room 6
END:VEVENT
END:VCALENDAR