BEGIN:VCALENDAR
VERSION:2.0
PRODID:-//Community Counselling Centre - ECPv6.13.1//NONSGML v1.0//EN
CALSCALE:GREGORIAN
METHOD:PUBLISH
X-ORIGINAL-URL:https://communitycounsellingcentre.ca
X-WR-CALDESC:Events for Community Counselling Centre
REFRESH-INTERVAL;VALUE=DURATION:PT1H
X-Robots-Tag:noindex
X-PUBLISHED-TTL:PT1H
BEGIN:VTIMEZONE
TZID:America/Edmonton
BEGIN:DAYLIGHT
TZOFFSETFROM:-0700
TZOFFSETTO:-0600
TZNAME:MDT
DTSTART:20260308T090000
END:DAYLIGHT
BEGIN:STANDARD
TZOFFSETFROM:-0600
TZOFFSETTO:-0700
TZNAME:MST
DTSTART:20261101T080000
END:STANDARD
END:VTIMEZONE
BEGIN:VEVENT
DTSTART;TZID=America/Edmonton:20260717T090000
DTEND;TZID=America/Edmonton:20260717T170000
DTSTAMP:20260424T125607
CREATED:20240504T054921Z
LAST-MODIFIED:20251126T021348Z
UID:10006452-1784278800-1784307600@communitycounsellingcentre.ca
SUMMARY:John
DESCRIPTION:
URL:https://communitycounsellingcentre.ca/event/john-3/2026-07-17/
LOCATION:Room 6
CATEGORIES:Room 6
END:VEVENT
BEGIN:VEVENT
DTSTART;TZID=America/Edmonton:20260720T130000
DTEND;TZID=America/Edmonton:20260720T210000
DTSTAMP:20260424T125607
CREATED:20240504T051713Z
LAST-MODIFIED:20251125T155457Z
UID:10006290-1784552400-1784581200@communitycounsellingcentre.ca
SUMMARY:John
DESCRIPTION:
URL:https://communitycounsellingcentre.ca/event/john/2026-07-20/
LOCATION:Room 6
CATEGORIES:Room 6
END:VEVENT
BEGIN:VEVENT
DTSTART;TZID=America/Edmonton:20260721T090000
DTEND;TZID=America/Edmonton:20260721T170000
DTSTAMP:20260424T125607
CREATED:20241124T193305Z
LAST-MODIFIED:20251125T155547Z
UID:10006400-1784624400-1784653200@communitycounsellingcentre.ca
SUMMARY:John
DESCRIPTION:
URL:https://communitycounsellingcentre.ca/event/john-2-2/2026-07-21/
LOCATION:Room 6
CATEGORIES:Room 6
END:VEVENT
BEGIN:VEVENT
DTSTART;TZID=America/Edmonton:20260722T160000
DTEND;TZID=America/Edmonton:20260722T200000
DTSTAMP:20260424T125607
CREATED:20250916T195512Z
LAST-MODIFIED:20251125T153737Z
UID:10006065-1784736000-1784750400@communitycounsellingcentre.ca
SUMMARY:Elizabeth
DESCRIPTION:
URL:https://communitycounsellingcentre.ca/event/elizabeth-15/2026-07-22/
LOCATION:Room 6
CATEGORIES:Room 6
END:VEVENT
BEGIN:VEVENT
DTSTART;TZID=America/Edmonton:20260723T120000
DTEND;TZID=America/Edmonton:20260723T160000
DTSTAMP:20260424T125607
CREATED:20250904T211458Z
LAST-MODIFIED:20251126T021916Z
UID:10006714-1784808000-1784822400@communitycounsellingcentre.ca
SUMMARY:John
DESCRIPTION:
URL:https://communitycounsellingcentre.ca/event/john-3-2-2/2026-07-23/
LOCATION:Room 6
CATEGORIES:Room 6
END:VEVENT
BEGIN:VEVENT
DTSTART;TZID=America/Edmonton:20260724T090000
DTEND;TZID=America/Edmonton:20260724T170000
DTSTAMP:20260424T125607
CREATED:20240504T054921Z
LAST-MODIFIED:20251126T021348Z
UID:10006453-1784883600-1784912400@communitycounsellingcentre.ca
SUMMARY:John
DESCRIPTION:
URL:https://communitycounsellingcentre.ca/event/john-3/2026-07-24/
LOCATION:Room 6
CATEGORIES:Room 6
END:VEVENT
BEGIN:VEVENT
DTSTART;TZID=America/Edmonton:20260727T130000
DTEND;TZID=America/Edmonton:20260727T210000
DTSTAMP:20260424T125607
CREATED:20240504T051713Z
LAST-MODIFIED:20251125T155457Z
UID:10006291-1785157200-1785186000@communitycounsellingcentre.ca
SUMMARY:John
DESCRIPTION:
URL:https://communitycounsellingcentre.ca/event/john/2026-07-27/
LOCATION:Room 6
CATEGORIES:Room 6
END:VEVENT
BEGIN:VEVENT
DTSTART;TZID=America/Edmonton:20260728T090000
DTEND;TZID=America/Edmonton:20260728T170000
DTSTAMP:20260424T125607
CREATED:20241124T193305Z
LAST-MODIFIED:20251125T155547Z
UID:10006401-1785229200-1785258000@communitycounsellingcentre.ca
SUMMARY:John
DESCRIPTION:
URL:https://communitycounsellingcentre.ca/event/john-2-2/2026-07-28/
LOCATION:Room 6
CATEGORIES:Room 6
END:VEVENT
BEGIN:VEVENT
DTSTART;TZID=America/Edmonton:20260729T160000
DTEND;TZID=America/Edmonton:20260729T200000
DTSTAMP:20260424T125607
CREATED:20250916T195512Z
LAST-MODIFIED:20251125T153737Z
UID:10006066-1785340800-1785355200@communitycounsellingcentre.ca
SUMMARY:Elizabeth
DESCRIPTION:
URL:https://communitycounsellingcentre.ca/event/elizabeth-15/2026-07-29/
LOCATION:Room 6
CATEGORIES:Room 6
END:VEVENT
BEGIN:VEVENT
DTSTART;TZID=America/Edmonton:20260730T120000
DTEND;TZID=America/Edmonton:20260730T160000
DTSTAMP:20260424T125607
CREATED:20250904T211458Z
LAST-MODIFIED:20251126T021916Z
UID:10006715-1785412800-1785427200@communitycounsellingcentre.ca
SUMMARY:John
DESCRIPTION:
URL:https://communitycounsellingcentre.ca/event/john-3-2-2/2026-07-30/
LOCATION:Room 6
CATEGORIES:Room 6
END:VEVENT
BEGIN:VEVENT
DTSTART;TZID=America/Edmonton:20260731T090000
DTEND;TZID=America/Edmonton:20260731T170000
DTSTAMP:20260424T125607
CREATED:20240504T054921Z
LAST-MODIFIED:20251126T021348Z
UID:10006454-1785488400-1785517200@communitycounsellingcentre.ca
SUMMARY:John
DESCRIPTION:
URL:https://communitycounsellingcentre.ca/event/john-3/2026-07-31/
LOCATION:Room 6
CATEGORIES:Room 6
END:VEVENT
BEGIN:VEVENT
DTSTART;TZID=America/Edmonton:20260803T130000
DTEND;TZID=America/Edmonton:20260803T210000
DTSTAMP:20260424T125607
CREATED:20240504T051713Z
LAST-MODIFIED:20251125T155457Z
UID:10006292-1785762000-1785790800@communitycounsellingcentre.ca
SUMMARY:John
DESCRIPTION:
URL:https://communitycounsellingcentre.ca/event/john/2026-08-03/
LOCATION:Room 6
CATEGORIES:Room 6
END:VEVENT
BEGIN:VEVENT
DTSTART;TZID=America/Edmonton:20260804T090000
DTEND;TZID=America/Edmonton:20260804T170000
DTSTAMP:20260424T125607
CREATED:20241124T193305Z
LAST-MODIFIED:20251125T155547Z
UID:10006402-1785834000-1785862800@communitycounsellingcentre.ca
SUMMARY:John
DESCRIPTION:
URL:https://communitycounsellingcentre.ca/event/john-2-2/2026-08-04/
LOCATION:Room 6
CATEGORIES:Room 6
END:VEVENT
BEGIN:VEVENT
DTSTART;TZID=America/Edmonton:20260805T160000
DTEND;TZID=America/Edmonton:20260805T200000
DTSTAMP:20260424T125607
CREATED:20250916T195512Z
LAST-MODIFIED:20251125T153737Z
UID:10006067-1785945600-1785960000@communitycounsellingcentre.ca
SUMMARY:Elizabeth
DESCRIPTION:
URL:https://communitycounsellingcentre.ca/event/elizabeth-15/2026-08-05/
LOCATION:Room 6
CATEGORIES:Room 6
END:VEVENT
BEGIN:VEVENT
DTSTART;TZID=America/Edmonton:20260806T120000
DTEND;TZID=America/Edmonton:20260806T160000
DTSTAMP:20260424T125607
CREATED:20250904T211458Z
LAST-MODIFIED:20251126T021916Z
UID:10006716-1786017600-1786032000@communitycounsellingcentre.ca
SUMMARY:John
DESCRIPTION:
URL:https://communitycounsellingcentre.ca/event/john-3-2-2/2026-08-06/
LOCATION:Room 6
CATEGORIES:Room 6
END:VEVENT
BEGIN:VEVENT
DTSTART;TZID=America/Edmonton:20260807T090000
DTEND;TZID=America/Edmonton:20260807T170000
DTSTAMP:20260424T125607
CREATED:20240504T054921Z
LAST-MODIFIED:20251126T021348Z
UID:10006455-1786093200-1786122000@communitycounsellingcentre.ca
SUMMARY:John
DESCRIPTION:
URL:https://communitycounsellingcentre.ca/event/john-3/2026-08-07/
LOCATION:Room 6
CATEGORIES:Room 6
END:VEVENT
BEGIN:VEVENT
DTSTART;TZID=America/Edmonton:20260810T130000
DTEND;TZID=America/Edmonton:20260810T210000
DTSTAMP:20260424T125607
CREATED:20240504T051713Z
LAST-MODIFIED:20251125T155457Z
UID:10006293-1786366800-1786395600@communitycounsellingcentre.ca
SUMMARY:John
DESCRIPTION:
URL:https://communitycounsellingcentre.ca/event/john/2026-08-10/
LOCATION:Room 6
CATEGORIES:Room 6
END:VEVENT
BEGIN:VEVENT
DTSTART;TZID=America/Edmonton:20260811T090000
DTEND;TZID=America/Edmonton:20260811T170000
DTSTAMP:20260424T125607
CREATED:20241124T193305Z
LAST-MODIFIED:20251125T155547Z
UID:10006403-1786438800-1786467600@communitycounsellingcentre.ca
SUMMARY:John
DESCRIPTION:
URL:https://communitycounsellingcentre.ca/event/john-2-2/2026-08-11/
LOCATION:Room 6
CATEGORIES:Room 6
END:VEVENT
BEGIN:VEVENT
DTSTART;TZID=America/Edmonton:20260812T160000
DTEND;TZID=America/Edmonton:20260812T200000
DTSTAMP:20260424T125607
CREATED:20250916T195512Z
LAST-MODIFIED:20251125T153737Z
UID:10006068-1786550400-1786564800@communitycounsellingcentre.ca
SUMMARY:Elizabeth
DESCRIPTION:
URL:https://communitycounsellingcentre.ca/event/elizabeth-15/2026-08-12/
LOCATION:Room 6
CATEGORIES:Room 6
END:VEVENT
BEGIN:VEVENT
DTSTART;TZID=America/Edmonton:20260813T120000
DTEND;TZID=America/Edmonton:20260813T160000
DTSTAMP:20260424T125607
CREATED:20250904T211458Z
LAST-MODIFIED:20251126T021916Z
UID:10006717-1786622400-1786636800@communitycounsellingcentre.ca
SUMMARY:John
DESCRIPTION:
URL:https://communitycounsellingcentre.ca/event/john-3-2-2/2026-08-13/
LOCATION:Room 6
CATEGORIES:Room 6
END:VEVENT
BEGIN:VEVENT
DTSTART;TZID=America/Edmonton:20260814T090000
DTEND;TZID=America/Edmonton:20260814T170000
DTSTAMP:20260424T125607
CREATED:20240504T054921Z
LAST-MODIFIED:20251126T021348Z
UID:10006456-1786698000-1786726800@communitycounsellingcentre.ca
SUMMARY:John
DESCRIPTION:
URL:https://communitycounsellingcentre.ca/event/john-3/2026-08-14/
LOCATION:Room 6
CATEGORIES:Room 6
END:VEVENT
BEGIN:VEVENT
DTSTART;TZID=America/Edmonton:20260817T130000
DTEND;TZID=America/Edmonton:20260817T210000
DTSTAMP:20260424T125607
CREATED:20240504T051713Z
LAST-MODIFIED:20251125T155457Z
UID:10006294-1786971600-1787000400@communitycounsellingcentre.ca
SUMMARY:John
DESCRIPTION:
URL:https://communitycounsellingcentre.ca/event/john/2026-08-17/
LOCATION:Room 6
CATEGORIES:Room 6
END:VEVENT
BEGIN:VEVENT
DTSTART;TZID=America/Edmonton:20260818T090000
DTEND;TZID=America/Edmonton:20260818T170000
DTSTAMP:20260424T125607
CREATED:20241124T193305Z
LAST-MODIFIED:20251125T155547Z
UID:10006404-1787043600-1787072400@communitycounsellingcentre.ca
SUMMARY:John
DESCRIPTION:
URL:https://communitycounsellingcentre.ca/event/john-2-2/2026-08-18/
LOCATION:Room 6
CATEGORIES:Room 6
END:VEVENT
BEGIN:VEVENT
DTSTART;TZID=America/Edmonton:20260819T160000
DTEND;TZID=America/Edmonton:20260819T200000
DTSTAMP:20260424T125607
CREATED:20250916T195512Z
LAST-MODIFIED:20251125T153737Z
UID:10006069-1787155200-1787169600@communitycounsellingcentre.ca
SUMMARY:Elizabeth
DESCRIPTION:
URL:https://communitycounsellingcentre.ca/event/elizabeth-15/2026-08-19/
LOCATION:Room 6
CATEGORIES:Room 6
END:VEVENT
BEGIN:VEVENT
DTSTART;TZID=America/Edmonton:20260820T120000
DTEND;TZID=America/Edmonton:20260820T160000
DTSTAMP:20260424T125607
CREATED:20250904T211458Z
LAST-MODIFIED:20251126T021916Z
UID:10006718-1787227200-1787241600@communitycounsellingcentre.ca
SUMMARY:John
DESCRIPTION:
URL:https://communitycounsellingcentre.ca/event/john-3-2-2/2026-08-20/
LOCATION:Room 6
CATEGORIES:Room 6
END:VEVENT
BEGIN:VEVENT
DTSTART;TZID=America/Edmonton:20260821T090000
DTEND;TZID=America/Edmonton:20260821T170000
DTSTAMP:20260424T125607
CREATED:20240504T054921Z
LAST-MODIFIED:20251126T021348Z
UID:10006457-1787302800-1787331600@communitycounsellingcentre.ca
SUMMARY:John
DESCRIPTION:
URL:https://communitycounsellingcentre.ca/event/john-3/2026-08-21/
LOCATION:Room 6
CATEGORIES:Room 6
END:VEVENT
BEGIN:VEVENT
DTSTART;TZID=America/Edmonton:20260824T130000
DTEND;TZID=America/Edmonton:20260824T210000
DTSTAMP:20260424T125607
CREATED:20240504T051713Z
LAST-MODIFIED:20251125T155457Z
UID:10006295-1787576400-1787605200@communitycounsellingcentre.ca
SUMMARY:John
DESCRIPTION:
URL:https://communitycounsellingcentre.ca/event/john/2026-08-24/
LOCATION:Room 6
CATEGORIES:Room 6
END:VEVENT
BEGIN:VEVENT
DTSTART;TZID=America/Edmonton:20260825T090000
DTEND;TZID=America/Edmonton:20260825T170000
DTSTAMP:20260424T125607
CREATED:20241124T193305Z
LAST-MODIFIED:20251125T155547Z
UID:10006405-1787648400-1787677200@communitycounsellingcentre.ca
SUMMARY:John
DESCRIPTION:
URL:https://communitycounsellingcentre.ca/event/john-2-2/2026-08-25/
LOCATION:Room 6
CATEGORIES:Room 6
END:VEVENT
BEGIN:VEVENT
DTSTART;TZID=America/Edmonton:20260826T160000
DTEND;TZID=America/Edmonton:20260826T200000
DTSTAMP:20260424T125607
CREATED:20250916T195512Z
LAST-MODIFIED:20251125T153737Z
UID:10006070-1787760000-1787774400@communitycounsellingcentre.ca
SUMMARY:Elizabeth
DESCRIPTION:
URL:https://communitycounsellingcentre.ca/event/elizabeth-15/2026-08-26/
LOCATION:Room 6
CATEGORIES:Room 6
END:VEVENT
BEGIN:VEVENT
DTSTART;TZID=America/Edmonton:20260827T120000
DTEND;TZID=America/Edmonton:20260827T160000
DTSTAMP:20260424T125607
CREATED:20250904T211458Z
LAST-MODIFIED:20251126T021916Z
UID:10006719-1787832000-1787846400@communitycounsellingcentre.ca
SUMMARY:John
DESCRIPTION:
URL:https://communitycounsellingcentre.ca/event/john-3-2-2/2026-08-27/
LOCATION:Room 6
CATEGORIES:Room 6
END:VEVENT
END:VCALENDAR