BEGIN:VCALENDAR
VERSION:2.0
PRODID:-//Community Counselling Centre - ECPv6.13.1//NONSGML v1.0//EN
CALSCALE:GREGORIAN
METHOD:PUBLISH
X-WR-CALNAME:Community Counselling Centre
X-ORIGINAL-URL:https://communitycounsellingcentre.ca
X-WR-CALDESC:Events for Community Counselling Centre
REFRESH-INTERVAL;VALUE=DURATION:PT1H
X-Robots-Tag:noindex
X-PUBLISHED-TTL:PT1H
BEGIN:VTIMEZONE
TZID:America/Edmonton
BEGIN:DAYLIGHT
TZOFFSETFROM:-0700
TZOFFSETTO:-0600
TZNAME:MDT
DTSTART:20260308T090000
END:DAYLIGHT
BEGIN:STANDARD
TZOFFSETFROM:-0600
TZOFFSETTO:-0700
TZNAME:MST
DTSTART:20261101T080000
END:STANDARD
END:VTIMEZONE
BEGIN:VEVENT
DTSTART;TZID=America/Edmonton:20260425T110000
DTEND;TZID=America/Edmonton:20260425T160000
DTSTAMP:20260422T214319
CREATED:20260105T163050Z
LAST-MODIFIED:20260105T163050Z
UID:10007723-1777114800-1777132800@communitycounsellingcentre.ca
SUMMARY:Sam
DESCRIPTION:
URL:https://communitycounsellingcentre.ca/event/sam-2/2026-04-25/
LOCATION:Room 1
CATEGORIES:Room 1
END:VEVENT
BEGIN:VEVENT
DTSTART;TZID=America/Edmonton:20260426T130000
DTEND;TZID=America/Edmonton:20260426T210000
DTSTAMP:20260422T214319
CREATED:20260324T212100Z
LAST-MODIFIED:20260324T212100Z
UID:10008283-1777208400-1777237200@communitycounsellingcentre.ca
SUMMARY:Barb
DESCRIPTION:
URL:https://communitycounsellingcentre.ca/event/barb-2/2026-04-26/
LOCATION:Room 2
CATEGORIES:Room 2
END:VEVENT
BEGIN:VEVENT
DTSTART;TZID=America/Edmonton:20260427T100000
DTEND;TZID=America/Edmonton:20260427T200000
DTSTAMP:20260422T214319
CREATED:20250815T163752Z
LAST-MODIFIED:20251126T022100Z
UID:10006806-1777284000-1777320000@communitycounsellingcentre.ca
SUMMARY:Steven
DESCRIPTION:
URL:https://communitycounsellingcentre.ca/event/steven-4/2026-04-27/
LOCATION:Room 3
CATEGORIES:Room 3
END:VEVENT
BEGIN:VEVENT
DTSTART;TZID=America/Edmonton:20260427T110000
DTEND;TZID=America/Edmonton:20260427T200000
DTSTAMP:20260422T214319
CREATED:20251126T024503Z
LAST-MODIFIED:20251126T024503Z
UID:10007538-1777287600-1777320000@communitycounsellingcentre.ca
SUMMARY:Desiree
DESCRIPTION:
URL:https://communitycounsellingcentre.ca/event/desiree-3/2026-04-27/
LOCATION:Room 1
CATEGORIES:Room 1
END:VEVENT
BEGIN:VEVENT
DTSTART;TZID=America/Edmonton:20260427T130000
DTEND;TZID=America/Edmonton:20260427T200000
DTSTAMP:20260422T214319
CREATED:20251126T023704Z
LAST-MODIFIED:20251126T023704Z
UID:10007434-1777294800-1777320000@communitycounsellingcentre.ca
SUMMARY:Wajed
DESCRIPTION:
URL:https://communitycounsellingcentre.ca/event/wajed/2026-04-27/
LOCATION:Room 5
CATEGORIES:Room 5
END:VEVENT
BEGIN:VEVENT
DTSTART;TZID=America/Edmonton:20260427T130000
DTEND;TZID=America/Edmonton:20260427T210000
DTSTAMP:20260422T214319
CREATED:20240504T051713Z
LAST-MODIFIED:20251125T155457Z
UID:10006278-1777294800-1777323600@communitycounsellingcentre.ca
SUMMARY:John
DESCRIPTION:
URL:https://communitycounsellingcentre.ca/event/john/2026-04-27/
LOCATION:Room 6
CATEGORIES:Room 6
END:VEVENT
BEGIN:VEVENT
DTSTART;TZID=America/Edmonton:20260427T160000
DTEND;TZID=America/Edmonton:20260427T200000
DTSTAMP:20260422T214319
CREATED:20251125T155130Z
LAST-MODIFIED:20251125T155130Z
UID:10006225-1777305600-1777320000@communitycounsellingcentre.ca
SUMMARY:Ishmal
DESCRIPTION:
URL:https://communitycounsellingcentre.ca/event/ishmal/2026-04-27/
LOCATION:Room 4
CATEGORIES:Room 4
END:VEVENT
BEGIN:VEVENT
DTSTART;TZID=America/Edmonton:20260427T170000
DTEND;TZID=America/Edmonton:20260427T210000
DTSTAMP:20260422T214319
CREATED:20260324T211943Z
LAST-MODIFIED:20260324T211943Z
UID:10008244-1777309200-1777323600@communitycounsellingcentre.ca
SUMMARY:Barb
DESCRIPTION:
URL:https://communitycounsellingcentre.ca/event/barb/2026-04-27/
LOCATION:Room 2
CATEGORIES:Room 2
END:VEVENT
BEGIN:VEVENT
DTSTART;TZID=America/Edmonton:20260428T090000
DTEND;TZID=America/Edmonton:20260428T170000
DTSTAMP:20260422T214319
CREATED:20241124T193305Z
LAST-MODIFIED:20251125T155547Z
UID:10006388-1777366800-1777395600@communitycounsellingcentre.ca
SUMMARY:John
DESCRIPTION:
URL:https://communitycounsellingcentre.ca/event/john-2-2/2026-04-28/
LOCATION:Room 6
CATEGORIES:Room 6
END:VEVENT
BEGIN:VEVENT
DTSTART;TZID=America/Edmonton:20260428T110000
DTEND;TZID=America/Edmonton:20260428T190000
DTSTAMP:20260422T214319
CREATED:20241127T172306Z
LAST-MODIFIED:20251126T022940Z
UID:10007172-1777374000-1777402800@communitycounsellingcentre.ca
SUMMARY:Sam
DESCRIPTION:
URL:https://communitycounsellingcentre.ca/event/sam-6-2-2/2026-04-28/
LOCATION:Room 1
CATEGORIES:Room 1
END:VEVENT
BEGIN:VEVENT
DTSTART;TZID=America/Edmonton:20260428T110000
DTEND;TZID=America/Edmonton:20260428T200000
DTSTAMP:20260422T214319
CREATED:20250605T221014Z
LAST-MODIFIED:20251126T022158Z
UID:10006858-1777374000-1777406400@communitycounsellingcentre.ca
SUMMARY:Steven
DESCRIPTION:
URL:https://communitycounsellingcentre.ca/event/steven-2-2/2026-04-28/
LOCATION:Room 5
CATEGORIES:Room 5
END:VEVENT
BEGIN:VEVENT
DTSTART;TZID=America/Edmonton:20260428T120000
DTEND;TZID=America/Edmonton:20260428T200000
DTSTAMP:20260422T214319
CREATED:20250320T170016Z
LAST-MODIFIED:20251126T022218Z
UID:10006910-1777377600-1777406400@communitycounsellingcentre.ca
SUMMARY:Sabrina
DESCRIPTION:
URL:https://communitycounsellingcentre.ca/event/sabrina-7/2026-04-28/
LOCATION:Room 3
CATEGORIES:Room 3
END:VEVENT
BEGIN:VEVENT
DTSTART;TZID=America/Edmonton:20260428T140000
DTEND;TZID=America/Edmonton:20260428T200000
DTSTAMP:20260422T214319
CREATED:20251027T230259Z
LAST-MODIFIED:20251126T022003Z
UID:10006754-1777384800-1777406400@communitycounsellingcentre.ca
SUMMARY:Nick
DESCRIPTION:
URL:https://communitycounsellingcentre.ca/event/nick-3-2/2026-04-28/
LOCATION:Room 4
CATEGORIES:Room 4
END:VEVENT
BEGIN:VEVENT
DTSTART;TZID=America/Edmonton:20260428T150000
DTEND;TZID=America/Edmonton:20260428T190000
DTSTAMP:20260422T214319
CREATED:20250916T200850Z
LAST-MODIFIED:20250916T201158Z
UID:10005773-1777388400-1777402800@communitycounsellingcentre.ca
SUMMARY:Cecilia
DESCRIPTION:
URL:https://communitycounsellingcentre.ca/event/cecilia-35/2026-04-28/
LOCATION:Room 2
CATEGORIES:Room 2
END:VEVENT
BEGIN:VEVENT
DTSTART;TZID=America/Edmonton:20260429T100000
DTEND;TZID=America/Edmonton:20260429T140000
DTSTAMP:20260422T214319
CREATED:20251021T165121Z
LAST-MODIFIED:20251021T165121Z
UID:10005834-1777456800-1777471200@communitycounsellingcentre.ca
SUMMARY:Claire
DESCRIPTION:
URL:https://communitycounsellingcentre.ca/event/claire/2026-04-29/
LOCATION:Room 3
CATEGORIES:Room 3
END:VEVENT
BEGIN:VEVENT
DTSTART;TZID=America/Edmonton:20260429T110000
DTEND;TZID=America/Edmonton:20260429T190000
DTSTAMP:20260422T214319
CREATED:20251125T154531Z
LAST-MODIFIED:20251125T154531Z
UID:10006168-1777460400-1777489200@communitycounsellingcentre.ca
SUMMARY:Sam
DESCRIPTION:
URL:https://communitycounsellingcentre.ca/event/sam/2026-04-29/
LOCATION:Room 1
CATEGORIES:Room 1
END:VEVENT
BEGIN:VEVENT
DTSTART;TZID=America/Edmonton:20260429T120000
DTEND;TZID=America/Edmonton:20260429T200000
DTSTAMP:20260422T214319
CREATED:20241123T192303Z
LAST-MODIFIED:20251126T022729Z
UID:10007120-1777464000-1777492800@communitycounsellingcentre.ca
SUMMARY:Sabrina
DESCRIPTION:
URL:https://communitycounsellingcentre.ca/event/sabrina-10/2026-04-29/
LOCATION:Room 2
CATEGORIES:Room 2
END:VEVENT
BEGIN:VEVENT
DTSTART;TZID=America/Edmonton:20260429T130000
DTEND;TZID=America/Edmonton:20260429T210000
DTSTAMP:20260422T214319
CREATED:20240501T152231Z
LAST-MODIFIED:20251126T023056Z
UID:10007224-1777467600-1777496400@communitycounsellingcentre.ca
SUMMARY:Sherry
DESCRIPTION:
URL:https://communitycounsellingcentre.ca/event/sherry/2026-04-29/
LOCATION:Room 4
CATEGORIES:Room 4
END:VEVENT
BEGIN:VEVENT
DTSTART;TZID=America/Edmonton:20260429T150000
DTEND;TZID=America/Edmonton:20260429T210000
DTSTAMP:20260422T214319
CREATED:20240903T201801Z
LAST-MODIFIED:20260307T163448Z
UID:10008127-1777474800-1777496400@communitycounsellingcentre.ca
SUMMARY:Bo
DESCRIPTION:
URL:https://communitycounsellingcentre.ca/event/bo-4-2/2026-04-29/
LOCATION:Room 3
CATEGORIES:Room 3
END:VEVENT
BEGIN:VEVENT
DTSTART;TZID=America/Edmonton:20260429T160000
DTEND;TZID=America/Edmonton:20260429T200000
DTSTAMP:20260422T214319
CREATED:20250916T195512Z
LAST-MODIFIED:20251125T153737Z
UID:10006053-1777478400-1777492800@communitycounsellingcentre.ca
SUMMARY:Elizabeth
DESCRIPTION:
URL:https://communitycounsellingcentre.ca/event/elizabeth-15/2026-04-29/
LOCATION:Room 6
CATEGORIES:Room 6
END:VEVENT
BEGIN:VEVENT
DTSTART;TZID=America/Edmonton:20260429T160000
DTEND;TZID=America/Edmonton:20260429T200000
DTSTAMP:20260422T214319
CREATED:20251028T221611Z
LAST-MODIFIED:20251126T021718Z
UID:10006597-1777478400-1777492800@communitycounsellingcentre.ca
SUMMARY:Ishmal
DESCRIPTION:
URL:https://communitycounsellingcentre.ca/event/ishmal-5-2/2026-04-29/
LOCATION:Room 5
CATEGORIES:Room 5
END:VEVENT
BEGIN:VEVENT
DTSTART;TZID=America/Edmonton:20260430T120000
DTEND;TZID=America/Edmonton:20260430T160000
DTSTAMP:20260422T214319
CREATED:20250904T211458Z
LAST-MODIFIED:20251126T021916Z
UID:10006702-1777550400-1777564800@communitycounsellingcentre.ca
SUMMARY:John
DESCRIPTION:
URL:https://communitycounsellingcentre.ca/event/john-3-2-2/2026-04-30/
LOCATION:Room 6
CATEGORIES:Room 6
END:VEVENT
BEGIN:VEVENT
DTSTART;TZID=America/Edmonton:20260430T130000
DTEND;TZID=America/Edmonton:20260430T170000
DTSTAMP:20260422T214319
CREATED:20260317T233955Z
LAST-MODIFIED:20260317T233955Z
UID:10008167-1777554000-1777568400@communitycounsellingcentre.ca
SUMMARY:Sam
DESCRIPTION:
URL:https://communitycounsellingcentre.ca/event/sam-3/2026-04-30/
LOCATION:Room 1
CATEGORIES:Room 1
END:VEVENT
BEGIN:VEVENT
DTSTART;TZID=America/Edmonton:20260430T130000
DTEND;TZID=America/Edmonton:20260430T200000
DTSTAMP:20260422T214319
CREATED:20240504T054425Z
LAST-MODIFIED:20251126T023114Z
UID:10007277-1777554000-1777579200@communitycounsellingcentre.ca
SUMMARY:Sherry
DESCRIPTION:
URL:https://communitycounsellingcentre.ca/event/sherry-2/2026-04-30/
LOCATION:Room 4
CATEGORIES:Room 4
END:VEVENT
BEGIN:VEVENT
DTSTART;TZID=America/Edmonton:20260430T140000
DTEND;TZID=America/Edmonton:20260430T200000
DTSTAMP:20260422T214319
CREATED:20251027T230208Z
LAST-MODIFIED:20251126T021620Z
UID:10006545-1777557600-1777579200@communitycounsellingcentre.ca
SUMMARY:Nick
DESCRIPTION:
URL:https://communitycounsellingcentre.ca/event/nick-5-2/2026-04-30/
LOCATION:Room 2
CATEGORIES:Room 2
END:VEVENT
BEGIN:VEVENT
DTSTART;TZID=America/Edmonton:20260430T140000
DTEND;TZID=America/Edmonton:20260430T200000
DTSTAMP:20260422T214319
CREATED:20260227T174239Z
LAST-MODIFIED:20260307T163310Z
UID:10007883-1777557600-1777579200@communitycounsellingcentre.ca
SUMMARY:Bo
DESCRIPTION:
URL:https://communitycounsellingcentre.ca/event/bo-12-2-2/2026-04-30/
LOCATION:Room 3
CATEGORIES:Room 3
END:VEVENT
BEGIN:VEVENT
DTSTART;TZID=America/Edmonton:20260501T090000
DTEND;TZID=America/Edmonton:20260501T170000
DTSTAMP:20260422T214319
CREATED:20240504T054921Z
LAST-MODIFIED:20251126T021348Z
UID:10006441-1777626000-1777654800@communitycounsellingcentre.ca
SUMMARY:John
DESCRIPTION:
URL:https://communitycounsellingcentre.ca/event/john-3/2026-05-01/
LOCATION:Room 6
CATEGORIES:Room 6
END:VEVENT
BEGIN:VEVENT
DTSTART;TZID=America/Edmonton:20260501T090000
DTEND;TZID=America/Edmonton:20260501T210000
DTSTAMP:20260422T214319
CREATED:20240504T054728Z
LAST-MODIFIED:20251126T021539Z
UID:10006493-1777626000-1777669200@communitycounsellingcentre.ca
SUMMARY:Sherry
DESCRIPTION:
URL:https://communitycounsellingcentre.ca/event/sherry-3/2026-05-01/
LOCATION:Room 4
CATEGORIES:Room 4
END:VEVENT
BEGIN:VEVENT
DTSTART;TZID=America/Edmonton:20260501T100000
DTEND;TZID=America/Edmonton:20260501T140000
DTSTAMP:20260422T214319
CREATED:20251021T165214Z
LAST-MODIFIED:20260317T235202Z
UID:10008238-1777629600-1777644000@communitycounsellingcentre.ca
SUMMARY:Claire
DESCRIPTION:
URL:https://communitycounsellingcentre.ca/event/claire-2/2026-05-01/
LOCATION:Room 3
CATEGORIES:Room 3
END:VEVENT
BEGIN:VEVENT
DTSTART;TZID=America/Edmonton:20260501T110000
DTEND;TZID=America/Edmonton:20260501T170000
DTSTAMP:20260422T214319
CREATED:20251126T023803Z
LAST-MODIFIED:20260105T163325Z
UID:10007487-1777633200-1777654800@communitycounsellingcentre.ca
SUMMARY:Wajed
DESCRIPTION:
URL:https://communitycounsellingcentre.ca/event/wajed-2/2026-05-01/
LOCATION:Room 5
CATEGORIES:Room 5
END:VEVENT
END:VCALENDAR