BEGIN:VCALENDAR
VERSION:2.0
PRODID:-//Community Counselling Centre - ECPv6.13.1//NONSGML v1.0//EN
CALSCALE:GREGORIAN
METHOD:PUBLISH
X-ORIGINAL-URL:https://communitycounsellingcentre.ca
X-WR-CALDESC:Events for Community Counselling Centre
REFRESH-INTERVAL;VALUE=DURATION:PT1H
X-Robots-Tag:noindex
X-PUBLISHED-TTL:PT1H
BEGIN:VTIMEZONE
TZID:America/Edmonton
BEGIN:DAYLIGHT
TZOFFSETFROM:-0700
TZOFFSETTO:-0600
TZNAME:MDT
DTSTART:20260308T090000
END:DAYLIGHT
BEGIN:STANDARD
TZOFFSETFROM:-0600
TZOFFSETTO:-0700
TZNAME:MST
DTSTART:20261101T080000
END:STANDARD
END:VTIMEZONE
BEGIN:VEVENT
DTSTART;TZID=America/Edmonton:20260504T100000
DTEND;TZID=America/Edmonton:20260504T200000
DTSTAMP:20260423T024826
CREATED:20250815T163752Z
LAST-MODIFIED:20251126T022100Z
UID:10006807-1777888800-1777924800@communitycounsellingcentre.ca
SUMMARY:Steven
DESCRIPTION:
URL:https://communitycounsellingcentre.ca/event/steven-4/2026-05-04/
LOCATION:Room 3
CATEGORIES:Room 3
END:VEVENT
BEGIN:VEVENT
DTSTART;TZID=America/Edmonton:20260504T110000
DTEND;TZID=America/Edmonton:20260504T200000
DTSTAMP:20260423T024826
CREATED:20251126T024503Z
LAST-MODIFIED:20251126T024503Z
UID:10007539-1777892400-1777924800@communitycounsellingcentre.ca
SUMMARY:Desiree
DESCRIPTION:
URL:https://communitycounsellingcentre.ca/event/desiree-3/2026-05-04/
LOCATION:Room 1
CATEGORIES:Room 1
END:VEVENT
BEGIN:VEVENT
DTSTART;TZID=America/Edmonton:20260504T130000
DTEND;TZID=America/Edmonton:20260504T200000
DTSTAMP:20260423T024826
CREATED:20251126T023704Z
LAST-MODIFIED:20251126T023704Z
UID:10007435-1777899600-1777924800@communitycounsellingcentre.ca
SUMMARY:Wajed
DESCRIPTION:
URL:https://communitycounsellingcentre.ca/event/wajed/2026-05-04/
LOCATION:Room 5
CATEGORIES:Room 5
END:VEVENT
BEGIN:VEVENT
DTSTART;TZID=America/Edmonton:20260504T130000
DTEND;TZID=America/Edmonton:20260504T210000
DTSTAMP:20260423T024826
CREATED:20240504T051713Z
LAST-MODIFIED:20251125T155457Z
UID:10006279-1777899600-1777928400@communitycounsellingcentre.ca
SUMMARY:John
DESCRIPTION:
URL:https://communitycounsellingcentre.ca/event/john/2026-05-04/
LOCATION:Room 6
CATEGORIES:Room 6
END:VEVENT
BEGIN:VEVENT
DTSTART;TZID=America/Edmonton:20260504T160000
DTEND;TZID=America/Edmonton:20260504T200000
DTSTAMP:20260423T024826
CREATED:20251125T155130Z
LAST-MODIFIED:20251125T155130Z
UID:10006226-1777910400-1777924800@communitycounsellingcentre.ca
SUMMARY:Ishmal
DESCRIPTION:
URL:https://communitycounsellingcentre.ca/event/ishmal/2026-05-04/
LOCATION:Room 4
CATEGORIES:Room 4
END:VEVENT
BEGIN:VEVENT
DTSTART;TZID=America/Edmonton:20260504T170000
DTEND;TZID=America/Edmonton:20260504T210000
DTSTAMP:20260423T024826
CREATED:20260324T211943Z
LAST-MODIFIED:20260324T211943Z
UID:10008245-1777914000-1777928400@communitycounsellingcentre.ca
SUMMARY:Barb
DESCRIPTION:
URL:https://communitycounsellingcentre.ca/event/barb/2026-05-04/
LOCATION:Room 2
CATEGORIES:Room 2
END:VEVENT
BEGIN:VEVENT
DTSTART;TZID=America/Edmonton:20260505T090000
DTEND;TZID=America/Edmonton:20260505T170000
DTSTAMP:20260423T024826
CREATED:20241124T193305Z
LAST-MODIFIED:20251125T155547Z
UID:10006389-1777971600-1778000400@communitycounsellingcentre.ca
SUMMARY:John
DESCRIPTION:
URL:https://communitycounsellingcentre.ca/event/john-2-2/2026-05-05/
LOCATION:Room 6
CATEGORIES:Room 6
END:VEVENT
BEGIN:VEVENT
DTSTART;TZID=America/Edmonton:20260505T110000
DTEND;TZID=America/Edmonton:20260505T190000
DTSTAMP:20260423T024826
CREATED:20241127T172306Z
LAST-MODIFIED:20251126T022940Z
UID:10007173-1777978800-1778007600@communitycounsellingcentre.ca
SUMMARY:Sam
DESCRIPTION:
URL:https://communitycounsellingcentre.ca/event/sam-6-2-2/2026-05-05/
LOCATION:Room 1
CATEGORIES:Room 1
END:VEVENT
BEGIN:VEVENT
DTSTART;TZID=America/Edmonton:20260505T110000
DTEND;TZID=America/Edmonton:20260505T200000
DTSTAMP:20260423T024826
CREATED:20250605T221014Z
LAST-MODIFIED:20251126T022158Z
UID:10006859-1777978800-1778011200@communitycounsellingcentre.ca
SUMMARY:Steven
DESCRIPTION:
URL:https://communitycounsellingcentre.ca/event/steven-2-2/2026-05-05/
LOCATION:Room 5
CATEGORIES:Room 5
END:VEVENT
BEGIN:VEVENT
DTSTART;TZID=America/Edmonton:20260505T120000
DTEND;TZID=America/Edmonton:20260505T200000
DTSTAMP:20260423T024826
CREATED:20250320T170016Z
LAST-MODIFIED:20251126T022218Z
UID:10006911-1777982400-1778011200@communitycounsellingcentre.ca
SUMMARY:Sabrina
DESCRIPTION:
URL:https://communitycounsellingcentre.ca/event/sabrina-7/2026-05-05/
LOCATION:Room 3
CATEGORIES:Room 3
END:VEVENT
BEGIN:VEVENT
DTSTART;TZID=America/Edmonton:20260505T140000
DTEND;TZID=America/Edmonton:20260505T200000
DTSTAMP:20260423T024826
CREATED:20251027T230259Z
LAST-MODIFIED:20251126T022003Z
UID:10006755-1777989600-1778011200@communitycounsellingcentre.ca
SUMMARY:Nick
DESCRIPTION:
URL:https://communitycounsellingcentre.ca/event/nick-3-2/2026-05-05/
LOCATION:Room 4
CATEGORIES:Room 4
END:VEVENT
BEGIN:VEVENT
DTSTART;TZID=America/Edmonton:20260505T150000
DTEND;TZID=America/Edmonton:20260505T190000
DTSTAMP:20260423T024826
CREATED:20250916T200850Z
LAST-MODIFIED:20250916T201158Z
UID:10005774-1777993200-1778007600@communitycounsellingcentre.ca
SUMMARY:Cecilia
DESCRIPTION:
URL:https://communitycounsellingcentre.ca/event/cecilia-35/2026-05-05/
LOCATION:Room 2
CATEGORIES:Room 2
END:VEVENT
BEGIN:VEVENT
DTSTART;TZID=America/Edmonton:20260506T100000
DTEND;TZID=America/Edmonton:20260506T140000
DTSTAMP:20260423T024826
CREATED:20251021T165121Z
LAST-MODIFIED:20251021T165121Z
UID:10005835-1778061600-1778076000@communitycounsellingcentre.ca
SUMMARY:Claire
DESCRIPTION:
URL:https://communitycounsellingcentre.ca/event/claire/2026-05-06/
LOCATION:Room 3
CATEGORIES:Room 3
END:VEVENT
BEGIN:VEVENT
DTSTART;TZID=America/Edmonton:20260506T110000
DTEND;TZID=America/Edmonton:20260506T190000
DTSTAMP:20260423T024826
CREATED:20251125T154531Z
LAST-MODIFIED:20251125T154531Z
UID:10006169-1778065200-1778094000@communitycounsellingcentre.ca
SUMMARY:Sam
DESCRIPTION:
URL:https://communitycounsellingcentre.ca/event/sam/2026-05-06/
LOCATION:Room 1
CATEGORIES:Room 1
END:VEVENT
BEGIN:VEVENT
DTSTART;TZID=America/Edmonton:20260506T120000
DTEND;TZID=America/Edmonton:20260506T200000
DTSTAMP:20260423T024827
CREATED:20241123T192303Z
LAST-MODIFIED:20251126T022729Z
UID:10007121-1778068800-1778097600@communitycounsellingcentre.ca
SUMMARY:Sabrina
DESCRIPTION:
URL:https://communitycounsellingcentre.ca/event/sabrina-10/2026-05-06/
LOCATION:Room 2
CATEGORIES:Room 2
END:VEVENT
BEGIN:VEVENT
DTSTART;TZID=America/Edmonton:20260506T130000
DTEND;TZID=America/Edmonton:20260506T210000
DTSTAMP:20260423T024827
CREATED:20240501T152231Z
LAST-MODIFIED:20251126T023056Z
UID:10007225-1778072400-1778101200@communitycounsellingcentre.ca
SUMMARY:Sherry
DESCRIPTION:
URL:https://communitycounsellingcentre.ca/event/sherry/2026-05-06/
LOCATION:Room 4
CATEGORIES:Room 4
END:VEVENT
BEGIN:VEVENT
DTSTART;TZID=America/Edmonton:20260506T150000
DTEND;TZID=America/Edmonton:20260506T210000
DTSTAMP:20260423T024827
CREATED:20240903T201801Z
LAST-MODIFIED:20260307T163448Z
UID:10008128-1778079600-1778101200@communitycounsellingcentre.ca
SUMMARY:Bo
DESCRIPTION:
URL:https://communitycounsellingcentre.ca/event/bo-4-2/2026-05-06/
LOCATION:Room 3
CATEGORIES:Room 3
END:VEVENT
BEGIN:VEVENT
DTSTART;TZID=America/Edmonton:20260506T160000
DTEND;TZID=America/Edmonton:20260506T200000
DTSTAMP:20260423T024827
CREATED:20250916T195512Z
LAST-MODIFIED:20251125T153737Z
UID:10006054-1778083200-1778097600@communitycounsellingcentre.ca
SUMMARY:Elizabeth
DESCRIPTION:
URL:https://communitycounsellingcentre.ca/event/elizabeth-15/2026-05-06/
LOCATION:Room 6
CATEGORIES:Room 6
END:VEVENT
BEGIN:VEVENT
DTSTART;TZID=America/Edmonton:20260506T160000
DTEND;TZID=America/Edmonton:20260506T200000
DTSTAMP:20260423T024827
CREATED:20251028T221611Z
LAST-MODIFIED:20251126T021718Z
UID:10006598-1778083200-1778097600@communitycounsellingcentre.ca
SUMMARY:Ishmal
DESCRIPTION:
URL:https://communitycounsellingcentre.ca/event/ishmal-5-2/2026-05-06/
LOCATION:Room 5
CATEGORIES:Room 5
END:VEVENT
BEGIN:VEVENT
DTSTART;TZID=America/Edmonton:20260507T120000
DTEND;TZID=America/Edmonton:20260507T160000
DTSTAMP:20260423T024827
CREATED:20250904T211458Z
LAST-MODIFIED:20251126T021916Z
UID:10006703-1778155200-1778169600@communitycounsellingcentre.ca
SUMMARY:John
DESCRIPTION:
URL:https://communitycounsellingcentre.ca/event/john-3-2-2/2026-05-07/
LOCATION:Room 6
CATEGORIES:Room 6
END:VEVENT
BEGIN:VEVENT
DTSTART;TZID=America/Edmonton:20260507T130000
DTEND;TZID=America/Edmonton:20260507T170000
DTSTAMP:20260423T024827
CREATED:20260317T233955Z
LAST-MODIFIED:20260317T233955Z
UID:10008168-1778158800-1778173200@communitycounsellingcentre.ca
SUMMARY:Sam
DESCRIPTION:
URL:https://communitycounsellingcentre.ca/event/sam-3/2026-05-07/
LOCATION:Room 1
CATEGORIES:Room 1
END:VEVENT
BEGIN:VEVENT
DTSTART;TZID=America/Edmonton:20260507T130000
DTEND;TZID=America/Edmonton:20260507T200000
DTSTAMP:20260423T024827
CREATED:20240504T054425Z
LAST-MODIFIED:20251126T023114Z
UID:10007278-1778158800-1778184000@communitycounsellingcentre.ca
SUMMARY:Sherry
DESCRIPTION:
URL:https://communitycounsellingcentre.ca/event/sherry-2/2026-05-07/
LOCATION:Room 4
CATEGORIES:Room 4
END:VEVENT
BEGIN:VEVENT
DTSTART;TZID=America/Edmonton:20260507T140000
DTEND;TZID=America/Edmonton:20260507T200000
DTSTAMP:20260423T024827
CREATED:20251027T230208Z
LAST-MODIFIED:20251126T021620Z
UID:10006546-1778162400-1778184000@communitycounsellingcentre.ca
SUMMARY:Nick
DESCRIPTION:
URL:https://communitycounsellingcentre.ca/event/nick-5-2/2026-05-07/
LOCATION:Room 2
CATEGORIES:Room 2
END:VEVENT
BEGIN:VEVENT
DTSTART;TZID=America/Edmonton:20260507T140000
DTEND;TZID=America/Edmonton:20260507T200000
DTSTAMP:20260423T024827
CREATED:20260227T174239Z
LAST-MODIFIED:20260307T163310Z
UID:10007884-1778162400-1778184000@communitycounsellingcentre.ca
SUMMARY:Bo
DESCRIPTION:
URL:https://communitycounsellingcentre.ca/event/bo-12-2-2/2026-05-07/
LOCATION:Room 3
CATEGORIES:Room 3
END:VEVENT
BEGIN:VEVENT
DTSTART;TZID=America/Edmonton:20260508T090000
DTEND;TZID=America/Edmonton:20260508T170000
DTSTAMP:20260423T024827
CREATED:20240504T054921Z
LAST-MODIFIED:20251126T021348Z
UID:10006442-1778230800-1778259600@communitycounsellingcentre.ca
SUMMARY:John
DESCRIPTION:
URL:https://communitycounsellingcentre.ca/event/john-3/2026-05-08/
LOCATION:Room 6
CATEGORIES:Room 6
END:VEVENT
BEGIN:VEVENT
DTSTART;TZID=America/Edmonton:20260508T090000
DTEND;TZID=America/Edmonton:20260508T210000
DTSTAMP:20260423T024827
CREATED:20240504T054728Z
LAST-MODIFIED:20251126T021539Z
UID:10006494-1778230800-1778274000@communitycounsellingcentre.ca
SUMMARY:Sherry
DESCRIPTION:
URL:https://communitycounsellingcentre.ca/event/sherry-3/2026-05-08/
LOCATION:Room 4
CATEGORIES:Room 4
END:VEVENT
BEGIN:VEVENT
DTSTART;TZID=America/Edmonton:20260508T110000
DTEND;TZID=America/Edmonton:20260508T170000
DTSTAMP:20260423T024827
CREATED:20251126T023803Z
LAST-MODIFIED:20260105T163325Z
UID:10007488-1778238000-1778259600@communitycounsellingcentre.ca
SUMMARY:Wajed
DESCRIPTION:
URL:https://communitycounsellingcentre.ca/event/wajed-2/2026-05-08/
LOCATION:Room 5
CATEGORIES:Room 5
END:VEVENT
BEGIN:VEVENT
DTSTART;TZID=America/Edmonton:20260508T110000
DTEND;TZID=America/Edmonton:20260508T170000
DTSTAMP:20260423T024827
CREATED:20251126T024600Z
LAST-MODIFIED:20251126T024600Z
UID:10007592-1778238000-1778259600@communitycounsellingcentre.ca
SUMMARY:Desiree
DESCRIPTION:
URL:https://communitycounsellingcentre.ca/event/desiree-4/2026-05-08/
LOCATION:Room 1
CATEGORIES:Room 1
END:VEVENT
BEGIN:VEVENT
DTSTART;TZID=America/Edmonton:20260508T160000
DTEND;TZID=America/Edmonton:20260508T200000
DTSTAMP:20260423T024827
CREATED:20251027T225904Z
LAST-MODIFIED:20251126T021806Z
UID:10006651-1778256000-1778270400@communitycounsellingcentre.ca
SUMMARY:Ishmal
DESCRIPTION:
URL:https://communitycounsellingcentre.ca/event/ishmal-2-2/2026-05-08/
LOCATION:Room 3
CATEGORIES:Room 3
END:VEVENT
BEGIN:VEVENT
DTSTART;TZID=America/Edmonton:20260509T100000
DTEND;TZID=America/Edmonton:20260509T180000
DTSTAMP:20260423T024827
CREATED:20250426T031802Z
LAST-MODIFIED:20251126T022353Z
UID:10007070-1778320800-1778349600@communitycounsellingcentre.ca
SUMMARY:Fan
DESCRIPTION:
URL:https://communitycounsellingcentre.ca/event/fan-4-2/2026-05-09/
LOCATION:Room 5
CATEGORIES:Room 5
END:VEVENT
END:VCALENDAR