BEGIN:VCALENDAR
VERSION:2.0
PRODID:-//Community Counselling Centre - ECPv6.13.1//NONSGML v1.0//EN
CALSCALE:GREGORIAN
METHOD:PUBLISH
X-ORIGINAL-URL:https://communitycounsellingcentre.ca
X-WR-CALDESC:Events for Community Counselling Centre
REFRESH-INTERVAL;VALUE=DURATION:PT1H
X-Robots-Tag:noindex
X-PUBLISHED-TTL:PT1H
BEGIN:VTIMEZONE
TZID:America/Edmonton
BEGIN:DAYLIGHT
TZOFFSETFROM:-0700
TZOFFSETTO:-0600
TZNAME:MDT
DTSTART:20250309T090000
END:DAYLIGHT
BEGIN:STANDARD
TZOFFSETFROM:-0600
TZOFFSETTO:-0700
TZNAME:MST
DTSTART:20251102T080000
END:STANDARD
END:VTIMEZONE
BEGIN:VEVENT
DTSTART;TZID=America/Edmonton:20250501T120000
DTEND;TZID=America/Edmonton:20250501T200000
DTSTAMP:20260422T055143
CREATED:20250320T170707Z
LAST-MODIFIED:20260317T233752Z
UID:10005423-1746100800-1746129600@communitycounsellingcentre.ca
SUMMARY:Sabrina
DESCRIPTION:
URL:https://communitycounsellingcentre.ca/event/sabrina-12/2025-05-01/
LOCATION:Room 1
CATEGORIES:Room 1
END:VEVENT
BEGIN:VEVENT
DTSTART;TZID=America/Edmonton:20250501T130000
DTEND;TZID=America/Edmonton:20250501T170000
DTSTAMP:20260422T055143
CREATED:20250509T174452Z
LAST-MODIFIED:20260317T233837Z
UID:10005567-1746104400-1746118800@communitycounsellingcentre.ca
SUMMARY:Sam
DESCRIPTION:
URL:https://communitycounsellingcentre.ca/event/sam-13/2025-05-01/
LOCATION:Room 5
CATEGORIES:Room 5
END:VEVENT
BEGIN:VEVENT
DTSTART;TZID=America/Edmonton:20250501T130000
DTEND;TZID=America/Edmonton:20250501T200000
DTSTAMP:20260422T055143
CREATED:20240504T054425Z
LAST-MODIFIED:20251126T023114Z
UID:10004217-1746104400-1746129600@communitycounsellingcentre.ca
SUMMARY:Sherry
DESCRIPTION:
URL:https://communitycounsellingcentre.ca/event/sherry-2/2025-05-01/
LOCATION:Room 4
CATEGORIES:Room 4
END:VEVENT
BEGIN:VEVENT
DTSTART;TZID=America/Edmonton:20250502T090000
DTEND;TZID=America/Edmonton:20250502T170000
DTSTAMP:20260422T055143
CREATED:20240504T054921Z
LAST-MODIFIED:20251126T021348Z
UID:10003957-1746176400-1746205200@communitycounsellingcentre.ca
SUMMARY:John
DESCRIPTION:
URL:https://communitycounsellingcentre.ca/event/john-3/2025-05-02/
LOCATION:Room 6
CATEGORIES:Room 6
END:VEVENT
BEGIN:VEVENT
DTSTART;TZID=America/Edmonton:20250502T090000
DTEND;TZID=America/Edmonton:20250502T210000
DTSTAMP:20260422T055143
CREATED:20240504T054728Z
LAST-MODIFIED:20251126T021539Z
UID:10004165-1746176400-1746219600@communitycounsellingcentre.ca
SUMMARY:Sherry
DESCRIPTION:
URL:https://communitycounsellingcentre.ca/event/sherry-3/2025-05-02/
LOCATION:Room 4
CATEGORIES:Room 4
END:VEVENT
BEGIN:VEVENT
DTSTART;TZID=America/Edmonton:20250503T100000
DTEND;TZID=America/Edmonton:20250503T180000
DTSTAMP:20260422T055143
CREATED:20250426T031802Z
LAST-MODIFIED:20251126T022353Z
UID:10005532-1746266400-1746295200@communitycounsellingcentre.ca
SUMMARY:Fan
DESCRIPTION:
URL:https://communitycounsellingcentre.ca/event/fan-4-2/2025-05-03/
LOCATION:Room 5
CATEGORIES:Room 5
END:VEVENT
BEGIN:VEVENT
DTSTART;TZID=America/Edmonton:20250505T130000
DTEND;TZID=America/Edmonton:20250505T210000
DTSTAMP:20260422T055143
CREATED:20240504T051713Z
LAST-MODIFIED:20251125T155457Z
UID:10004113-1746450000-1746478800@communitycounsellingcentre.ca
SUMMARY:John
DESCRIPTION:
URL:https://communitycounsellingcentre.ca/event/john/2025-05-05/
LOCATION:Room 6
CATEGORIES:Room 6
END:VEVENT
BEGIN:VEVENT
DTSTART;TZID=America/Edmonton:20250506T090000
DTEND;TZID=America/Edmonton:20250506T170000
DTSTAMP:20260422T055143
CREATED:20241124T193305Z
LAST-MODIFIED:20251125T155547Z
UID:10006337-1746522000-1746550800@communitycounsellingcentre.ca
SUMMARY:John
DESCRIPTION:
URL:https://communitycounsellingcentre.ca/event/john-2-2/2025-05-06/
LOCATION:Room 6
CATEGORIES:Room 6
END:VEVENT
BEGIN:VEVENT
DTSTART;TZID=America/Edmonton:20250506T110000
DTEND;TZID=America/Edmonton:20250506T190000
DTSTAMP:20260422T055143
CREATED:20241127T172306Z
LAST-MODIFIED:20251126T022940Z
UID:10006111-1746529200-1746558000@communitycounsellingcentre.ca
SUMMARY:Sam
DESCRIPTION:
URL:https://communitycounsellingcentre.ca/event/sam-6-2-2/2025-05-06/
LOCATION:Room 1
CATEGORIES:Room 1
END:VEVENT
BEGIN:VEVENT
DTSTART;TZID=America/Edmonton:20250506T120000
DTEND;TZID=America/Edmonton:20250506T200000
DTSTAMP:20260422T055143
CREATED:20250320T170016Z
LAST-MODIFIED:20251126T022218Z
UID:10005388-1746532800-1746561600@communitycounsellingcentre.ca
SUMMARY:Sabrina
DESCRIPTION:
URL:https://communitycounsellingcentre.ca/event/sabrina-7/2025-05-06/
LOCATION:Room 3
CATEGORIES:Room 3
END:VEVENT
BEGIN:VEVENT
DTSTART;TZID=America/Edmonton:20250507T120000
DTEND;TZID=America/Edmonton:20250507T200000
DTSTAMP:20260422T055143
CREATED:20241123T192303Z
LAST-MODIFIED:20251126T022729Z
UID:10004813-1746619200-1746648000@communitycounsellingcentre.ca
SUMMARY:Sabrina
DESCRIPTION:
URL:https://communitycounsellingcentre.ca/event/sabrina-10/2025-05-07/
LOCATION:Room 2
CATEGORIES:Room 2
END:VEVENT
BEGIN:VEVENT
DTSTART;TZID=America/Edmonton:20250507T130000
DTEND;TZID=America/Edmonton:20250507T210000
DTSTAMP:20260422T055143
CREATED:20240501T152231Z
LAST-MODIFIED:20251126T023056Z
UID:10004270-1746622800-1746651600@communitycounsellingcentre.ca
SUMMARY:Sherry
DESCRIPTION:
URL:https://communitycounsellingcentre.ca/event/sherry/2025-05-07/
LOCATION:Room 4
CATEGORIES:Room 4
END:VEVENT
BEGIN:VEVENT
DTSTART;TZID=America/Edmonton:20250507T150000
DTEND;TZID=America/Edmonton:20250507T210000
DTSTAMP:20260422T055143
CREATED:20240903T201801Z
LAST-MODIFIED:20260307T163448Z
UID:10008076-1746630000-1746651600@communitycounsellingcentre.ca
SUMMARY:Bo
DESCRIPTION:
URL:https://communitycounsellingcentre.ca/event/bo-4-2/2025-05-07/
LOCATION:Room 3
CATEGORIES:Room 3
END:VEVENT
BEGIN:VEVENT
DTSTART;TZID=America/Edmonton:20250508T120000
DTEND;TZID=America/Edmonton:20250508T200000
DTSTAMP:20260422T055143
CREATED:20250320T170707Z
LAST-MODIFIED:20260317T233752Z
UID:10005424-1746705600-1746734400@communitycounsellingcentre.ca
SUMMARY:Sabrina
DESCRIPTION:
URL:https://communitycounsellingcentre.ca/event/sabrina-12/2025-05-08/
LOCATION:Room 1
CATEGORIES:Room 1
END:VEVENT
BEGIN:VEVENT
DTSTART;TZID=America/Edmonton:20250508T130000
DTEND;TZID=America/Edmonton:20250508T170000
DTSTAMP:20260422T055143
CREATED:20250509T174452Z
LAST-MODIFIED:20260317T233837Z
UID:10005568-1746709200-1746723600@communitycounsellingcentre.ca
SUMMARY:Sam
DESCRIPTION:
URL:https://communitycounsellingcentre.ca/event/sam-13/2025-05-08/
LOCATION:Room 5
CATEGORIES:Room 5
END:VEVENT
BEGIN:VEVENT
DTSTART;TZID=America/Edmonton:20250508T130000
DTEND;TZID=America/Edmonton:20250508T200000
DTSTAMP:20260422T055143
CREATED:20240504T054425Z
LAST-MODIFIED:20251126T023114Z
UID:10004218-1746709200-1746734400@communitycounsellingcentre.ca
SUMMARY:Sherry
DESCRIPTION:
URL:https://communitycounsellingcentre.ca/event/sherry-2/2025-05-08/
LOCATION:Room 4
CATEGORIES:Room 4
END:VEVENT
BEGIN:VEVENT
DTSTART;TZID=America/Edmonton:20250509T090000
DTEND;TZID=America/Edmonton:20250509T170000
DTSTAMP:20260422T055143
CREATED:20240504T054921Z
LAST-MODIFIED:20251126T021348Z
UID:10003958-1746781200-1746810000@communitycounsellingcentre.ca
SUMMARY:John
DESCRIPTION:
URL:https://communitycounsellingcentre.ca/event/john-3/2025-05-09/
LOCATION:Room 6
CATEGORIES:Room 6
END:VEVENT
BEGIN:VEVENT
DTSTART;TZID=America/Edmonton:20250509T090000
DTEND;TZID=America/Edmonton:20250509T210000
DTSTAMP:20260422T055143
CREATED:20240504T054728Z
LAST-MODIFIED:20251126T021539Z
UID:10004166-1746781200-1746824400@communitycounsellingcentre.ca
SUMMARY:Sherry
DESCRIPTION:
URL:https://communitycounsellingcentre.ca/event/sherry-3/2025-05-09/
LOCATION:Room 4
CATEGORIES:Room 4
END:VEVENT
BEGIN:VEVENT
DTSTART;TZID=America/Edmonton:20250510T100000
DTEND;TZID=America/Edmonton:20250510T180000
DTSTAMP:20260422T055143
CREATED:20250426T031802Z
LAST-MODIFIED:20251126T022353Z
UID:10005533-1746871200-1746900000@communitycounsellingcentre.ca
SUMMARY:Fan
DESCRIPTION:
URL:https://communitycounsellingcentre.ca/event/fan-4-2/2025-05-10/
LOCATION:Room 5
CATEGORIES:Room 5
END:VEVENT
BEGIN:VEVENT
DTSTART;TZID=America/Edmonton:20250512T130000
DTEND;TZID=America/Edmonton:20250512T210000
DTSTAMP:20260422T055143
CREATED:20240504T051713Z
LAST-MODIFIED:20251125T155457Z
UID:10004114-1747054800-1747083600@communitycounsellingcentre.ca
SUMMARY:John
DESCRIPTION:
URL:https://communitycounsellingcentre.ca/event/john/2025-05-12/
LOCATION:Room 6
CATEGORIES:Room 6
END:VEVENT
BEGIN:VEVENT
DTSTART;TZID=America/Edmonton:20250513T090000
DTEND;TZID=America/Edmonton:20250513T170000
DTSTAMP:20260422T055143
CREATED:20241124T193305Z
LAST-MODIFIED:20251125T155547Z
UID:10006338-1747126800-1747155600@communitycounsellingcentre.ca
SUMMARY:John
DESCRIPTION:
URL:https://communitycounsellingcentre.ca/event/john-2-2/2025-05-13/
LOCATION:Room 6
CATEGORIES:Room 6
END:VEVENT
BEGIN:VEVENT
DTSTART;TZID=America/Edmonton:20250513T110000
DTEND;TZID=America/Edmonton:20250513T190000
DTSTAMP:20260422T055143
CREATED:20241127T172306Z
LAST-MODIFIED:20251126T022940Z
UID:10006112-1747134000-1747162800@communitycounsellingcentre.ca
SUMMARY:Sam
DESCRIPTION:
URL:https://communitycounsellingcentre.ca/event/sam-6-2-2/2025-05-13/
LOCATION:Room 1
CATEGORIES:Room 1
END:VEVENT
BEGIN:VEVENT
DTSTART;TZID=America/Edmonton:20250513T120000
DTEND;TZID=America/Edmonton:20250513T200000
DTSTAMP:20260422T055143
CREATED:20250320T170016Z
LAST-MODIFIED:20251126T022218Z
UID:10005389-1747137600-1747166400@communitycounsellingcentre.ca
SUMMARY:Sabrina
DESCRIPTION:
URL:https://communitycounsellingcentre.ca/event/sabrina-7/2025-05-13/
LOCATION:Room 3
CATEGORIES:Room 3
END:VEVENT
BEGIN:VEVENT
DTSTART;TZID=America/Edmonton:20250514T120000
DTEND;TZID=America/Edmonton:20250514T200000
DTSTAMP:20260422T055143
CREATED:20241123T192303Z
LAST-MODIFIED:20251126T022729Z
UID:10004814-1747224000-1747252800@communitycounsellingcentre.ca
SUMMARY:Sabrina
DESCRIPTION:
URL:https://communitycounsellingcentre.ca/event/sabrina-10/2025-05-14/
LOCATION:Room 2
CATEGORIES:Room 2
END:VEVENT
BEGIN:VEVENT
DTSTART;TZID=America/Edmonton:20250514T130000
DTEND;TZID=America/Edmonton:20250514T210000
DTSTAMP:20260422T055143
CREATED:20240501T152231Z
LAST-MODIFIED:20251126T023056Z
UID:10004271-1747227600-1747256400@communitycounsellingcentre.ca
SUMMARY:Sherry
DESCRIPTION:
URL:https://communitycounsellingcentre.ca/event/sherry/2025-05-14/
LOCATION:Room 4
CATEGORIES:Room 4
END:VEVENT
BEGIN:VEVENT
DTSTART;TZID=America/Edmonton:20250514T150000
DTEND;TZID=America/Edmonton:20250514T210000
DTSTAMP:20260422T055143
CREATED:20240903T201801Z
LAST-MODIFIED:20260307T163448Z
UID:10008077-1747234800-1747256400@communitycounsellingcentre.ca
SUMMARY:Bo
DESCRIPTION:
URL:https://communitycounsellingcentre.ca/event/bo-4-2/2025-05-14/
LOCATION:Room 3
CATEGORIES:Room 3
END:VEVENT
BEGIN:VEVENT
DTSTART;TZID=America/Edmonton:20250515T120000
DTEND;TZID=America/Edmonton:20250515T200000
DTSTAMP:20260422T055143
CREATED:20250320T170707Z
LAST-MODIFIED:20260317T233752Z
UID:10005425-1747310400-1747339200@communitycounsellingcentre.ca
SUMMARY:Sabrina
DESCRIPTION:
URL:https://communitycounsellingcentre.ca/event/sabrina-12/2025-05-15/
LOCATION:Room 1
CATEGORIES:Room 1
END:VEVENT
BEGIN:VEVENT
DTSTART;TZID=America/Edmonton:20250515T130000
DTEND;TZID=America/Edmonton:20250515T170000
DTSTAMP:20260422T055143
CREATED:20250509T174452Z
LAST-MODIFIED:20260317T233837Z
UID:10005569-1747314000-1747328400@communitycounsellingcentre.ca
SUMMARY:Sam
DESCRIPTION:
URL:https://communitycounsellingcentre.ca/event/sam-13/2025-05-15/
LOCATION:Room 5
CATEGORIES:Room 5
END:VEVENT
BEGIN:VEVENT
DTSTART;TZID=America/Edmonton:20250515T130000
DTEND;TZID=America/Edmonton:20250515T200000
DTSTAMP:20260422T055143
CREATED:20240504T054425Z
LAST-MODIFIED:20251126T023114Z
UID:10004219-1747314000-1747339200@communitycounsellingcentre.ca
SUMMARY:Sherry
DESCRIPTION:
URL:https://communitycounsellingcentre.ca/event/sherry-2/2025-05-15/
LOCATION:Room 4
CATEGORIES:Room 4
END:VEVENT
BEGIN:VEVENT
DTSTART;TZID=America/Edmonton:20250516T090000
DTEND;TZID=America/Edmonton:20250516T170000
DTSTAMP:20260422T055143
CREATED:20240504T054921Z
LAST-MODIFIED:20251126T021348Z
UID:10003959-1747386000-1747414800@communitycounsellingcentre.ca
SUMMARY:John
DESCRIPTION:
URL:https://communitycounsellingcentre.ca/event/john-3/2025-05-16/
LOCATION:Room 6
CATEGORIES:Room 6
END:VEVENT
END:VCALENDAR