BEGIN:VCALENDAR
VERSION:2.0
PRODID:-//Community Counselling Centre - ECPv6.13.1//NONSGML v1.0//EN
CALSCALE:GREGORIAN
METHOD:PUBLISH
X-ORIGINAL-URL:https://communitycounsellingcentre.ca
X-WR-CALDESC:Events for Community Counselling Centre
REFRESH-INTERVAL;VALUE=DURATION:PT1H
X-Robots-Tag:noindex
X-PUBLISHED-TTL:PT1H
BEGIN:VTIMEZONE
TZID:America/Edmonton
BEGIN:DAYLIGHT
TZOFFSETFROM:-0700
TZOFFSETTO:-0600
TZNAME:MDT
DTSTART:20260308T090000
END:DAYLIGHT
BEGIN:STANDARD
TZOFFSETFROM:-0600
TZOFFSETTO:-0700
TZNAME:MST
DTSTART:20261101T080000
END:STANDARD
END:VTIMEZONE
BEGIN:VEVENT
DTSTART;TZID=America/Edmonton:20260730T130000
DTEND;TZID=America/Edmonton:20260730T170000
DTSTAMP:20260423T032915
CREATED:20260317T233955Z
LAST-MODIFIED:20260317T233955Z
UID:10008180-1785416400-1785430800@communitycounsellingcentre.ca
SUMMARY:Sam
DESCRIPTION:
URL:https://communitycounsellingcentre.ca/event/sam-3/2026-07-30/
LOCATION:Room 1
CATEGORIES:Room 1
END:VEVENT
BEGIN:VEVENT
DTSTART;TZID=America/Edmonton:20260731T110000
DTEND;TZID=America/Edmonton:20260731T170000
DTSTAMP:20260423T032915
CREATED:20251126T024600Z
LAST-MODIFIED:20251126T024600Z
UID:10007604-1785495600-1785517200@communitycounsellingcentre.ca
SUMMARY:Desiree
DESCRIPTION:
URL:https://communitycounsellingcentre.ca/event/desiree-4/2026-07-31/
LOCATION:Room 1
CATEGORIES:Room 1
END:VEVENT
BEGIN:VEVENT
DTSTART;TZID=America/Edmonton:20260801T110000
DTEND;TZID=America/Edmonton:20260801T160000
DTSTAMP:20260423T032915
CREATED:20260105T163050Z
LAST-MODIFIED:20260105T163050Z
UID:10007737-1785582000-1785600000@communitycounsellingcentre.ca
SUMMARY:Sam
DESCRIPTION:
URL:https://communitycounsellingcentre.ca/event/sam-2/2026-08-01/
LOCATION:Room 1
CATEGORIES:Room 1
END:VEVENT
BEGIN:VEVENT
DTSTART;TZID=America/Edmonton:20260803T110000
DTEND;TZID=America/Edmonton:20260803T200000
DTSTAMP:20260423T032915
CREATED:20251126T024503Z
LAST-MODIFIED:20251126T024503Z
UID:10007552-1785754800-1785787200@communitycounsellingcentre.ca
SUMMARY:Desiree
DESCRIPTION:
URL:https://communitycounsellingcentre.ca/event/desiree-3/2026-08-03/
LOCATION:Room 1
CATEGORIES:Room 1
END:VEVENT
BEGIN:VEVENT
DTSTART;TZID=America/Edmonton:20260804T110000
DTEND;TZID=America/Edmonton:20260804T190000
DTSTAMP:20260423T032915
CREATED:20241127T172306Z
LAST-MODIFIED:20251126T022940Z
UID:10007186-1785841200-1785870000@communitycounsellingcentre.ca
SUMMARY:Sam
DESCRIPTION:
URL:https://communitycounsellingcentre.ca/event/sam-6-2-2/2026-08-04/
LOCATION:Room 1
CATEGORIES:Room 1
END:VEVENT
BEGIN:VEVENT
DTSTART;TZID=America/Edmonton:20260805T110000
DTEND;TZID=America/Edmonton:20260805T190000
DTSTAMP:20260423T032915
CREATED:20251125T154531Z
LAST-MODIFIED:20251125T154531Z
UID:10006182-1785927600-1785956400@communitycounsellingcentre.ca
SUMMARY:Sam
DESCRIPTION:
URL:https://communitycounsellingcentre.ca/event/sam/2026-08-05/
LOCATION:Room 1
CATEGORIES:Room 1
END:VEVENT
BEGIN:VEVENT
DTSTART;TZID=America/Edmonton:20260806T130000
DTEND;TZID=America/Edmonton:20260806T170000
DTSTAMP:20260423T032915
CREATED:20260317T233955Z
LAST-MODIFIED:20260317T233955Z
UID:10008181-1786021200-1786035600@communitycounsellingcentre.ca
SUMMARY:Sam
DESCRIPTION:
URL:https://communitycounsellingcentre.ca/event/sam-3/2026-08-06/
LOCATION:Room 1
CATEGORIES:Room 1
END:VEVENT
BEGIN:VEVENT
DTSTART;TZID=America/Edmonton:20260807T110000
DTEND;TZID=America/Edmonton:20260807T170000
DTSTAMP:20260423T032915
CREATED:20251126T024600Z
LAST-MODIFIED:20251126T024600Z
UID:10007605-1786100400-1786122000@communitycounsellingcentre.ca
SUMMARY:Desiree
DESCRIPTION:
URL:https://communitycounsellingcentre.ca/event/desiree-4/2026-08-07/
LOCATION:Room 1
CATEGORIES:Room 1
END:VEVENT
BEGIN:VEVENT
DTSTART;TZID=America/Edmonton:20260808T110000
DTEND;TZID=America/Edmonton:20260808T160000
DTSTAMP:20260423T032915
CREATED:20260105T163050Z
LAST-MODIFIED:20260105T163050Z
UID:10007738-1786186800-1786204800@communitycounsellingcentre.ca
SUMMARY:Sam
DESCRIPTION:
URL:https://communitycounsellingcentre.ca/event/sam-2/2026-08-08/
LOCATION:Room 1
CATEGORIES:Room 1
END:VEVENT
BEGIN:VEVENT
DTSTART;TZID=America/Edmonton:20260810T110000
DTEND;TZID=America/Edmonton:20260810T200000
DTSTAMP:20260423T032915
CREATED:20251126T024503Z
LAST-MODIFIED:20251126T024503Z
UID:10007553-1786359600-1786392000@communitycounsellingcentre.ca
SUMMARY:Desiree
DESCRIPTION:
URL:https://communitycounsellingcentre.ca/event/desiree-3/2026-08-10/
LOCATION:Room 1
CATEGORIES:Room 1
END:VEVENT
BEGIN:VEVENT
DTSTART;TZID=America/Edmonton:20260811T110000
DTEND;TZID=America/Edmonton:20260811T190000
DTSTAMP:20260423T032915
CREATED:20241127T172306Z
LAST-MODIFIED:20251126T022940Z
UID:10007187-1786446000-1786474800@communitycounsellingcentre.ca
SUMMARY:Sam
DESCRIPTION:
URL:https://communitycounsellingcentre.ca/event/sam-6-2-2/2026-08-11/
LOCATION:Room 1
CATEGORIES:Room 1
END:VEVENT
BEGIN:VEVENT
DTSTART;TZID=America/Edmonton:20260812T110000
DTEND;TZID=America/Edmonton:20260812T190000
DTSTAMP:20260423T032915
CREATED:20251125T154531Z
LAST-MODIFIED:20251125T154531Z
UID:10006183-1786532400-1786561200@communitycounsellingcentre.ca
SUMMARY:Sam
DESCRIPTION:
URL:https://communitycounsellingcentre.ca/event/sam/2026-08-12/
LOCATION:Room 1
CATEGORIES:Room 1
END:VEVENT
BEGIN:VEVENT
DTSTART;TZID=America/Edmonton:20260813T130000
DTEND;TZID=America/Edmonton:20260813T170000
DTSTAMP:20260423T032915
CREATED:20260317T233955Z
LAST-MODIFIED:20260317T233955Z
UID:10008182-1786626000-1786640400@communitycounsellingcentre.ca
SUMMARY:Sam
DESCRIPTION:
URL:https://communitycounsellingcentre.ca/event/sam-3/2026-08-13/
LOCATION:Room 1
CATEGORIES:Room 1
END:VEVENT
BEGIN:VEVENT
DTSTART;TZID=America/Edmonton:20260814T110000
DTEND;TZID=America/Edmonton:20260814T170000
DTSTAMP:20260423T032915
CREATED:20251126T024600Z
LAST-MODIFIED:20251126T024600Z
UID:10007606-1786705200-1786726800@communitycounsellingcentre.ca
SUMMARY:Desiree
DESCRIPTION:
URL:https://communitycounsellingcentre.ca/event/desiree-4/2026-08-14/
LOCATION:Room 1
CATEGORIES:Room 1
END:VEVENT
BEGIN:VEVENT
DTSTART;TZID=America/Edmonton:20260815T110000
DTEND;TZID=America/Edmonton:20260815T160000
DTSTAMP:20260423T032915
CREATED:20260105T163050Z
LAST-MODIFIED:20260105T163050Z
UID:10007739-1786791600-1786809600@communitycounsellingcentre.ca
SUMMARY:Sam
DESCRIPTION:
URL:https://communitycounsellingcentre.ca/event/sam-2/2026-08-15/
LOCATION:Room 1
CATEGORIES:Room 1
END:VEVENT
BEGIN:VEVENT
DTSTART;TZID=America/Edmonton:20260817T110000
DTEND;TZID=America/Edmonton:20260817T200000
DTSTAMP:20260423T032915
CREATED:20251126T024503Z
LAST-MODIFIED:20251126T024503Z
UID:10007554-1786964400-1786996800@communitycounsellingcentre.ca
SUMMARY:Desiree
DESCRIPTION:
URL:https://communitycounsellingcentre.ca/event/desiree-3/2026-08-17/
LOCATION:Room 1
CATEGORIES:Room 1
END:VEVENT
BEGIN:VEVENT
DTSTART;TZID=America/Edmonton:20260818T110000
DTEND;TZID=America/Edmonton:20260818T190000
DTSTAMP:20260423T032915
CREATED:20241127T172306Z
LAST-MODIFIED:20251126T022940Z
UID:10007188-1787050800-1787079600@communitycounsellingcentre.ca
SUMMARY:Sam
DESCRIPTION:
URL:https://communitycounsellingcentre.ca/event/sam-6-2-2/2026-08-18/
LOCATION:Room 1
CATEGORIES:Room 1
END:VEVENT
BEGIN:VEVENT
DTSTART;TZID=America/Edmonton:20260819T110000
DTEND;TZID=America/Edmonton:20260819T190000
DTSTAMP:20260423T032915
CREATED:20251125T154531Z
LAST-MODIFIED:20251125T154531Z
UID:10006184-1787137200-1787166000@communitycounsellingcentre.ca
SUMMARY:Sam
DESCRIPTION:
URL:https://communitycounsellingcentre.ca/event/sam/2026-08-19/
LOCATION:Room 1
CATEGORIES:Room 1
END:VEVENT
BEGIN:VEVENT
DTSTART;TZID=America/Edmonton:20260820T130000
DTEND;TZID=America/Edmonton:20260820T170000
DTSTAMP:20260423T032915
CREATED:20260317T233955Z
LAST-MODIFIED:20260317T233955Z
UID:10008183-1787230800-1787245200@communitycounsellingcentre.ca
SUMMARY:Sam
DESCRIPTION:
URL:https://communitycounsellingcentre.ca/event/sam-3/2026-08-20/
LOCATION:Room 1
CATEGORIES:Room 1
END:VEVENT
BEGIN:VEVENT
DTSTART;TZID=America/Edmonton:20260821T110000
DTEND;TZID=America/Edmonton:20260821T170000
DTSTAMP:20260423T032915
CREATED:20251126T024600Z
LAST-MODIFIED:20251126T024600Z
UID:10007607-1787310000-1787331600@communitycounsellingcentre.ca
SUMMARY:Desiree
DESCRIPTION:
URL:https://communitycounsellingcentre.ca/event/desiree-4/2026-08-21/
LOCATION:Room 1
CATEGORIES:Room 1
END:VEVENT
BEGIN:VEVENT
DTSTART;TZID=America/Edmonton:20260822T110000
DTEND;TZID=America/Edmonton:20260822T160000
DTSTAMP:20260423T032915
CREATED:20260105T163050Z
LAST-MODIFIED:20260105T163050Z
UID:10007740-1787396400-1787414400@communitycounsellingcentre.ca
SUMMARY:Sam
DESCRIPTION:
URL:https://communitycounsellingcentre.ca/event/sam-2/2026-08-22/
LOCATION:Room 1
CATEGORIES:Room 1
END:VEVENT
BEGIN:VEVENT
DTSTART;TZID=America/Edmonton:20260824T110000
DTEND;TZID=America/Edmonton:20260824T200000
DTSTAMP:20260423T032915
CREATED:20251126T024503Z
LAST-MODIFIED:20251126T024503Z
UID:10007555-1787569200-1787601600@communitycounsellingcentre.ca
SUMMARY:Desiree
DESCRIPTION:
URL:https://communitycounsellingcentre.ca/event/desiree-3/2026-08-24/
LOCATION:Room 1
CATEGORIES:Room 1
END:VEVENT
BEGIN:VEVENT
DTSTART;TZID=America/Edmonton:20260825T110000
DTEND;TZID=America/Edmonton:20260825T190000
DTSTAMP:20260423T032915
CREATED:20241127T172306Z
LAST-MODIFIED:20251126T022940Z
UID:10007189-1787655600-1787684400@communitycounsellingcentre.ca
SUMMARY:Sam
DESCRIPTION:
URL:https://communitycounsellingcentre.ca/event/sam-6-2-2/2026-08-25/
LOCATION:Room 1
CATEGORIES:Room 1
END:VEVENT
BEGIN:VEVENT
DTSTART;TZID=America/Edmonton:20260826T110000
DTEND;TZID=America/Edmonton:20260826T190000
DTSTAMP:20260423T032915
CREATED:20251125T154531Z
LAST-MODIFIED:20251125T154531Z
UID:10006185-1787742000-1787770800@communitycounsellingcentre.ca
SUMMARY:Sam
DESCRIPTION:
URL:https://communitycounsellingcentre.ca/event/sam/2026-08-26/
LOCATION:Room 1
CATEGORIES:Room 1
END:VEVENT
BEGIN:VEVENT
DTSTART;TZID=America/Edmonton:20260827T130000
DTEND;TZID=America/Edmonton:20260827T170000
DTSTAMP:20260423T032915
CREATED:20260317T233955Z
LAST-MODIFIED:20260317T233955Z
UID:10008184-1787835600-1787850000@communitycounsellingcentre.ca
SUMMARY:Sam
DESCRIPTION:
URL:https://communitycounsellingcentre.ca/event/sam-3/2026-08-27/
LOCATION:Room 1
CATEGORIES:Room 1
END:VEVENT
BEGIN:VEVENT
DTSTART;TZID=America/Edmonton:20260828T110000
DTEND;TZID=America/Edmonton:20260828T170000
DTSTAMP:20260423T032915
CREATED:20251126T024600Z
LAST-MODIFIED:20251126T024600Z
UID:10007608-1787914800-1787936400@communitycounsellingcentre.ca
SUMMARY:Desiree
DESCRIPTION:
URL:https://communitycounsellingcentre.ca/event/desiree-4/2026-08-28/
LOCATION:Room 1
CATEGORIES:Room 1
END:VEVENT
BEGIN:VEVENT
DTSTART;TZID=America/Edmonton:20260829T110000
DTEND;TZID=America/Edmonton:20260829T160000
DTSTAMP:20260423T032915
CREATED:20260105T163050Z
LAST-MODIFIED:20260105T163050Z
UID:10007741-1788001200-1788019200@communitycounsellingcentre.ca
SUMMARY:Sam
DESCRIPTION:
URL:https://communitycounsellingcentre.ca/event/sam-2/2026-08-29/
LOCATION:Room 1
CATEGORIES:Room 1
END:VEVENT
BEGIN:VEVENT
DTSTART;TZID=America/Edmonton:20260831T110000
DTEND;TZID=America/Edmonton:20260831T200000
DTSTAMP:20260423T032915
CREATED:20251126T024503Z
LAST-MODIFIED:20251126T024503Z
UID:10007556-1788174000-1788206400@communitycounsellingcentre.ca
SUMMARY:Desiree
DESCRIPTION:
URL:https://communitycounsellingcentre.ca/event/desiree-3/2026-08-31/
LOCATION:Room 1
CATEGORIES:Room 1
END:VEVENT
BEGIN:VEVENT
DTSTART;TZID=America/Edmonton:20260901T110000
DTEND;TZID=America/Edmonton:20260901T190000
DTSTAMP:20260423T032915
CREATED:20241127T172306Z
LAST-MODIFIED:20251126T022940Z
UID:10007190-1788260400-1788289200@communitycounsellingcentre.ca
SUMMARY:Sam
DESCRIPTION:
URL:https://communitycounsellingcentre.ca/event/sam-6-2-2/2026-09-01/
LOCATION:Room 1
CATEGORIES:Room 1
END:VEVENT
BEGIN:VEVENT
DTSTART;TZID=America/Edmonton:20260902T110000
DTEND;TZID=America/Edmonton:20260902T190000
DTSTAMP:20260423T032915
CREATED:20251125T154531Z
LAST-MODIFIED:20251125T154531Z
UID:10006186-1788346800-1788375600@communitycounsellingcentre.ca
SUMMARY:Sam
DESCRIPTION:
URL:https://communitycounsellingcentre.ca/event/sam/2026-09-02/
LOCATION:Room 1
CATEGORIES:Room 1
END:VEVENT
END:VCALENDAR